Workbook

Sheet SAŽETAK
B1: FINANCIJSKI PLAN DOMA ZDRAVLJA VUKOVARSKO - SRIJEMSKE ŽUPANIJE ZA 2026. GODINU S PROJEKCIJAMA ZA 2027. I 2028. GODINU
B4: I. OPĆI DIO
F6: A) SAŽETAK RAČUNA PRIHODA I RASHODA
K7: EUR
B8: BROJČANA OZNAKA I NAZIV | G8: IZVRŠENJE 2024. | H8: TEKUĆI PLAN ZA 2025. | I8: PLAN ZA 2026. | J8: PROJEKCIJA ZA 2027. | K8: PROJEKCIJA ZA 2028.
B9: 1 | I9: 3 | J9: 4 | K9: 5
B10: PRIHODI UKUPNO | G10: =G11+G12 -> #REF! | H10: =H11+H12 -> #REF! | I10: =I11+I12 -> 27400996 | J10: =J11+J12 -> 28076192 | K10: =K11+K12 -> 28547128
B11: 6 PRIHODI POSLOVANJA | G11: ='Prihodi po ekonomskoj klas'!E10 -> #REF! | H11: ='Prihodi po ekonomskoj klas'!F10 -> #REF! | I11: ='Prihodi po ekonomskoj klas'!G10 -> 27399696 | J11: ='Prihodi po ekonomskoj klas'!H10 -> 28076192 | K11: ='Prihodi po ekonomskoj klas'!I10 -> 28547128
B12: 7 PRIHODI OD PRODAJE NEFINANCIJSKE IMOVINE | G12: ='Prihodi po ekonomskoj klas'!E81 -> 0 | H12: ='Prihodi po ekonomskoj klas'!F81 -> 0 | I12: ='Prihodi po ekonomskoj klas'!G81 -> 1300 | J12: ='Prihodi po ekonomskoj klas'!H81 -> 0 | K12: ='Prihodi po ekonomskoj klas'!I81 -> 0
B13: RASHODI UKUPNO | G13: =G14+G15 -> #REF! | H13: =H14+H15 -> #REF! | I13: =I14+I15 -> 27155403 | J13: =J14+J15 -> 27423629 | K13: =K14+K15 -> 27667152
B14: 3 RASHODI POSLOVANJA | G14: ='RASHODI-ek.kl.'!D57 -> #REF! | H14: ='RASHODI-ek.kl.'!E57 -> #REF! | I14: ='RASHODI-ek.kl.'!F57 -> 26300528 | J14: ='RASHODI-ek.kl.'!G57 -> 26565803 | K14: ='RASHODI-ek.kl.'!H57 -> 26806376
B15: 4 RASHODI ZA NABAVU NEFINANCIJSKE IMOVINE | G15: ='RASHODI-ek.kl.'!D234 -> #REF! | H15: ='RASHODI-ek.kl.'!E234 -> #REF! | I15: ='RASHODI-ek.kl.'!F234 -> 854875.27 | J15: ='RASHODI-ek.kl.'!G234 -> 857825.27 | K15: ='RASHODI-ek.kl.'!H234 -> 860775.27
B16: RAZLIKA - VIŠAK MANJAK | G16: =G10-G13 -> #REF! | H16: =H10-H13 -> #REF! | I16: =I10-I13 -> 245592.85 | J16: =J10-J13 -> 652563.6 | K16: =K10-K13 -> 879976.31
F18: B) SAŽETAK RAČUNA FINANCIRANJA
B20: BROJČANA OZNAKA I NAZIV | G20: IZVRŠENJE 2024. | H20: TEKUĆI PLAN ZA 2025. | I20: PLAN ZA 2026. | J20: PROJEKCIJA ZA 2027. | K20: PROJEKCIJA ZA 2028.
B21: 1 | I21: 3 | J21: 4 | K21: 5
B22: 8 PRIMICI OD FINANCIJSKE IMOVINE I ZADUŽIVANJA
B23: 5 IZDACI ZA FINANCIJSKU IMOVINU I OTPLATE ZAJMOVA
B24: NETO FINANCIRANJE
B25: VIŠAK / MANJAK + NETO FINANCIRANJE | G25: =G16+G24 -> #REF! | H25: =H16+H24 -> #REF! | I25: =I16+I24 -> 245592.85 | J25: =J16+J24 -> 652563.6 | K25: =K16+K24 -> 879976.31
F27: C) PRENESENI VIŠAK ILI PRENESENI MANJAK
B29: BROJČANA OZNAKA I NAZIV | G29: IZVRŠENJE 2024. | H29: TEKUĆI PLAN ZA 2025. | I29: PLAN ZA 2026. | J29: PROJEKCIJA ZA 2027. | K29: PROJEKCIJA ZA 2028.
B30: PRENESENI VIŠAK / MANJAK IZ PRETHODNE(IH) GODINE | G30: 0 | H30: =G30+G31 -> #REF! | I30: =H31 -> -1778132.8 | J30: =I32 -> -1532539.9 | K30: =J32 -> -879976.31
B31: PRIJENOS VIŠKA / MANJKA U SLJEDEĆE RAZDOBLJE | G31: =G16 -> #REF! | H31: -1778132.8
B32: VIŠAK / MANJAK + NETO FINANCIRANJE + PRIJENOS VIŠKA / MANJKA IZ PRETHODNE(IH) GODINE - PRIJENOS VIŠKA / MANJKA U SLJEDEĆE RAZDOBLJE | I32: =I25+I30 -> -1532539.9 | J32: =J25+J30 -> -879976.31 | K32: =K25+K30 -> -2.0954758e-09
F34: D) VIŠEGODIŠNJI PLAN URAVNOTEŽENJA
B36: BROJČANA OZNAKA I NAZIV | G36: IZVRŠENJE 2024. | H36: TEKUĆI PLAN ZA 2025. | I36: PLAN ZA 2026. | J36: PROJEKCIJA ZA 2027. | K36: PROJEKCIJA ZA 2028.
B37: PRIJENOS VIŠKA / MANJKA IZ PRETHODNE(IH) GODINE | G37: =G30 -> 0 | H37: =G40 -> #REF! | I37: =H40 -> -1778132.8 | J37: =I40 -> -1532539.9 | K37: =J40 -> -879976.31
B38: VIŠAK / MANJAK IZ PRETHODNE(IH) GODINE KOJI ĆE SE RASPOREDITI / POKRITI | G38: =G16 -> #REF! | H38: =H16 -> #REF! | I38: =I25 -> 245592.85 | J38: =J25 -> 652563.6 | K38: =K25 -> 879976.31
B39: VIŠAK / MANJAK TEKUĆE GODINE | I39: 0 | J39: 0
B40: PRIJENOS VIŠKA / MANJKA U SLJEDEĆE RAZDOBLJE | G40: =G37+G38 -> #REF! | H40: =H31 -> -1778132.8 | I40: =I37+I38 -> -1532539.9 | J40: =J37+J38 -> -879976.31 | K40: =K37+K38 -> -2.0954758e-09

Sheet Prihodi po ekonomskoj klas
B2: I. OPĆI DIO
B4: A. RAČUN PRIHODA
B6: PRIHODI PREMA EKONOMSKOJ KLASIFIKACIJI
B8: PRIHODI POSLOVANJA
B9: Razred | C9: Skupina/podskupina/odjeljak | D9: Naziv | E9: IZVRŠENJE 2024. | F9: TEKUĆI PLAN ZA 2025. | G9: PLAN ZA 2026. | H9: PROJEKCIJA ZA 2027. | I9: PROJEKCIJA ZA 2028.
B10: 6 | D10: Prihodi poslovanja | E10: =E11+E34+E45+E51+E66+E75 -> #REF! | F10: =F11+F34+F45+F51+F66+F75 -> #REF! | G10: =G11+G34+G45+G51+G66+G75 -> 27399696 | H10: =H11+H34+H45+H51+H66+H75 -> 28076192 | I10: =I11+I34+I45+I51+I66+I75 -> 28547128
C11: 63 | D11: Pomoći | E11: =E12+E14+E18+E21+E26+E31 -> #REF! | F11: =F12+F14+F18+F21+F26+F31 -> #REF! | G11: =G12+G14+G18+G21+G26+G31 -> 1176423.8 | H11: =H12+H14+H18+H21+H26+H31 -> 1047924.5 | I11: =I12+I14+I18+I21+I26+I31 -> 994248.49 | K11: SAVJET: PRVO POPUNITE PRETHODNI LIST
C12: 632 | D12: Pomoći od međunaodnih organizacija te institucija i tijela EU | E12: =SUM(E13) -> 0 | F12: =SUM(F13) -> 0 | G12: =SUM(G13) -> 0 | H12: =SUM(H13) -> 0 | I12: =SUM(I13) -> 0
C13: 6324 | D13: Kapitalne pomoći od instucija i tijela EU | E13: 0 | F13: 0 | G13: 0 | H13: 0 | I13: 0
C14: 633 | D14: Pomoć proračunu iz drugih proračuna | E14: =SUM(E15,E17) -> 0 | F14: =SUM(F15,F17) -> 0 | G14: =SUM(G15,G17) -> 500 | H14: =SUM(H15,H17) -> 500 | I14: =SUM(I15,I17) -> 500 | K14: OVA TABLICA AUTOMATSKI POVLAČI IZNOSE IZ PRETHODNOG LISTA (PRIHODI PO EK KLAS I IZVORIMA)
C15: 6331 | D15: Tekuća pomoć proračunu iz drugih proračuna | E15: =E16 -> 0 | F15: =F16 -> 0 | G15: =G16 -> 500 | H15: =H16 -> 500 | I15: =I16 -> 500 | K15: UKOLIKO STE U PRVOM LISTU DODAVALI RAČUNE MORATI ĆETE I U OVOME LISTU NAPRAVITI IZMJENE U FORMULI RAČUNA NA KOJI SE IZMJENA ODNOSI
C16: 63313 | D16: Tekuće potpore iz gradskog proračuna | E16: ='Prihodi po ek klas i izvorima'!E71 -> 0 | F16: ='Prihodi po ek klas i izvorima'!F71 -> 0 | G16: ='Prihodi po ek klas i izvorima'!G71 -> 500 | H16: ='Prihodi po ek klas i izvorima'!H71 -> 500 | I16: ='Prihodi po ek klas i izvorima'!I71 -> 500
C17: 6332 | D17: Kapitalna pomoć proračunu iz drugih proračuna | E17: 0 | F17: 0 | G17: 0 | H17: 0 | I17: 0
C18: 634 | D18: Pomoći od izvanproračunskih korisnika | E18: =SUM(E19) -> 0 | F18: =SUM(F19) -> 0 | G18: =SUM(G19) -> 68314.61 | H18: =SUM(H19) -> 68314.61 | I18: =SUM(I19) -> 68314.61
C19: 6341 | D19: Tekuće pomoći od izvanproračunskih korisnika | E19: =E20 -> 0 | F19: =F20 -> 0 | G19: =G20 -> 68314.61 | H19: =H20 -> 68314.61 | I19: =I20 -> 68314.61
C20: 63414 | D20: Tekuće pomoći od izvanproračunskih korisnika | E20: ='Prihodi po ek klas i izvorima'!E75 -> 0 | F20: ='Prihodi po ek klas i izvorima'!F75 -> 0 | G20: ='Prihodi po ek klas i izvorima'!G75 -> 68314.61 | H20: ='Prihodi po ek klas i izvorima'!H75 -> 68314.61 | I20: ='Prihodi po ek klas i izvorima'!I75 -> 68314.61
C21: 636 | D21: Pomoć proračunskim korisnicima iz prorač.koji im nije nadležan | E21: =SUM(E22,E24) -> 0 | F21: =SUM(F22,F24) -> 0 | G21: =SUM(G22,G24) -> 14000 | H21: =SUM(H22,H24) -> 0 | I21: =SUM(I22,I24) -> 0
C22: 6361 | D22: Tekuće pomoći iz državnog prorač. prorač.korisnicima JLP(R)S | E22: =E23 -> 0 | F22: =F23 -> 0 | G22: =G23 -> 14000 | H22: =H23 -> 0 | I22: =I23 -> 0
C23: 63612 | D23: Tekuće pomoći iz državnog prorač. prorač.korisnicima JLP(R)S | E23: ='Prihodi po ek klas i izvorima'!E78 -> 0 | F23: ='Prihodi po ek klas i izvorima'!F78 -> 0 | G23: ='Prihodi po ek klas i izvorima'!G78 -> 14000 | H23: ='Prihodi po ek klas i izvorima'!H78 -> 0 | I23: ='Prihodi po ek klas i izvorima'!I78 -> 0
C24: 6362 | D24: Kapitalne pomoći iz državnog prorač. prorač.korisnicima JLP(R)S | E24: =E25 -> 0 | F24: =F25 -> 0 | G24: =G25 -> 0 | H24: =H25 -> 0 | I24: =I25 -> 0
C25: 63622 | D25: Kapitalne pomoći iz državnog prorač. prorač.korisnicima JLP(R)S | E25: ='Prihodi po ek klas i izvorima'!E80 -> 0 | F25: ='Prihodi po ek klas i izvorima'!F80 -> 0 | G25: ='Prihodi po ek klas i izvorima'!G80 -> 0 | H25: ='Prihodi po ek klas i izvorima'!H80 -> 0 | I25: ='Prihodi po ek klas i izvorima'!I80 -> 0
C26: 638 | D26: Pomoć temeljem prijenosa EU | E26: =E27+E29 -> #REF! | F26: =F27+F29 -> #REF! | G26: =G27+G29 -> 593609.22 | H26: =H27+H29 -> 479109.88 | I26: =I27+I29 -> 425433.88
C27: 6381 | D27: Tekuće pomoći temeljem prijenosa EU sredstava | E27: =SUM(E28:E28) -> 0 | F27: =SUM(F28:F28) -> 0 | G27: =SUM(G28:G28) -> 437409.22 | H27: =SUM(H28:H28) -> 319785.88 | I27: =SUM(I28:I28) -> 262923.4
C28: 63811 | D28: Tekuće pomoći iz državnog proračuna temeljem EU prijenosa | E28: ='Prihodi po ek klas i izvorima'!E94 -> 0 | F28: ='Prihodi po ek klas i izvorima'!F94 -> 0 | G28: ='Prihodi po ek klas i izvorima'!G94 -> 437409.22 | H28: ='Prihodi po ek klas i izvorima'!H94 -> 319785.88 | I28: ='Prihodi po ek klas i izvorima'!I94 -> 262923.4
C29: 6382 | D29: Kapitalna pomoć temeljem prijenosa EU | E29: =E30+#REF! -> #REF! | F29: =F30+#REF! -> #REF! | G29: =G30 -> 156200 | H29: =H30 -> 159324 | I29: =I30 -> 162510.48
C30: 63821 | D30: Pomoći temeljem EU prijenosa | E30: ='Prihodi po ek klas i izvorima'!#REF! -> #REF! | F30: ='Prihodi po ek klas i izvorima'!#REF! -> #REF! | G30: ='Prihodi po ek klas i izvorima'!G88 -> 156200 | H30: ='Prihodi po ek klas i izvorima'!H88 -> 159324 | I30: ='Prihodi po ek klas i izvorima'!I88 -> 162510.48
C31: 639 | D31: Prijenosi između proračunskih korisnika | E31: =SUM(E32) -> 0 | F31: =SUM(F32) -> 0 | G31: =SUM(G32) -> 500000 | H31: =SUM(H32) -> 500000 | I31: =SUM(I32) -> 500000
C32: 6391 | D32: Tekući prijenosi između proračunskih korisnika | E32: =E33 -> 0 | F32: =F33 -> 0 | G32: =G33 -> 500000 | H32: =H33 -> 500000 | I32: =I33 -> 500000
C33: 63911 | D33: Tekući prijenosi između proračunskih korisnika istog proračuna | E33: ='Prihodi po ek klas i izvorima'!E83 -> 0 | F33: ='Prihodi po ek klas i izvorima'!F83 -> 0 | G33: ='Prihodi po ek klas i izvorima'!G83 -> 500000 | H33: ='Prihodi po ek klas i izvorima'!H83 -> 500000 | I33: ='Prihodi po ek klas i izvorima'!I83 -> 500000
C34: 64 | D34: Prihodi od imovine | E34: =E35+E42 -> 0 | F34: =F35+F42 -> 0 | G34: =G35+G42 -> 101000 | H34: =H35+H42 -> 103404 | I34: =I35+I42 -> 105448.08
C35: 641 | D35: Prihodi od financijske imovine | E35: =E36+E38+E40 -> 0 | F35: =F36+F38+F40 -> 0 | G35: =G36+G38+G40 -> 100600 | H35: =H36+H38+H40 -> 102804 | I35: =I36+I38+I40 -> 104848.08
C36: 6413 | D36: Kamate na oročena sredstva i depozite po viđenju | E36: =SUM(E37) -> 0 | F36: =SUM(F37) -> 0 | G36: =SUM(G37) -> 550 | H36: =SUM(H37) -> 754 | I36: =SUM(I37) -> 758.08
C37: 64132 | D37: Kamate na oročena sredstva i depozite po viđenju | E37: ='Prihodi po ek klas i izvorima'!E20 -> 0 | F37: ='Prihodi po ek klas i izvorima'!F20 -> 0 | G37: ='Prihodi po ek klas i izvorima'!G20 -> 550 | H37: ='Prihodi po ek klas i izvorima'!H20 -> 754 | I37: ='Prihodi po ek klas i izvorima'!I20 -> 758.08
C38: 6414 | D38: Prihodi od zateznih kamata | E38: =E39 -> 0 | F38: =F39 -> 0 | G38: =G39 -> 50 | H38: =H39 -> 50 | I38: =I39 -> 50
C39: 64143 | D39: Prihodi od zateznih kamata | E39: ='Prihodi po ek klas i izvorima'!E22 -> 0 | F39: ='Prihodi po ek klas i izvorima'!F22 -> 0 | G39: ='Prihodi po ek klas i izvorima'!G22 -> 50 | H39: ='Prihodi po ek klas i izvorima'!H22 -> 50 | I39: ='Prihodi po ek klas i izvorima'!I22 -> 50
C40: 6419 | D40: Ostali prihodi od financijske imovine | E40: =E41 -> 0 | F40: =F41 -> 0 | G40: =G41 -> 100000 | H40: =H41 -> 102000 | I40: =I41 -> 104040
C41: 64199 | D41: Ostali prihodi od financijske imovine | E41: ='Prihodi po ek klas i izvorima'!E24+'Prihodi po ek klas i izvorima'!E48 -> 0 | F41: ='Prihodi po ek klas i izvorima'!F24+'Prihodi po ek klas i izvorima'!F48 -> 0 | G41: ='Prihodi po ek klas i izvorima'!G24+'Prihodi po ek klas i izvorima'!G48 -> 100000 | H41: ='Prihodi po ek klas i izvorima'!H24+'Prihodi po ek klas i izvorima'!H48 -> 102000 | I41: ='Prihodi po ek klas i izvorima'!I24+'Prihodi po ek klas i izvorima'!I48 -> 104040
C42: 642 | D42: Prihodi od nefinancijske imovine | E42: =E43 -> 0 | F42: =F43 -> 0 | G42: =G43 -> 400 | H42: =H43 -> 600 | I42: =I43 -> 600
C43: 6429 | D43: Ostali prihodi od nefinancijske imovine | E43: =E44 -> 0 | F43: =F44 -> 0 | G43: =G44 -> 400 | H43: =H44 -> 600 | I43: =I44 -> 600
C44: 64299 | D44: Ostali prihodi od nefinancijske imovine | E44: ='Prihodi po ek klas i izvorima'!E27 -> 0 | F44: ='Prihodi po ek klas i izvorima'!F27 -> 0 | G44: ='Prihodi po ek klas i izvorima'!G27 -> 400 | H44: ='Prihodi po ek klas i izvorima'!H27 -> 600 | I44: ='Prihodi po ek klas i izvorima'!I27 -> 600
...

Sheet RASHODI-ek.kl.
A1: I. OPĆI DIO
A2: A. RAČUN PRIHODA I RASHODA
A4: RASHODI PREMA EKONOMSKOJ KLASIFIKACIJI
A7: PRIHODI POSLOVANJA
A8: Razred | B8: Skupina/podskupina/odjeljak | C8: Naziv | F8: Izvršenje prethodne godine I.-VI. 2022. | G8: REBALANS 2023. | H8: Izvršenje tekuće godine I.-VI. 2023
A9: 1 | F9: 2 | G9: 3 | H9: 4
A10: 6 | F10: =F11+F26+F30+F33+F40+F43 -> 24659146 | G10: =G11+G26+G30+G33+G40+G43 -> 63888652 | H10: =H11+H26+H30+H33+H40+H43 -> 30834919
B11: 63 | C11: Pomoći | F11: =F12+F14+F17+F19+F21+F24 -> 324811.47 | G11: =SUM(G12,G14,G17,G19,G21,G24) -> 639378.86 | H11: =SUM(H12,H14,H17,H19,H21,H24) -> 1892796.8
B12: 632 | C12: Pomoći od međunaodnih organizacija te institucija i tijela EU | F12: =SUM(F13) -> 0 | G12: =SUM(G13) -> 0 | H12: =SUM(H13) -> 0
B13: 6324 | C13: Kapitalne pomoći od instucija i tijela EU | F13: 0 | G13: 0 | H13: 0
B14: 633 | C14: Pomoć proračunu iz drugih proračuna | F14: =SUM(F15:F16) -> 50556.109 | G14: =SUM(G15:G16) -> 0 | H14: =SUM(H15:H16) -> 0
B15: 6331 | C15: Tekuća pomoć proračunu iz drugih proračuna | F15: =380915/7.5345 -> 50556.109 | G15: 0 | H15: 0
B16: 6332 | C16: Kapitalna pomoć proračunu iz drugih proračuna | F16: 0 | G16: 0 | H16: 0
B17: 634 | C17: Pomoći od izvanproračunskih korisnika | F17: =SUM(F18) -> 111981.95 | G17: =SUM(G18) -> 366500.76 | H17: =SUM(H18) -> 1829292.8
B18: 6341 | C18: Tekuće pomoći od HZZ-a, HZZO-a | F18: =843728/7.5345 -> 111981.95 | G18: 366500.76 | H18: 1829292.8
B19: 636 | C19: Pomoć proračunskim korisnicima iz prorač.koji im nije nadležan | F19: =SUM(F20) -> 54857.124 | G19: =SUM(G20) -> 796.34 | H19: =SUM(H20) -> 45490.31
B20: 6361 | C20: Tekuće pomoći iz državnog prorač. prorač.korisnicima JLP(R)S | F20: =413321/7.5345 -> 54857.124 | G20: =796.34 -> 796.34 | H20: 45490.31
B21: 638 | C21: Pomoć temeljem prijenosa EU | F21: =SUM(F22:F23) -> 107244.81 | G21: =SUM(G23) -> 272081.76 | H21: =SUM(H23) -> 18013.71
B22: 6381 | C22: Tekuće pomoći temeljem prijenosa EU sredstava | F22: =493624/7.5345 -> 65515.164 | G22: 0 | H22: 0
B23: 6382 | C23: kapitalna pomoć temeljem prijenosa EU | F23: =314412/7.5345 -> 41729.644 | G23: 272081.76 | H23: 18013.71
B24: 639 | C24: Prijenosi između proračunskih korisnika | F24: =SUM(F25) -> 171.47787 | G24: =SUM(G25) -> 0 | H24: =SUM(H25) -> 0
B25: 6391 | C25: Tekući prijenosi između proračunskih korisnika | F25: =1292/7.5345 -> 171.47787 | G25: 0 | H25: 0
B26: 64 | C26: Prihodi od imovine | F26: =SUM(F27:F29) -> 50144.535 | G26: =SUM(G27:G29) -> 120462.42 | H26: =SUM(H27:H29) -> 55180.92
B27: 6413 | C27: Kamate na oročena sredstva i depozite po viđenju | F27: =439/7.5345 -> 58.265313 | G27: 746.44 | H27: 204.07
B28: 6419 | C28: Ostali prihode o financijske imovine | F28: =376342/7.5345 -> 49949.167 | G28: 119450.53 | H28: 54839.75
B29: 6429 | C29: Ostali prihodi od nefinancijske imovine | F29: =1033/7.5345 -> 137.10266 | G29: =265.45 -> 265.45 | H29: 137.1
B30: 65 | C30: Prihodi po posebnim propisima | F30: =F31 -> 1523828.4 | G30: =SUM(G31) -> 6950029.9 | H30: =SUM(H31) -> 1963072.3
B31: 652 | C31: Prihodi po posebnim propisima | F31: =SUM(F32) -> 1523828.4 | G31: =SUM(G32) -> 6950029.9 | H31: =SUM(H32) -> 1963072.3
B32: 6526 | C32: Ostali nespomenuti prihodi (participacija) | F32: =11481285/7.5345 -> 1523828.4 | G32: =6950029.86 -> 6950029.9 | H32: 1963072.3
B33: 66 | C33: Prihodi od prodaje i donacija | F33: =F34+F37 -> 1701559.2 | G33: =SUM(G34,G37) -> 3641484.9 | H33: =SUM(H34,H37) -> 1739052
B34: 661 | C34: Prihodi od prodaje roba i pruženih usluga (vlastiti prihodi) | F34: =SUM(F35:F36) -> 1677912 | G34: =SUM(G36,G35) -> 3521370.8 | H34: =SUM(H36,H35) -> 1704828
B35: 6614 | C35: Prihodi od prodaje proizvoda i robe | F35: =6216809/7.5345 -> 825112.35 | G35: 1725396.5 | H35: 916985.05
B36: 6615 | C36: Prihodi od pruženih usluga | F36: =6425419/7.5345 -> 852799.65 | G36: 1795974.2 | H36: 787842.97
B37: 663 | C37: Donacije od pravnih i fizičkih osoba izvan proračuna | F37: =SUM(F38:F39) -> 23647.223 | G37: =SUM(G38:G39) -> 120114.13 | H37: =SUM(H38:H39) -> 34224
B38: 6631 | C38: Tekuće donacije | F38: =5000/7.5345 -> 663.61404 | G38: 53752.73 | H38: =5600+1310 -> 6910
B39: 6632 | C39: Kapitalne donacije | F39: =173170/7.5345 -> 22983.609 | G39: 66361.4 | H39: 27314
B40: 67 | C40: Prihodi iz nadležnog proračuna i HZZOa | F40: =SUM(F41) -> 20985600 | G40: =SUM(G41) -> 52367289 | H40: =SUM(H41) -> 24656056
B41: 673 | C41: Prihodi od HZZO-a | F41: =SUM(F42) -> 20985600 | G41: =SUM(G42) -> 52367289 | H41: =SUM(H42) -> 24656056
B42: 6731 | C42: Prihodi od HZZO-a temeljem ugovora | F42: =158116000/7.5345 -> 20985600 | G42: 52367289 | H42: 24656056
B43: 68 | C43: Kazne, upravne mjere i ostali prihodi | F43: =SUM(F44) -> 73202.601 | G43: =SUM(G44) -> 170007.44 | H43: =SUM(H44) -> 528760.56
...

Sheet Prihodi po ek klas i izvorima
A1: I. OPĆI DIO
A2: A. RAČUN PRIHODA
A3: PRIHODI PREMA EKONOMSKOJ KLASIFIKACIJI I IZVORIMA FINANCIRANJA
A5: PRIHODI POSLOVANJA
A6: Razred | B6: Skupina/podskupina/odjeljak | C6: Izvor | D6: Naziv | E6: IZVRŠENJE 2024. | F6: TEKUĆI PLAN ZA 2025. | G6: PLAN ZA 2026. | H6: PROJEKCIJA ZA 2027. | I6: PROJEKCIJA ZA 2028.
A7: 1 | G7: 2 | H7: 3 | I7: 4
A8: 6 | D8: Prihodi poslovanja | E8: =E9+E17+E28+E37+E45+E49+E55+E62+E68+E98+E107 -> #REF! | F8: =F9+F17+F28+F37+F45+F49+F55+F62+F68+F98+F107 -> #REF! | G8: =G9+G17+G28+G37+G45+G49+G55+G62+G68+G85+G91+G98+G107 -> 27399696 | H8: =H9+H17+H28+H37+H45+H49+H55+H62+H68+H85+H91+H98+H107 -> 28076192 | I8: =I9+I17+I28+I37+I45+I49+I55+I62+I68+I85+I91+I98+I107 -> 28547128
B9: 67 | D9: Prihodi iz nadležnog proračuna i od HZZO-a temeljem ugovornih obveza | E9: =E10 -> #REF! | F9: =F10 -> #REF! | G9: =G10 -> 1250606 | H9: =H10 -> 1250606 | I9: =I10 -> 1250606
B10: 671 | D10: Prihodi iz nadležnog proračuna za financiranje redovne djelatnosti proračunskih korisnika | E10: =SUM(E11,#REF!) -> #REF! | F10: =SUM(F11,#REF!) -> #REF! | G10: =G11+G13 -> 1250606 | H10: =H11+H13 -> 1250606 | I10: =I11+I13 -> 1250606
B11: 6711 | D11: Prihodi iz nadležnog proračuna za financiranje rashoda poslovanja | E11: =E12 -> 0 | F11: =F12 -> 0 | G11: =G12 -> 481103.03 | H11: =H12 -> 481103.03 | I11: =I12 -> 481103.03
B12: 67111 | D12: Prihodi iz nadležnog proračuna za financiranje rashoda poslovanja | E12: 0 | F12: 0 | G12: 481103.03 | H12: 481103.03 | I12: 481103.03
B13: 6712 | D13: Prihodi iz nadležnog proračuna za nabavu nefinancijske imovine | E13: =E14 -> 0 | F13: =F14 -> 0 | G13: =G14 -> 769502.99 | H13: =H14 -> 769502.99 | I13: =I14 -> 769502.99
B14: 67121 | D14: Prihodi iz nadležnog proračuna za nabavu nefinancijske imovine | E14: 0 | F14: 0 | G14: 769502.99 | H14: 769502.99 | I14: 769502.99
C15: 11 | D15: Opći prihodi i primici | E15: =E9 -> #REF! | F15: =F9 -> #REF! | G15: =G9 -> 1250606 | H15: =H9 -> 1250606 | I15: =I9 -> 1250606
C16: 1 | D16: OPĆI PRIHODI I PRIMICI | G16: =G15 -> 1250606 | H16: =H15 -> 1250606 | I16: =I15 -> 1250606
B17: 64 | D17: Prihodi od imovine | E17: =SUM(E18,E25) -> 0 | F17: =SUM(F18,F25) -> 0 | G17: =SUM(G18,G25) -> 1000 | H17: =SUM(H18,H25) -> 1404 | I17: =SUM(I18,I25) -> 1408.08
B18: 641 | D18: Prihodi od financijske imovine | E18: =SUM(E19,E21,E23) -> 0 | F18: =SUM(F19,F21,F23) -> 0 | G18: =SUM(G19,G21,G23) -> 600 | H18: =SUM(H19,H21,H23) -> 804 | I18: =SUM(I19,I21,I23) -> 808.08
B19: 6413 | D19: Kamate na oročena srredstva i depozite po viđenju | E19: =SUM(E20) -> 0 | F19: =SUM(F20) -> 0 | G19: =SUM(G20) -> 550 | H19: =SUM(H20) -> 754 | I19: =SUM(I20) -> 758.08
B20: 64132 | D20: Kamate na oročena sredstva i depozite po viđenju | E20: 0 | F20: 0 | G20: =200+150+200 -> 550 | H20: =400+150+204 -> 754 | I20: =400+150+208.08 -> 758.08
B21: 6414 | D21: Prihodi od zateznih kamata | E21: =E22 -> 0 | F21: =F22 -> 0 | G21: =G22 -> 50 | H21: =H22 -> 50 | I21: =I22 -> 50
B22: 64143 | D22: Prihodi od zateznih kamata | E22: 0 | G22: 50 | H22: 50 | I22: 50
B23: 6419 | D23: Ostali prihodi od financijske imovine | E23: =E24 -> 0 | F23: =F24 -> 0 | G23: =G24 -> 0 | H23: =H24 -> 0 | I23: =I24 -> 0
B24: 64199 | D24: Ostali prihodi od financijske imovine | G24: 0 | H24: 0 | I24: 0
B25: 642 | D25: Prihodi od nefinancijske imovine | E25: =E26 -> 0 | F25: =F26 -> 0 | G25: =G26 -> 400 | H25: =H26 -> 600 | I25: =I26 -> 600
B26: 6429 | D26: Ostali prihodi od nefinancijske imovine | E26: =E27 -> 0 | F26: =F27 -> 0 | G26: =G27 -> 400 | H26: =H27 -> 600 | I26: =I27 -> 600
B27: 64299 | D27: Ostali prihodi od nefinancijske imovine | G27: 400 | H27: 600 | I27: 600
B28: 66 | D28: Prihodi od prodaje proizvoda i robe te pruženih usluga i prihodi od donacija | E28: =SUM(E29) -> 0 | F28: =SUM(F29) -> 0 | G28: =SUM(G29) -> 3643116.3 | H28: =SUM(H29) -> 3683716.3 | I28: =SUM(I29) -> 3714928.3
B29: 661 | D29: Prihodi od prodaje proizvoda i robe te pruženih usluga | E29: =SUM(E30,E33) -> 0 | F29: =SUM(F30,F33) -> 0 | G29: =SUM(G30,G33) -> 3643116.3 | H29: =SUM(H30,H33) -> 3683716.3 | I29: =SUM(I30,I33) -> 3714928.3
B30: 6614 | D30: Prihod od prodaje proizvoda i usluga | E30: =E31+E32 -> 0 | F30: =F31+F32 -> 0 | G30: =G31+G32 -> 2625000 | H30: =H31+H32 -> 2656000 | I30: =I31+I32 -> 2677000
B31: 66141 | D31: Prihodi od prodaje proizvoda i robe - ljekarne | E31: 0 | F31: 0 | G31: 25000 | H31: 26000 | I31: 27000
B32: 66142 | D32: Prihodi od prodaje robe | G32: =1000000+1600000 -> 2600000 | H32: =1020000+1610000 -> 2630000 | I32: =1040000+1610000 -> 2650000
B33: 6615 | D33: Prihodi od pruženih usluga | E33: =SUM(E34:E36) -> 0 | F33: =SUM(F34:F36) -> 0 | G33: =SUM(G34:G36) -> 1018116.3 | H33: =SUM(H34:H36) -> 1027716.3 | I33: =SUM(I34:I36) -> 1037928.3
B34: 66151 | D34: Prihodi od pruženih usluga | E34: 0 | F34: 0 | G34: =350000+163116.33+500000 -> 1013116.3 | H34: =350000+163116.33+509000 -> 1022116.3 | I34: =350000+163116.33+518000 -> 1031116.3
B35: 66153 | D35: Prihodi za udio troškova u zakupu | E35: 0 | F35: 0
B36: 66157 | D36: Prihod od usluga ref. dežurstva specijalizanti | E36: 0 | F36: 0 | G36: 5000 | H36: 5600 | I36: 6812
B37: 68 | D37: Kazne, upravne mjere i ostali prihodi | E37: =SUM(E38) -> 0 | F37: =SUM(F38) -> 0 | G37: =SUM(G38) -> 161000 | H37: =SUM(H38) -> 166620 | I37: =SUM(I38) -> 167252.4
B38: 683 | D38: Ostali prihodi | E38: =SUM(E39) -> 0 | F38: =SUM(F39) -> 0 | G38: =SUM(G39) -> 161000 | H38: =SUM(H39) -> 166620 | I38: =SUM(I39) -> 167252.4
B39: 6831 | D39: Ostali prihodi | E39: =E40+E41+E42 -> 0 | F39: =F40+F41+F42 -> 0 | G39: =G40+G41+G42 -> 161000 | H39: =H40+H41+H42 -> 166620 | I39: =I40+I41+I42 -> 167252.4
B40: 68311 | D40: Ostali prihodi | E40: 0 | F40: 0 | G40: =3000+130000 -> 133000 | H40: =3000+135000 -> 138000 | I40: =3000+135000 -> 138000
B41: 68312 | D41: Ostali prihodi-od inventurnih viškova | E41: 0 | F41: 0 | G41: 3000 | H41: 3000 | I41: 3000
...

Sheet  PRIHODI I RASHODI-izvori
A1: I. OPĆI DIO
A2: A. RAČUN PRIHODA I RASHODA
A3: RASHODI PREMA EKONOMSKOJ KLASIFIKACIJI I IZVORIMA FINANCIRANJA
A5: RASHODI POSLOVANJA
A6: Razred | B6: Skupina/podskupina/odjeljak | C6: Izvor | D6: Naziv | E6: IZVRŠENJE 2024. | F6: TEKUĆI PLAN ZA 2025. | G6: PLAN ZA 2026. | H6: PROJEKCIJA ZA 2027. | I6: PROJEKCIJA ZA 2028.
A7: 1 | G7: 2 | H7: 3 | I7: 4
A8: 3 | D8: Rashodi poslovanja | E8: =E11+E241+E104+E450+E549+E579 -> #REF! | F8: =F11+F241+F104+F450+F549+F579 -> #REF! | G8: =G11+G241+G104+G450+G492+G513+G549+G579 -> 26300528 | H8: =H11+H241+H104+H450+H492+H513+H549+H579 -> 26565803 | I8: =I11+I241+I104+I450+I492+I513+I549+I579 -> 26806376
A9: 4 | D9: Rashodi za nabavu nefinancijske imovine | E9: =E69+E414+E218+E485+#REF!+E566+E591 -> #REF! | F9: =F69+F414+F218+F485+#REF!+F566+F591 -> #REF! | G9: =G69+G414+G218+G485+G566+G591 -> 854875.27 | H9: =H69+H414+H218+H485+H566+H591 -> 857825.27 | I9: =I69+I414+I218+I485+I566+I591 -> 860775.27
D10: KORIŠTENJE DEC-a SREDSTAVA ŽUPANIJE
A11: 3 | D11: Rashodi poslovanja | E11: =E12+E19 -> #REF! | F11: =F12+F19 -> #REF! | G11: =G12+G19 -> 481103.03 | H11: =H12+H19 -> 481103.03 | I11: =I12+I19 -> 481103.03
B12: 31 | D12: Rashodi za zaposlene | E12: =E13+E16 -> #REF! | F12: =F13+F16 -> #REF! | G12: =G13+G16 -> 6978.02 | H12: =H13+H16 -> 6978.02 | I12: =I13+I16 -> 6978.02
B13: 311 | D13: Plaće | E13: =SUM(E14) -> #REF! | F13: =SUM(F14) -> #REF! | G13: =SUM(G14) -> 5989.73 | H13: =SUM(H14) -> 5989.73 | I13: =SUM(I14) -> 5989.73
B14: 3111 | D14: Plaće za redovan rad | E14: =SUM(E15) -> #REF! | F14: =SUM(F15) -> #REF! | G14: =SUM(G15) -> 5989.73 | H14: =SUM(H15) -> 5989.73 | I14: =SUM(I15) -> 5989.73
B15: 31111 | D15: Plaće za redovan rad | E15: ='Rekapitulacija Posebni dio'!#REF!+'Rekapitulacija Posebni dio'!C508+'Rekapitulacija Posebni dio'!#REF! -> #REF! | F15: ='Rekapitulacija Posebni dio'!#REF!+'Rekapitulacija Posebni dio'!D508+'Rekapitulacija Posebni dio'!#REF! -> #REF! | G15: ='Rekapitulacija Posebni dio'!E508+'Rekapitulacija Posebni dio'!E527 -> 5989.73 | H15: ='Rekapitulacija Posebni dio'!F508+'Rekapitulacija Posebni dio'!F527 -> 5989.73 | I15: ='Rekapitulacija Posebni dio'!G508+'Rekapitulacija Posebni dio'!G527 -> 5989.73
B16: 313 | D16: Doprinosi na plaće | E16: =SUM(E17) -> #REF! | F16: =SUM(F17) -> #REF! | G16: =SUM(G17) -> 988.29 | H16: =SUM(H17) -> 988.29 | I16: =SUM(I17) -> 988.29
B17: 3132 | D17: Doprinosi za obvezno zdravstveno osiguranje | E17: =SUM(E18) -> #REF! | F17: =SUM(F18) -> #REF! | G17: =SUM(G18) -> 988.29 | H17: =SUM(H18) -> 988.29 | I17: =SUM(I18) -> 988.29
B18: 31321 | D18: Doprinosi za obvezno zdravstveno osiguranje | E18: ='Rekapitulacija Posebni dio'!#REF!+'Rekapitulacija Posebni dio'!#REF!+'Rekapitulacija Posebni dio'!C513+'Rekapitulacija Posebni dio'!#REF! -> #REF! | F18: ='Rekapitulacija Posebni dio'!#REF!+'Rekapitulacija Posebni dio'!#REF!+'Rekapitulacija Posebni dio'!D513+'Rekapitulacija Posebni dio'!#REF! -> #REF! | G18: ='Rekapitulacija Posebni dio'!E513+'Rekapitulacija Posebni dio'!E532 -> 988.29 | H18: ='Rekapitulacija Posebni dio'!F513+'Rekapitulacija Posebni dio'!F532 -> 988.29 | I18: ='Rekapitulacija Posebni dio'!G513+'Rekapitulacija Posebni dio'!G532 -> 988.29
B19: 32 | D19: Materijalni rashodi | E19: =E20+E26+E41+E58+E62 -> #REF! | F19: =F20+F26+F41+F58+F62 -> #REF! | G19: =G20+G26+G41+G58+G62 -> 474125.01 | H19: =H20+H26+H41+H58+H62 -> 474125.01 | I19: =I20+I26+I41+I58+I62 -> 474125.01
B20: 321 | D20: Naknade troškova zaposlenima | E20: =E21+E24 -> #REF! | F20: =F21+F24 -> #REF! | G20: =G21+G24 -> 4200 | H20: =H21+H24 -> 4200 | I20: =I21+I24 -> 4200
B21: 3211 | D21: Službena putovanja | E21: =E22+E23 -> 0 | F21: =F22+F23 -> 0 | G21: =G22+G23 -> 470 | H21: =H22+H23 -> 470 | I21: =I22+I23 -> 470
B22: 32111 | D22: Dnevnice za službeni put u zemlji | E22: ='Rekapitulacija Posebni dio'!C536 -> 0 | F22: ='Rekapitulacija Posebni dio'!D536 -> 0 | G22: ='Rekapitulacija Posebni dio'!E536 -> 400 | H22: ='Rekapitulacija Posebni dio'!F536 -> 400 | I22: ='Rekapitulacija Posebni dio'!G536 -> 400
B23: 32119 | D23: Ostali rashodi za sl. putovanje (cestarine, trošak parkiranja) | E23: ='Rekapitulacija Posebni dio'!C537 -> 0 | F23: ='Rekapitulacija Posebni dio'!D537 -> 0 | G23: ='Rekapitulacija Posebni dio'!E537 -> 70 | H23: ='Rekapitulacija Posebni dio'!F537 -> 70 | I23: ='Rekapitulacija Posebni dio'!G537 -> 70
B24: 3213 | D24: Stručno usavršavanje zaposlenih | E24: =E25 -> #REF! | F24: =F25 -> #REF! | G24: =G25 -> 3730 | H24: =H25 -> 3730 | I24: =I25 -> 3730
B25: 32131 | D25: Seminari, savjetovanja i simpoziji | E25: ='Rekapitulacija Posebni dio'!C540+'Rekapitulacija Posebni dio'!#REF! -> #REF! | F25: ='Rekapitulacija Posebni dio'!D540+'Rekapitulacija Posebni dio'!#REF! -> #REF! | G25: ='Rekapitulacija Posebni dio'!E540 -> 3730 | H25: ='Rekapitulacija Posebni dio'!F540 -> 3730 | I25: ='Rekapitulacija Posebni dio'!G540 -> 3730
B26: 322 | D26: Rashodi za materijal i energiju | E26: =E27+E30+E33+E37 -> #REF! | F26: =F27+F30+F33+F37 -> #REF! | G26: =G27+G30+G33+G37 -> 154892.1 | H26: =H27+H30+H33+H37 -> 154892.1 | I26: =I27+I30+I33+I37 -> 154892.1
B27: 3221 | D27: Uredski materijal i ostali materijalni rashodi | E27: =E28+E29 -> #REF! | F27: =F28+F29 -> #REF! | G27: =G28+G29 -> 0 | H27: =H28+H29 -> 0 | I27: =I28+I29 -> 0
B28: 32211 | D28: Uredski materijal | E28: ='Rekapitulacija Posebni dio'!#REF! -> #REF! | F28: ='Rekapitulacija Posebni dio'!#REF! -> #REF! | G28: 0 | H28: 0 | I28: 0
B29: 32214 | D29: Materijal i sredstva za čišćenje | E29: ='Rekapitulacija Posebni dio'!#REF! -> #REF! | F29: ='Rekapitulacija Posebni dio'!#REF! -> #REF! | G29: 0 | H29: 0 | I29: 0
B30: 3222 | D30: Materijal i sirovine | E30: =E31 -> #REF! | F30: =F31 -> #REF! | G30: =SUM(G31:G32) -> 150000 | H30: =SUM(H31:H32) -> 150000 | I30: =SUM(I31:I32) -> 150000
B31: 32221 | D31: Potrošni medicinski materijal | E31: ='Rekapitulacija Posebni dio'!#REF! -> #REF! | F31: ='Rekapitulacija Posebni dio'!#REF! -> #REF! | G31: 0 | H31: 0 | I31: 0
B32: 32225 | D32: Roba | G32: ='Rekapitulacija Posebni dio'!E438 -> 150000 | H32: ='Rekapitulacija Posebni dio'!F438 -> 150000 | I32: ='Rekapitulacija Posebni dio'!G438 -> 150000
B33: 3223 | D33: Energija | E33: =E34+E35+E36 -> #REF! | F33: =F34+F35+F36 -> #REF! | G33: =G34+G35+G36 -> 200 | H33: =H34+H35+H36 -> 200 | I33: =I34+I35+I36 -> 200
B34: 32231 | D34: Električna energija | E34: ='Rekapitulacija Posebni dio'!#REF! -> #REF! | F34: ='Rekapitulacija Posebni dio'!#REF! -> #REF! | G34: 0 | H34: 0 | I34: 0
B35: 32233 | D35: Plin | E35: ='Rekapitulacija Posebni dio'!#REF! -> #REF! | F35: ='Rekapitulacija Posebni dio'!#REF! -> #REF! | G35: 0 | H35: 0 | I35: 0
B36: 32234 | D36: Motorni benzin i dizel gorivo | E36: ='Rekapitulacija Posebni dio'!C543 -> 0 | F36: ='Rekapitulacija Posebni dio'!D543 -> 0 | G36: ='Rekapitulacija Posebni dio'!E543 -> 200 | H36: ='Rekapitulacija Posebni dio'!F543 -> 200 | I36: ='Rekapitulacija Posebni dio'!G543 -> 200
B37: 3224 | D37: Materijal i dijelovi za tekuće i investicijsko održavanje | E37: =SUM(E38:E40) -> #REF! | F37: =SUM(F38:F40) -> #REF! | G37: =SUM(G38:G40) -> 4692.1 | H37: =SUM(H38:H40) -> 4692.1 | I37: =SUM(I38:I40) -> 4692.1
B38: 32241 | D38: Materijal i dijelovi za tekuće i invest. održavanje građevinskih objekata | E38: ='Rekapitulacija Posebni dio'!C459+'Rekapitulacija Posebni dio'!#REF!+'Rekapitulacija Posebni dio'!#REF! -> #REF! | F38: ='Rekapitulacija Posebni dio'!D459+'Rekapitulacija Posebni dio'!#REF!+'Rekapitulacija Posebni dio'!#REF! -> #REF! | G38: ='Rekapitulacija Posebni dio'!E459 -> 4692.1 | H38: ='Rekapitulacija Posebni dio'!F459 -> 4692.1 | I38: ='Rekapitulacija Posebni dio'!G459 -> 4692.1
B39: 32242 | D39: Materijal i dijelovi za tekuće i invest. održavanje postrojenja i opreme | E39: ='Rekapitulacija Posebni dio'!#REF! -> #REF! | F39: ='Rekapitulacija Posebni dio'!#REF! -> #REF!
B40: 32244 | D40: Ostali materijal i dijelovi za tekuće i invest. održavanje | E40: ='Rekapitulacija Posebni dio'!#REF! -> #REF! | F40: ='Rekapitulacija Posebni dio'!#REF! -> #REF!
B41: 323 | D41: Rashodi za usluge | E41: =E42+E44+E49+E51+E53+E55 -> #REF! | F41: =F42+F44+F49+F51+F53+F55 -> #REF! | G41: =G42+G44+G49+G51+G53+G55 -> 297032.91 | H41: =H42+H44+H49+H51+H53+H55 -> 297032.91 | I41: =I42+I44+I49+I51+I53+I55 -> 297032.91
...

Sheet Prih.i rash.
A1: PRIHODI I RASHODI PREMA IZVORIMA FINANCIRANJA
A3: BROJČANA OZNAKA I NAZIV | B3: IZVRŠENJE 2024. | C3: TEKUĆI PLAN ZA 2025. | D3: PLAN ZA 2026. | E3: PROJEKCIJA ZA 2027. | F3: PROJEKCIJA ZA 2028.
A4: UKUPNO PRIHODI | B4: =B5+B7+B9+B14+B20+B22 -> #REF! | C4: =C5+C7+C9+C14+C20+C22 -> #REF! | D4: =D5+D7+D9+D14+D20+D22 -> 27400996 | E4: =E5+E7+E9+E14+E20+E22 -> 28076192 | F4: =F5+F7+F9+F14+F20+F22 -> 28547128
A5: 1 Opći prihodi i primici | B5: =B6 -> #REF! | C5: =C6 -> #REF! | D5: =D6 -> 1250606 | E5: =E6 -> 1250606 | F5: =F6 -> 1250606
A6: 11 Opći prihodi i primici | B6: ='Prihodi po ek klas i izvorima'!E15 -> #REF! | C6: ='Prihodi po ek klas i izvorima'!F15 -> #REF! | D6: ='Prihodi po ek klas i izvorima'!G15 -> 1250606 | E6: ='Prihodi po ek klas i izvorima'!H15 -> 1250606 | F6: ='Prihodi po ek klas i izvorima'!I15 -> 1250606
A7: 3 Vlastiti prihodi | B7: =B8 -> 0 | C7: =C8 -> 0 | D7: =D8 -> 3805116.3 | E7: =E8 -> 3851740.3 | F7: =F8 -> 3883588.8
A8: 31 Vlastiti prihodi | B8: ='Prihodi po ek klas i izvorima'!E43 -> 0 | C8: ='Prihodi po ek klas i izvorima'!F43 -> 0 | D8: ='Prihodi po ek klas i izvorima'!G43 -> 3805116.3 | E8: ='Prihodi po ek klas i izvorima'!H43 -> 3851740.3 | F8: ='Prihodi po ek klas i izvorima'!I43 -> 3883588.8
A9: 4 Prihodi za posebne namjene | B9: =SUM(B10:B13) -> 0 | C9: =SUM(C10:C13) -> 0 | D9: =SUM(D10:D13) -> 21155050 | E9: =SUM(E10:E13) -> 21912926 | F9: =SUM(F10:F13) -> 22405180
A10: 43 Prihodi od financijske imovine | B10: ='Prihodi po ek klas i izvorima'!E45 -> 0 | C10: ='Prihodi po ek klas i izvorima'!F45 -> 0 | D10: ='Prihodi po ek klas i izvorima'!G45 -> 100000 | E10: ='Prihodi po ek klas i izvorima'!H45 -> 102000 | F10: ='Prihodi po ek klas i izvorima'!I45 -> 104040
A11: 43 Prihodi za posebne namjene (HZZO) | B11: ='Prihodi po ek klas i izvorima'!E61 -> 0 | C11: ='Prihodi po ek klas i izvorima'!F61 -> 0 | D11: ='Prihodi po ek klas i izvorima'!G61 -> 20119750 | E11: ='Prihodi po ek klas i izvorima'!H61 -> 20847031 | F11: ='Prihodi po ek klas i izvorima'!I61 -> 21326581
A12: 43 Prihodi za posebne namjene (dopunsko osiguranje, participacija,…) | B12: ='Prihodi po ek klas i izvorima'!E49 -> 0 | C12: ='Prihodi po ek klas i izvorima'!F49 -> 0 | D12: ='Prihodi po ek klas i izvorima'!G49 -> 932300 | E12: ='Prihodi po ek klas i izvorima'!H49 -> 960895 | F12: ='Prihodi po ek klas i izvorima'!I49 -> 971559.4
A13: 43 Ostali prihodi | B13: ='Prihodi po ek klas i izvorima'!E65 -> 0 | C13: ='Prihodi po ek klas i izvorima'!F65 -> 0 | D13: ='Prihodi po ek klas i izvorima'!G65 -> 3000 | E13: ='Prihodi po ek klas i izvorima'!H65 -> 3000 | F13: ='Prihodi po ek klas i izvorima'!I65 -> 3000
A14: 5 Pomoći | B14: =B15 -> #REF! | C14: =C15 -> #REF! | D14: =D15+D16+D18 -> 1176423.8 | E14: =E15+E16+E18 -> 1047924.5 | F14: =F15+F16+F18 -> 994248.49
A15: 52 Ostale pomoći | B15: ='Prihodi po ek klas i izvorima'!E84 -> #REF! | C15: ='Prihodi po ek klas i izvorima'!F84 -> #REF! | D15: ='Prihodi po ek klas i izvorima'!G69+'Prihodi po ek klas i izvorima'!G73+'Prihodi po ek klas i izvorima'!G76+'Prihodi po ek klas i izvorima'!G81 -> 582814.61 | E15: ='Prihodi po ek klas i izvorima'!H69+'Prihodi po ek klas i izvorima'!H73+'Prihodi po ek klas i izvorima'!H76+'Prihodi po ek klas i izvorima'!H81 -> 568814.61 | F15: ='Prihodi po ek klas i izvorima'!I69+'Prihodi po ek klas i izvorima'!I73+'Prihodi po ek klas i izvorima'!I76+'Prihodi po ek klas i izvorima'!I81 -> 568814.61
A16: 56 Fondovi EU | D16: =D17 -> 156200 | E16: =E17 -> 159324 | F16: =F17 -> 162510.48
A17: 563 Europski fond za regionalni razvoj | D17: ='Prihodi po ek klas i izvorima'!G89 -> 156200 | E17: ='Prihodi po ek klas i izvorima'!H89 -> 159324 | F17: ='Prihodi po ek klas i izvorima'!I89 -> 162510.48
A18: 58 Instrumenti EU nove generacije | D18: =D19 -> 437409.22 | E18: =E19 -> 319785.88 | F18: =F19 -> 262923.4
A19: 581 Mehanizam za oporavak i otpornost - bespovratna sredstva | D19: ='Prihodi po ek klas i izvorima'!G95 -> 437409.22 | E19: ='Prihodi po ek klas i izvorima'!H95 -> 319785.88 | F19: ='Prihodi po ek klas i izvorima'!I95 -> 262923.4
A20: 6 Donacije | B20: =B21 -> 0 | C20: =C21 -> 0 | D20: =D21 -> 2000 | E20: =E21 -> 2220 | F20: =F21 -> 2440.4
A21: 61 Donacije | B21: ='Prihodi po ek klas i izvorima'!E105 -> 0 | C21: ='Prihodi po ek klas i izvorima'!F105 -> 0 | D21: ='Prihodi po ek klas i izvorima'!G105 -> 2000 | E21: ='Prihodi po ek klas i izvorima'!H105 -> 2220 | F21: ='Prihodi po ek klas i izvorima'!I105 -> 2440.4
A22: 7 Prihodi od nefinancijske imovine i naknade štete s naslova osiguranja | B22: =B23 -> 0 | C22: =C23 -> 0 | D22: =D23 -> 11800 | E22: =E23 -> 10775 | F22: =F23 -> 11064
A23: 71 Prihodi od nefinancijske imovine i naknade štete s naslova osiguranja | B23: ='Prihodi po ek klas i izvorima'!E111+'Prihodi po ek klas i izvorima'!E120 -> 0 | C23: ='Prihodi po ek klas i izvorima'!F111+'Prihodi po ek klas i izvorima'!F120 -> 0 | D23: ='Prihodi po ek klas i izvorima'!G111+'Prihodi po ek klas i izvorima'!G120 -> 11800 | E23: ='Prihodi po ek klas i izvorima'!H111+'Prihodi po ek klas i izvorima'!H120 -> 10775 | F23: ='Prihodi po ek klas i izvorima'!I111+'Prihodi po ek klas i izvorima'!I120 -> 11064
A25: UKUPNO RASHODI | B25: =B26+B28+B30+B32+B38+B40 -> #REF! | C25: =C26+C28+C30+C32+C38+C40 -> #REF! | D25: =D26+D28+D30+D32+D38+D40 -> 27155403 | E25: =E26+E28+E30+E32+E38+E40 -> 27423629 | F25: =F26+F28+F30+F32+F38+F40 -> 27667152
A26: 1 Opći prihodi i primici | B26: =B27 -> #REF! | C26: =C27 -> #REF! | D26: =D27 -> 1250606 | E26: =E27 -> 1250606 | F26: =F27 -> 1250606
A27: 11 Opći prihodi i primici | B27: =' PRIHODI I RASHODI-izvori'!E102 -> #REF! | C27: =' PRIHODI I RASHODI-izvori'!F102 -> #REF! | D27: =' PRIHODI I RASHODI-izvori'!G102 -> 1250606 | E27: =' PRIHODI I RASHODI-izvori'!H102 -> 1250606 | F27: =' PRIHODI I RASHODI-izvori'!I102 -> 1250606
A28: 3 Vlastiti prihodi | B28: =B29 -> 0 | C28: =C29 -> 0 | D28: =D29 -> 3804916.3 | E28: =E29 -> 3850540.3 | F28: =F29 -> 3882388.8
A29: 31 Vlastiti prihodi | B29: =' PRIHODI I RASHODI-izvori'!E239 -> 0 | C29: =' PRIHODI I RASHODI-izvori'!F239 -> 0 | D29: =' PRIHODI I RASHODI-izvori'!G239 -> 3804916.3 | E29: =' PRIHODI I RASHODI-izvori'!H239 -> 3850540.3 | F29: =' PRIHODI I RASHODI-izvori'!I239 -> 3882388.8
A30: 4 Prihodi za posebne namjene | B30: =B31 -> 0 | C30: =C31 -> 0 | D30: =D31 -> 21410157 | E30: =E31 -> 21715388 | F30: =F31 -> 22025968
A31: 43 Prihodi za posebne namjene | B31: =' PRIHODI I RASHODI-izvori'!E448 -> 0 | C31: =' PRIHODI I RASHODI-izvori'!F448 -> 0 | D31: =' PRIHODI I RASHODI-izvori'!G448 -> 21410157 | E31: =' PRIHODI I RASHODI-izvori'!H448 -> 21715388 | F31: =' PRIHODI I RASHODI-izvori'!I448 -> 22025968
A32: 5 Pomoći | B32: =B33 -> #REF! | C32: =C33 -> #REF! | D32: =D33+D34+D36 -> 675923.83 | E32: =E33+E34+E36 -> 593123.83 | F32: =F33+F34+F36 -> 493748.49
A33: 52 Ostale pomoći | B33: =' PRIHODI I RASHODI-izvori'!E491 -> #REF! | C33: =' PRIHODI I RASHODI-izvori'!F491 -> #REF! | D33: =' PRIHODI I RASHODI-izvori'!G491 -> 82314.61 | E33: =' PRIHODI I RASHODI-izvori'!H491 -> 68314.61 | F33: =' PRIHODI I RASHODI-izvori'!I491 -> 68314.61
A34: 56 Fondovi EU | D34: =D35 -> 156200 | E34: =E35 -> 159324 | F34: =F35 -> 162510.48
A35: 563 Europski fond za regionalni razvoj | D35: =' PRIHODI I RASHODI-izvori'!G511 -> 156200 | E35: =' PRIHODI I RASHODI-izvori'!H511 -> 159324 | F35: =' PRIHODI I RASHODI-izvori'!I511 -> 162510.48
A36: 58 Instrumenti EU nove generacije | D36: =D37 -> 437409.22 | E36: =E37 -> 365485.22 | F36: =F37 -> 262923.4
A37: 581 Mehanizam za oporavak i otpornost - bespovratna sredstva | D37: =' PRIHODI I RASHODI-izvori'!G546 -> 437409.22 | E37: =' PRIHODI I RASHODI-izvori'!H546 -> 365485.22 | F37: =' PRIHODI I RASHODI-izvori'!I546 -> 262923.4
A38: 6 Donacije | B38: =B39 -> 0 | C38: =C39 -> 0 | D38: =D39 -> 2000 | E38: =E39 -> 2220 | F38: =F39 -> 2440.4
A39: 61 Donacije | B39: =' PRIHODI I RASHODI-izvori'!E577 -> 0 | C39: =' PRIHODI I RASHODI-izvori'!F577 -> 0 | D39: =' PRIHODI I RASHODI-izvori'!G577 -> 2000 | E39: =' PRIHODI I RASHODI-izvori'!H577 -> 2220 | F39: =' PRIHODI I RASHODI-izvori'!I577 -> 2440.4
A40: 7 Prihodi od nefinancijske imovine i naknade štete s naslova osiguranja | B40: =B41 -> 0 | C40: =C41 -> 0 | D40: =D41 -> 11800 | E40: =E41 -> 11750 | F40: =F41 -> 12000
A41: 71 Prihodi od nefinancijske imovine i naknade štete s naslova osiguranja | B41: =' PRIHODI I RASHODI-izvori'!E600 -> 0 | C41: =' PRIHODI I RASHODI-izvori'!F600 -> 0 | D41: =' PRIHODI I RASHODI-izvori'!G600 -> 11800 | E41: =' PRIHODI I RASHODI-izvori'!H600 -> 11750 | F41: =' PRIHODI I RASHODI-izvori'!I600 -> 12000

Sheet RASHODI-funkcijska
A2: I. OPĆI DIO
A4: A. RAČUN PRIHODA I RASHODA
A6: IZVJEŠTAJ O RASHODIMA PREMA FUNKCIJSKOJ KLASIFIKACIJI
A8: BROJČANA OZNAKA I NAZIV | B8: IZVRŠENJE 2024. | C8: TEKUĆI PLAN ZA 2025. | D8: PLAN ZA 2026. | E8: PROJEKCIJA ZA 2027. | F8: PROJEKCIJA ZA 2028.
A9: 1 | B9: 2 | C9: 3 | D9: 4 | E9: 5 | F9: 6
A10: UKUPNO RASHODI | B10: ='RASHODI-ek.kl.'!D274 -> #REF! | C10: ='RASHODI-ek.kl.'!E274 -> #REF! | D10: ='RASHODI-ek.kl.'!F274 -> 27155403 | E10: ='RASHODI-ek.kl.'!G274 -> 27423629 | F10: ='RASHODI-ek.kl.'!H274 -> 27667152
A11: 07 Zdravstvo | B11: =B12 -> #REF! | C11: =C12 -> #REF! | D11: =D12 -> 27155403 | E11: =E12 -> 27423629 | F11: =F12 -> 27667152
A12: 072 Služba za vanjske pacijente | B12: =B13+B14+B15 -> #REF! | C12: =C13+C14+C15 -> #REF! | D12: =D13+D14+D15 -> 27155403 | E12: =E13+E14+E15 -> 27423629 | F12: =F13+F14+F15 -> 27667152
A13: 0721 Opće medicinske usluge | B13: =ROUND(B10*0.6,2) -> #REF! | C13: =ROUND(C10*0.6,2) -> #REF! | D13: =ROUND(D10*0.6,2) -> 16293242 | E13: =ROUND(E10*0.6,2) -> 16454177 | F13: =ROUND(F10*0.6,2) -> 16600291
A14: 0722 Specijalističke med. usluge | B14: =ROUND(B10*0.15,2) -> #REF! | C14: =ROUND(C10*0.15,2) -> #REF! | D14: =ROUND(D10*0.15,2) -> 4073310.5 | E14: =ROUND(E10*0.15,2) -> 4113544.3 | F14: =ROUND(F10*0.15,2) -> 4150072.7
A15: 0723 Zubarske usluge | B15: =ROUND(B10*0.25,2) -> #REF! | C15: =ROUND(C10*0.25,2) -> #REF! | D15: =ROUND(D10*0.25,2) -> 6788850.8 | E15: =ROUND(E10*0.25,2) -> 6855907.2 | F15: =ROUND(F10*0.25,2) -> 6916787.9
A16: 073 Bolničke službe | D16: =D17 -> 0 | E16: =E17 -> 0 | F16: =F17 -> 0
A17: 0731 Usluge općih bolnica
A18: 074 Službe javnog zdravstva | D18: 0 | E18: 0 | F18: 0

Sheet Rekapitulacija Posebni dio
A1: II. POSEBNI DIO
A2: Rashodi i izdaci po izvorima financiranja i ekonomskoj klasifikaciji raspoređenih u programe, aktivnosti i projekte
A4: Šifra | B4: Naziv | C4: IZVRŠENJE 2024. | D4: TEKUĆI PLAN ZA 2025. | E4: PLAN ZA 2026. | F4: PROJEKCIJA ZA 2027. | G4: PROJEKCIJA ZA 2028.
A5: PROGRAM | B5: RAD I RAZVOJ USTANOVE | C5: =C7+C216+C349+C392+C411+#REF!+#REF!+#REF!+#REF!+C440+#REF!+#REF!+#REF!+C503+#REF!+C522+#REF!+C559+#REF!+#REF!+#REF!+C596+C636+C675+C718 -> #REF! | D5: =D7+D216+D349+D392+D411+#REF!+#REF!+#REF!+#REF!+D440+#REF!+#REF!+#REF!+D503+#REF!+D522+#REF!+D559+#REF!+#REF!+#REF!+D596+D636+D675+D718 -> #REF! | E5: =E7+E216+E349+E392+E411+E433+E440+E503+E552+E522+E559+E596+E636+E675+E718 -> 27155403 | F5: =F7+F216+F349+F392+F411+F433+F440+F503+F552+F522+F559+F596+F636+F675+F718 -> 27423629 | G5: =G7+G216+G349+G392+G411+G433+G440+G503+G552+G522+G559+G596+G636+G675+G718 -> 27667152
A6: AKTIVNOST | B6: Redovna djelatnost | C6: =C7+C216+C349+C392+C411+#REF!+#REF!+#REF!+#REF! -> #REF! | D6: =D7+D216+D349+D392+D411+#REF!+#REF!+#REF!+#REF! -> #REF! | E6: =E7+E216+E349+E392+E411+E433 -> 25447188 | F6: =F7+F216+F349+F392+F411+F433 -> 25798213 | G6: =G7+G216+G349+G392+G411+G433 -> 26141112
A7: 43 | B7: Ostali prihodi za posebne namjene | C7: =C8+C181 -> 0 | D7: =D8+D181 -> 0 | E7: =E8+E181 -> 21410157 | F7: =F8+F181 -> 21715388 | G7: =G8+G181 -> 22025968
A8: 3 | B8: Rashodi poslovanja | C8: =C9+C32+C149+C162+C165+C170 -> 0 | D8: =D9+D32+D149+D162+D165+D170 -> 0 | E8: =E9+E32+E149+E162+E165+E170 -> 21324785 | F8: =F9+F32+F149+F162+F165+F170 -> 21627066 | G8: =G9+G32+G149+G162+G165+G170 -> 21934696
A9: 31 | B9: Rashodi za zaposlene | C9: =C10+C19+C27 -> 0 | D9: =D10+D19+D27 -> 0 | E9: =E10+E19+E27 -> 13895551 | F9: =F10+F19+F27 -> 14019017 | G9: =G10+G19+G27 -> 14142396
A10: 311 | B10: Plaće | C10: =C11+C14+C15+C17 -> 0 | D10: =D11+D14+D15+D17 -> 0 | E10: =E11+E14+E15+E17 -> 11748762 | F10: =F11+F14+F15+F17 -> 11813800 | G10: =G11+G14+G15+G17 -> 11886800
A11: 3111 | B11: Plaće za redovan rad | C11: =SUM(C12:C13) -> 0 | D11: =SUM(D12:D13) -> 0 | E11: =SUM(E12:E13) -> 11578762 | F11: =SUM(F12:F13) -> 11636800 | G11: =SUM(G12:G13) -> 11702800
A12: 31111 | B12: Plaće za redovan rad | E12: =3370067.31+4865000+3341895 -> 11576962 | F12: 11635000 | G12: 11701000
A13: 31113 | B13: Plaće po sudskim presudama | E13: 1800 | F13: 1800 | G13: 1800
A14: 3112 | B14: Plaće u naravi
A15: 3113 | B15: Plaće za prekovremeni rad | C15: =SUM(C16) -> 0 | D15: =SUM(D16) -> 0 | E15: =SUM(E16) -> 170000 | F15: =SUM(F16) -> 177000 | G15: =SUM(G16) -> 184000
A16: 31131 | B16: Plaće za prekovremeni rad | E16: =80000+90000 -> 170000 | F16: 177000 | G16: 184000
A17: 3114 | B17: Plaće za posebne uvjete rada | C17: =SUM(C18) -> 0 | D17: =SUM(D18) -> 0 | E17: =SUM(E18) -> 0 | F17: =SUM(F18) -> 0 | G17: =SUM(G18) -> 0
A18: 31141 | B18: Plaće za posebne uvjete rada | D18: 0 | E18: 0 | F18: 0 | G18: 0
A19: 312 | B19: Ostali rashodi za zaposlene | C19: =C20 -> 0 | D19: =D20 -> 0 | E19: =E20 -> 350300 | F19: =F20 -> 365500 | G19: =G20 -> 380700
A20: 3121 | B20: Ostali rashodi za zaposlene | C20: =SUM(C21:C26) -> 0 | D20: =SUM(D21:D26) -> 0 | E20: =SUM(E21:E26) -> 350300 | F20: =SUM(F21:F26) -> 365500 | G20: =SUM(G21:G26) -> 380700
A21: 31212 | B21: Ostali rashodi za zaposlene-nagrade | E21: =28000+96500 -> 124500 | F21: 128000 | G21: 131500
A22: 31213 | B22: Darovi | E22: 26000 | F22: 28000 | G22: 30000
A23: 31214 | B23: Otpremnine | E23: =25000+2000 -> 27000 | F23: 28500 | G23: 30000
A24: 31215 | B24: Naknade za bolest, invalidnost i smrt | E24: =10000+3800 -> 13800 | F24: 15000 | G24: 16200
A25: 31216 | B25: Regres za godišnji odmor | E25: =57000+35000 -> 92000 | F25: 95000 | G25: 98000
A26: 31219 | B26: Ostali nenavedeni rashodi za zaposlene | E26: =32000+35000 -> 67000 | F26: 71000 | G26: 75000
A27: 313 | B27: Doprinosi na plaće | C27: =C28+C30 -> 0 | D27: =D28+D30 -> 0 | E27: =E28+E30 -> 1796488.8 | F27: =F28+F30 -> 1839716.5 | G27: =G28+G30 -> 1874896.4
A28: 3132 | B28: Doprinosi za obvezno zdravstveno osiguranje | C28: =SUM(C29) -> 0 | D28: =SUM(D29) -> 0 | E28: =SUM(E29) -> 1796488.8 | F28: =SUM(F29) -> 1839716.5 | G28: =SUM(G29) -> 1874896.4
A29: 31321 | B29: Doprinosi za obvezno zdravstveno osiguranje | E29: =760000+536488.84+500000 -> 1796488.8 | F29: 1839716.5 | G29: 1874896.4
A30: 3133 | B30: Doprinosi za zapošljavanje | C30: =C31 -> 0 | D30: =D31 -> 0 | E30: =E31 -> 0 | F30: =F31 -> 0 | G30: =G31 -> 0
A31: 31332 | B31: Doprinosi u slučaju nezaposlenosti | D31: 0
A32: 32 | B32: Materijalni rashodi | C32: =C33+C46+C75+C117+C120+C128 -> 0 | D32: =D33+D46+D75+D117+D120+D128 -> 0 | E32: =E33+E46+E75+E117+E120+E128 -> 7400658.6 | F32: =F33+F46+F75+F117+F120+F128 -> 7581279.6 | G32: =G33+G46+G75+G117+G120+G128 -> 7765234.2
A33: 321 | B33: Naknade troškova zaposlenima | C33: =C34+C39+C41+C44 -> 0 | D33: =D34+D39+D41+D44 -> 0 | E33: =E34+E39+E41+E44 -> 250944.29 | F33: =F34+F39+F41+F44 -> 257170 | G33: =G34+G39+G41+G44 -> 264360
A34: 3211 | B34: Službena putovanja | C34: =SUM(C35:C38) -> 0 | D34: =SUM(D35:D38) -> 0 | E34: =SUM(E35:E38) -> 6380 | F34: =SUM(F35:F38) -> 6920 | G34: =SUM(G35:G38) -> 7460
A35: 32111 | B35: Dnevnice za službeni put u zemlji | E35: =3000+600 -> 3600 | F35: 3800 | G35: 4000
A36: 32113 | B36: Naknade za smještaj na službenom putu u zemlji | E36: =500+1000 -> 1500 | F36: 1700 | G36: 1900
A37: 32115 | B37: Naknade za prijevoz na službenom putu u zemlji | E37: =500+700 -> 1200 | F37: 1300 | G37: 1400
A38: 32119 | B38: Ostali rashodi za sl. putovanje (cestarine, trošak parkiranja) | E38: 80 | F38: 120 | G38: 160
A39: 3212 | B39: Naknade za prijevoz, za rad na terenu i odvojeni život | C39: =SUM(C40) -> 0 | D39: =SUM(D40) -> 0 | E39: =SUM(E40) -> 234716.27 | F39: =SUM(F40) -> 240000 | G39: =SUM(G40) -> 246000
A40: 32121 | B40: Naknade za prijevoz, za rad na terenu i odvojeni život | E40: =74716.27+160000 -> 234716.27 | F40: 240000 | G40: 246000
A41: 3213 | B41: Stručno usavršavanje zaposlenih | C41: =SUM(C42:C43) -> 0 | D41: =SUM(D42:D43) -> 0 | E41: =SUM(E42:E43) -> 9648.02 | F41: =SUM(F42:F43) -> 10050 | G41: =SUM(G42:G43) -> 10700
...
