Workbook

Sheet SAŽETAK
B1: FINANCIJSKI PLAN DOMA ZDRAVLJA VUKOVARSKO - SRIJEMSKE ŽUPANIJE ZA 2026. GODINU S PROJEKCIJAMA ZA 2027. I 2028. GODINU
B4: I. OPĆI DIO
F6: A) SAŽETAK RAČUNA PRIHODA I RASHODA
K7: EUR
B8: BROJČANA OZNAKA I NAZIV | G8: IZVRŠENJE 2024. | H8: TEKUĆI PLAN ZA 2025. | I8: PLAN ZA 2026. | J8: PROJEKCIJA ZA 2027. | K8: PROJEKCIJA ZA 2028.
B9: 1 | I9: 3 | J9: 4 | K9: 5
B10: PRIHODI UKUPNO | G10: =G11+G12 -> #REF! | H10: =H11+H12 -> #REF! | I10: =I11+I12 -> 27400996 | J10: =J11+J12 -> 28076192 | K10: =K11+K12 -> 28547128
B11: 6 PRIHODI POSLOVANJA | G11: ='Prihodi po ekonomskoj klas'!E10 -> #REF! | H11: ='Prihodi po ekonomskoj klas'!F10 -> #REF! | I11: ='Prihodi po ekonomskoj klas'!G10 -> 27399696 | J11: ='Prihodi po ekonomskoj klas'!H10 -> 28076192 | K11: ='Prihodi po ekonomskoj klas'!I10 -> 28547128
B12: 7 PRIHODI OD PRODAJE NEFINANCIJSKE IMOVINE | G12: ='Prihodi po ekonomskoj klas'!E81 -> 0 | H12: ='Prihodi po ekonomskoj klas'!F81 -> 0 | I12: ='Prihodi po ekonomskoj klas'!G81 -> 1300 | J12: ='Prihodi po ekonomskoj klas'!H81 -> 0 | K12: ='Prihodi po ekonomskoj klas'!I81 -> 0
B13: RASHODI UKUPNO | G13: =G14+G15 -> #REF! | H13: =H14+H15 -> #REF! | I13: =I14+I15 -> 27155403 | J13: =J14+J15 -> 27423629 | K13: =K14+K15 -> 27667152
B14: 3 RASHODI POSLOVANJA | G14: ='RASHODI-ek.kl.'!D57 -> #REF! | H14: ='RASHODI-ek.kl.'!E57 -> #REF! | I14: ='RASHODI-ek.kl.'!F57 -> 26300528 | J14: ='RASHODI-ek.kl.'!G57 -> 26565803 | K14: ='RASHODI-ek.kl.'!H57 -> 26806376
B15: 4 RASHODI ZA NABAVU NEFINANCIJSKE IMOVINE | G15: ='RASHODI-ek.kl.'!D234 -> #REF! | H15: ='RASHODI-ek.kl.'!E234 -> #REF! | I15: ='RASHODI-ek.kl.'!F234 -> 854875.27 | J15: ='RASHODI-ek.kl.'!G234 -> 857825.27 | K15: ='RASHODI-ek.kl.'!H234 -> 860775.27
B16: RAZLIKA - VIŠAK MANJAK | G16: =G10-G13 -> #REF! | H16: =H10-H13 -> #REF! | I16: =I10-I13 -> 245592.85 | J16: =J10-J13 -> 652563.6 | K16: =K10-K13 -> 879976.31
F18: B) SAŽETAK RAČUNA FINANCIRANJA
B20: BROJČANA OZNAKA I NAZIV | G20: IZVRŠENJE 2024. | H20: TEKUĆI PLAN ZA 2025. | I20: PLAN ZA 2026. | J20: PROJEKCIJA ZA 2027. | K20: PROJEKCIJA ZA 2028.
B21: 1 | I21: 3 | J21: 4 | K21: 5
B22: 8 PRIMICI OD FINANCIJSKE IMOVINE I ZADUŽIVANJA
B23: 5 IZDACI ZA FINANCIJSKU IMOVINU I OTPLATE ZAJMOVA
B24: NETO FINANCIRANJE
B25: VIŠAK / MANJAK + NETO FINANCIRANJE | G25: =G16+G24 -> #REF! | H25: =H16+H24 -> #REF! | I25: =I16+I24 -> 245592.85 | J25: =J16+J24 -> 652563.6 | K25: =K16+K24 -> 879976.31
F27: C) PRENESENI VIŠAK ILI PRENESENI MANJAK
B29: BROJČANA OZNAKA I NAZIV | G29: IZVRŠENJE 2024. | H29: TEKUĆI PLAN ZA 2025. | I29: PLAN ZA 2026. | J29: PROJEKCIJA ZA 2027. | K29: PROJEKCIJA ZA 2028.
B30: PRENESENI VIŠAK / MANJAK IZ PRETHODNE(IH) GODINE | G30: 0 | H30: =G30+G31 -> #REF! | I30: =H31 -> -1778132.8 | J30: =I32 -> -1532539.9 | K30: =J32 -> -879976.31
B31: PRIJENOS VIŠKA / MANJKA U SLJEDEĆE RAZDOBLJE | G31: =G16 -> #REF! | H31: -1778132.8
B32: VIŠAK / MANJAK + NETO FINANCIRANJE + PRIJENOS VIŠKA / MANJKA IZ PRETHODNE(IH) GODINE - PRIJENOS VIŠKA / MANJKA U SLJEDEĆE RAZDOBLJE | I32: =I25+I30 -> -1532539.9 | J32: =J25+J30 -> -879976.31 | K32: =K25+K30 -> -2.0954758e-09
F34: D) VIŠEGODIŠNJI PLAN URAVNOTEŽENJA
B36: BROJČANA OZNAKA I NAZIV | G36: IZVRŠENJE 2024. | H36: TEKUĆI PLAN ZA 2025. | I36: PLAN ZA 2026. | J36: PROJEKCIJA ZA 2027. | K36: PROJEKCIJA ZA 2028.
B37: PRIJENOS VIŠKA / MANJKA IZ PRETHODNE(IH) GODINE | G37: =G30 -> 0 | H37: =G40 -> #REF! | I37: =H40 -> -1778132.8 | J37: =I40 -> -1532539.9 | K37: =J40 -> -879976.31
B38: VIŠAK / MANJAK IZ PRETHODNE(IH) GODINE KOJI ĆE SE RASPOREDITI / POKRITI | G38: =G16 -> #REF! | H38: =H16 -> #REF! | I38: =I25 -> 245592.85 | J38: =J25 -> 652563.6 | K38: =K25 -> 879976.31
B39: VIŠAK / MANJAK TEKUĆE GODINE | I39: 0 | J39: 0
B40: PRIJENOS VIŠKA / MANJKA U SLJEDEĆE RAZDOBLJE | G40: =G37+G38 -> #REF! | H40: =H31 -> -1778132.8 | I40: =I37+I38 -> -1532539.9 | J40: =J37+J38 -> -879976.31 | K40: =K37+K38 -> -2.0954758e-09

Sheet Prihodi po ekonomskoj klas
B2: I. OPĆI DIO
B4: A. RAČUN PRIHODA
B6: PRIHODI PREMA EKONOMSKOJ KLASIFIKACIJI
B8: PRIHODI POSLOVANJA
B9: Razred | C9: Skupina/podskupina/odjeljak | D9: Naziv | E9: IZVRŠENJE 2024. | F9: TEKUĆI PLAN ZA 2025. | G9: PLAN ZA 2026. | H9: PROJEKCIJA ZA 2027. | I9: PROJEKCIJA ZA 2028.
B10: 6 | D10: Prihodi poslovanja | E10: =E11+E34+E45+E51+E66+E75 -> #REF! | F10: =F11+F34+F45+F51+F66+F75 -> #REF! | G10: =G11+G34+G45+G51+G66+G75 -> 27399696 | H10: =H11+H34+H45+H51+H66+H75 -> 28076192 | I10: =I11+I34+I45+I51+I66+I75 -> 28547128
C11: 63 | D11: Pomoći | E11: =E12+E14+E18+E21+E26+E31 -> #REF! | F11: =F12+F14+F18+F21+F26+F31 -> #REF! | G11: =G12+G14+G18+G21+G26+G31 -> 1176423.8 | H11: =H12+H14+H18+H21+H26+H31 -> 1047924.5 | I11: =I12+I14+I18+I21+I26+I31 -> 994248.49 | K11: SAVJET: PRVO POPUNITE PRETHODNI LIST
C12: 632 | D12: Pomoći od međunaodnih organizacija te institucija i tijela EU | E12: =SUM(E13) -> 0 | F12: =SUM(F13) -> 0 | G12: =SUM(G13) -> 0 | H12: =SUM(H13) -> 0 | I12: =SUM(I13) -> 0
C13: 6324 | D13: Kapitalne pomoći od instucija i tijela EU | E13: 0 | F13: 0 | G13: 0 | H13: 0 | I13: 0
C14: 633 | D14: Pomoć proračunu iz drugih proračuna | E14: =SUM(E15,E17) -> 0 | F14: =SUM(F15,F17) -> 0 | G14: =SUM(G15,G17) -> 500 | H14: =SUM(H15,H17) -> 500 | I14: =SUM(I15,I17) -> 500 | K14: OVA TABLICA AUTOMATSKI POVLAČI IZNOSE IZ PRETHODNOG LISTA (PRIHODI PO EK KLAS I IZVORIMA)
C15: 6331 | D15: Tekuća pomoć proračunu iz drugih proračuna | E15: =E16 -> 0 | F15: =F16 -> 0 | G15: =G16 -> 500 | H15: =H16 -> 500 | I15: =I16 -> 500 | K15: UKOLIKO STE U PRVOM LISTU DODAVALI RAČUNE MORATI ĆETE I U OVOME LISTU NAPRAVITI IZMJENE U FORMULI RAČUNA NA KOJI SE IZMJENA ODNOSI
C16: 63313 | D16: Tekuće potpore iz gradskog proračuna | E16: ='Prihodi po ek klas i izvorima'!E71 -> 0 | F16: ='Prihodi po ek klas i izvorima'!F71 -> 0 | G16: ='Prihodi po ek klas i izvorima'!G71 -> 500 | H16: ='Prihodi po ek klas i izvorima'!H71 -> 500 | I16: ='Prihodi po ek klas i izvorima'!I71 -> 500
C17: 6332 | D17: Kapitalna pomoć proračunu iz drugih proračuna | E17: 0 | F17: 0 | G17: 0 | H17: 0 | I17: 0
C18: 634 | D18: Pomoći od izvanproračunskih korisnika | E18: =SUM(E19) -> 0 | F18: =SUM(F19) -> 0 | G18: =SUM(G19) -> 68314.61 | H18: =SUM(H19) -> 68314.61 | I18: =SUM(I19) -> 68314.61
C19: 6341 | D19: Tekuće pomoći od izvanproračunskih korisnika | E19: =E20 -> 0 | F19: =F20 -> 0 | G19: =G20 -> 68314.61 | H19: =H20 -> 68314.61 | I19: =I20 -> 68314.61
C20: 63414 | D20: Tekuće pomoći od izvanproračunskih korisnika | E20: ='Prihodi po ek klas i izvorima'!E75 -> 0 | F20: ='Prihodi po ek klas i izvorima'!F75 -> 0 | G20: ='Prihodi po ek klas i izvorima'!G75 -> 68314.61 | H20: ='Prihodi po ek klas i izvorima'!H75 -> 68314.61 | I20: ='Prihodi po ek klas i izvorima'!I75 -> 68314.61
C21: 636 | D21: Pomoć proračunskim korisnicima iz prorač.koji im nije nadležan | E21: =SUM(E22,E24) -> 0 | F21: =SUM(F22,F24) -> 0 | G21: =SUM(G22,G24) -> 14000 | H21: =SUM(H22,H24) -> 0 | I21: =SUM(I22,I24) -> 0
C22: 6361 | D22: Tekuće pomoći iz državnog prorač. prorač.korisnicima JLP(R)S | E22: =E23 -> 0 | F22: =F23 -> 0 | G22: =G23 -> 14000 | H22: =H23 -> 0 | I22: =I23 -> 0
C23: 63612 | D23: Tekuće pomoći iz državnog prorač. prorač.korisnicima JLP(R)S | E23: ='Prihodi po ek klas i izvorima'!E78 -> 0 | F23: ='Prihodi po ek klas i izvorima'!F78 -> 0 | G23: ='Prihodi po ek klas i izvorima'!G78 -> 14000 | H23: ='Prihodi po ek klas i izvorima'!H78 -> 0 | I23: ='Prihodi po ek klas i izvorima'!I78 -> 0
C24: 6362 | D24: Kapitalne pomoći iz državnog prorač. prorač.korisnicima JLP(R)S | E24: =E25 -> 0 | F24: =F25 -> 0 | G24: =G25 -> 0 | H24: =H25 -> 0 | I24: =I25 -> 0
C25: 63622 | D25: Kapitalne pomoći iz državnog prorač. prorač.korisnicima JLP(R)S | E25: ='Prihodi po ek klas i izvorima'!E80 -> 0 | F25: ='Prihodi po ek klas i izvorima'!F80 -> 0 | G25: ='Prihodi po ek klas i izvorima'!G80 -> 0 | H25: ='Prihodi po ek klas i izvorima'!H80 -> 0 | I25: ='Prihodi po ek klas i izvorima'!I80 -> 0
C26: 638 | D26: Pomoć temeljem prijenosa EU | E26: =E27+E29 -> #REF! | F26: =F27+F29 -> #REF! | G26: =G27+G29 -> 593609.22 | H26: =H27+H29 -> 479109.88 | I26: =I27+I29 -> 425433.88
C27: 6381 | D27: Tekuće pomoći temeljem prijenosa EU sredstava | E27: =SUM(E28:E28) -> 0 | F27: =SUM(F28:F28) -> 0 | G27: =SUM(G28:G28) -> 437409.22 | H27: =SUM(H28:H28) -> 319785.88 | I27: =SUM(I28:I28) -> 262923.4
C28: 63811 | D28: Tekuće pomoći iz državnog proračuna temeljem EU prijenosa | E28: ='Prihodi po ek klas i izvorima'!E94 -> 0 | F28: ='Prihodi po ek klas i izvorima'!F94 -> 0 | G28: ='Prihodi po ek klas i izvorima'!G94 -> 437409.22 | H28: ='Prihodi po ek klas i izvorima'!H94 -> 319785.88 | I28: ='Prihodi po ek klas i izvorima'!I94 -> 262923.4
C29: 6382 | D29: Kapitalna pomoć temeljem prijenosa EU | E29: =E30+#REF! -> #REF! | F29: =F30+#REF! -> #REF! | G29: =G30 -> 156200 | H29: =H30 -> 159324 | I29: =I30 -> 162510.48
C30: 63821 | D30: Pomoći temeljem EU prijenosa | E30: ='Prihodi po ek klas i izvorima'!#REF! -> #REF! | F30: ='Prihodi po ek klas i izvorima'!#REF! -> #REF! | G30: ='Prihodi po ek klas i izvorima'!G88 -> 156200 | H30: ='Prihodi po ek klas i izvorima'!H88 -> 159324 | I30: ='Prihodi po ek klas i izvorima'!I88 -> 162510.48
C31: 639 | D31: Prijenosi između proračunskih korisnika | E31: =SUM(E32) -> 0 | F31: =SUM(F32) -> 0 | G31: =SUM(G32) -> 500000 | H31: =SUM(H32) -> 500000 | I31: =SUM(I32) -> 500000
C32: 6391 | D32: Tekući prijenosi između proračunskih korisnika | E32: =E33 -> 0 | F32: =F33 -> 0 | G32: =G33 -> 500000 | H32: =H33 -> 500000 | I32: =I33 -> 500000
C33: 63911 | D33: Tekući prijenosi između proračunskih korisnika istog proračuna | E33: ='Prihodi po ek klas i izvorima'!E83 -> 0 | F33: ='Prihodi po ek klas i izvorima'!F83 -> 0 | G33: ='Prihodi po ek klas i izvorima'!G83 -> 500000 | H33: ='Prihodi po ek klas i izvorima'!H83 -> 500000 | I33: ='Prihodi po ek klas i izvorima'!I83 -> 500000
C34: 64 | D34: Prihodi od imovine | E34: =E35+E42 -> 0 | F34: =F35+F42 -> 0 | G34: =G35+G42 -> 101000 | H34: =H35+H42 -> 103404 | I34: =I35+I42 -> 105448.08
C35: 641 | D35: Prihodi od financijske imovine | E35: =E36+E38+E40 -> 0 | F35: =F36+F38+F40 -> 0 | G35: =G36+G38+G40 -> 100600 | H35: =H36+H38+H40 -> 102804 | I35: =I36+I38+I40 -> 104848.08
C36: 6413 | D36: Kamate na oročena sredstva i depozite po viđenju | E36: =SUM(E37) -> 0 | F36: =SUM(F37) -> 0 | G36: =SUM(G37) -> 550 | H36: =SUM(H37) -> 754 | I36: =SUM(I37) -> 758.08
C37: 64132 | D37: Kamate na oročena sredstva i depozite po viđenju | E37: ='Prihodi po ek klas i izvorima'!E20 -> 0 | F37: ='Prihodi po ek klas i izvorima'!F20 -> 0 | G37: ='Prihodi po ek klas i izvorima'!G20 -> 550 | H37: ='Prihodi po ek klas i izvorima'!H20 -> 754 | I37: ='Prihodi po ek klas i izvorima'!I20 -> 758.08
C38: 6414 | D38: Prihodi od zateznih kamata | E38: =E39 -> 0 | F38: =F39 -> 0 | G38: =G39 -> 50 | H38: =H39 -> 50 | I38: =I39 -> 50
C39: 64143 | D39: Prihodi od zateznih kamata | E39: ='Prihodi po ek klas i izvorima'!E22 -> 0 | F39: ='Prihodi po ek klas i izvorima'!F22 -> 0 | G39: ='Prihodi po ek klas i izvorima'!G22 -> 50 | H39: ='Prihodi po ek klas i izvorima'!H22 -> 50 | I39: ='Prihodi po ek klas i izvorima'!I22 -> 50
C40: 6419 | D40: Ostali prihodi od financijske imovine | E40: =E41 -> 0 | F40: =F41 -> 0 | G40: =G41 -> 100000 | H40: =H41 -> 102000 | I40: =I41 -> 104040
C41: 64199 | D41: Ostali prihodi od financijske imovine | E41: ='Prihodi po ek klas i izvorima'!E24+'Prihodi po ek klas i izvorima'!E48 -> 0 | F41: ='Prihodi po ek klas i izvorima'!F24+'Prihodi po ek klas i izvorima'!F48 -> 0 | G41: ='Prihodi po ek klas i izvorima'!G24+'Prihodi po ek klas i izvorima'!G48 -> 100000 | H41: ='Prihodi po ek klas i izvorima'!H24+'Prihodi po ek klas i izvorima'!H48 -> 102000 | I41: ='Prihodi po ek klas i izvorima'!I24+'Prihodi po ek klas i izvorima'!I48 -> 104040
C42: 642 | D42: Prihodi od nefinancijske imovine | E42: =E43 -> 0 | F42: =F43 -> 0 | G42: =G43 -> 400 | H42: =H43 -> 600 | I42: =I43 -> 600
C43: 6429 | D43: Ostali prihodi od nefinancijske imovine | E43: =E44 -> 0 | F43: =F44 -> 0 | G43: =G44 -> 400 | H43: =H44 -> 600 | I43: =I44 -> 600
C44: 64299 | D44: Ostali prihodi od nefinancijske imovine | E44: ='Prihodi po ek klas i izvorima'!E27 -> 0 | F44: ='Prihodi po ek klas i izvorima'!F27 -> 0 | G44: ='Prihodi po ek klas i izvorima'!G27 -> 400 | H44: ='Prihodi po ek klas i izvorima'!H27 -> 600 | I44: ='Prihodi po ek klas i izvorima'!I27 -> 600
C45: 65 | D45: Prihodi po posebnim propisima | E45: =E46 -> 0 | F45: =F46 -> 0 | G45: =G46 -> 942800 | H45: =H46 -> 971670 | I45: =I46 -> 982623.4
C46: 652 | D46: Prihodi po posebnim propisima | E46: =SUM(E47) -> 0 | F46: =SUM(F47) -> 0 | G46: =SUM(G47) -> 942800 | H46: =SUM(H47) -> 971670 | I46: =SUM(I47) -> 982623.4
C47: 6526 | D47: Ostali nespomenuti prihodi (participacija) | E47: =SUM(E48:E50) -> 0 | F47: =SUM(F48:F50) -> 0 | G47: =SUM(G48:G50) -> 942800 | H47: =SUM(H48:H50) -> 971670 | I47: =SUM(I48:I50) -> 982623.4
C48: 65264 | D48: Sufinanciranje cijene usluge, participacija | E48: ='Prihodi po ek klas i izvorima'!E52 -> 0 | F48: ='Prihodi po ek klas i izvorima'!F52 -> 0 | G48: ='Prihodi po ek klas i izvorima'!G52 -> 902800 | H48: ='Prihodi po ek klas i izvorima'!H52 -> 929020 | I48: ='Prihodi po ek klas i izvorima'!I52 -> 938190.4
C49: 65267 | D49: Prihodi od osiguranja i refundacije štete | E49: ='Prihodi po ek klas i izvorima'!E110 -> 0 | F49: ='Prihodi po ek klas i izvorima'!F110 -> 0 | G49: ='Prihodi po ek klas i izvorima'!G53+'Prihodi po ek klas i izvorima'!G110 -> 11500 | H49: ='Prihodi po ek klas i izvorima'!H53+'Prihodi po ek klas i izvorima'!H110 -> 11775 | I49: ='Prihodi po ek klas i izvorima'!I53+'Prihodi po ek klas i izvorima'!I110 -> 12064
C50: 65269 | D50: Refundacija plaća specijalizanata | E50: ='Prihodi po ek klas i izvorima'!E54 -> 0 | F50: ='Prihodi po ek klas i izvorima'!F54 -> 0 | G50: ='Prihodi po ek klas i izvorima'!G54 -> 28500 | H50: ='Prihodi po ek klas i izvorima'!H54 -> 30875 | I50: ='Prihodi po ek klas i izvorima'!I54 -> 32369
C51: 66 | D51: Prihodi od prodaje i donacija | E51: =E52+E60 -> 0 | F51: =F52+F60 -> 0 | G51: =G52+G60 -> 3645116.3 | H51: =H52+H60 -> 3685936.3 | I51: =I52+I60 -> 3717368.7
C52: 661 | D52: Prihodi od prodaje roba i pruženih usluga (vlastiti prihodi) | E52: =SUM(E53,E56) -> 0 | F52: =SUM(F53,F56) -> 0 | G52: =SUM(G53,G56) -> 3643116.3 | H52: =SUM(H53,H56) -> 3683716.3 | I52: =SUM(I53,I56) -> 3714928.3
C53: 6614 | D53: Prihodi od prodaje proizvoda i robe | E53: =E54+E55 -> 0 | F53: =F54+F55 -> 0 | G53: =G54+G55 -> 2625000 | H53: =H54+H55 -> 2656000 | I53: =I54+I55 -> 2677000
C54: 66141 | D54: Prihodi od prodaje proizvoda i robe - ljekarne | E54: ='Prihodi po ek klas i izvorima'!E31 -> 0 | F54: ='Prihodi po ek klas i izvorima'!F31 -> 0 | G54: ='Prihodi po ek klas i izvorima'!G31 -> 25000 | H54: ='Prihodi po ek klas i izvorima'!H31 -> 26000 | I54: ='Prihodi po ek klas i izvorima'!I31 -> 27000
C55: 66142 | D55: Prihodi od prodaje robe | E55: ='Prihodi po ek klas i izvorima'!E32 -> 0 | F55: ='Prihodi po ek klas i izvorima'!F32 -> 0 | G55: ='Prihodi po ek klas i izvorima'!G32 -> 2600000 | H55: ='Prihodi po ek klas i izvorima'!H32 -> 2630000 | I55: ='Prihodi po ek klas i izvorima'!I32 -> 2650000
C56: 6615 | D56: Prihodi od pruženih usluga | E56: =SUM(E57:E59) -> 0 | F56: =SUM(F57:F59) -> 0 | G56: =SUM(G57:G59) -> 1018116.3 | H56: =SUM(H57:H59) -> 1027716.3 | I56: =SUM(I57:I59) -> 1037928.3
C57: 66151 | D57: Prihodi od pruženih usluga | E57: ='Prihodi po ek klas i izvorima'!E34 -> 0 | F57: ='Prihodi po ek klas i izvorima'!F34 -> 0 | G57: ='Prihodi po ek klas i izvorima'!G34 -> 1013116.3 | H57: ='Prihodi po ek klas i izvorima'!H34 -> 1022116.3 | I57: ='Prihodi po ek klas i izvorima'!I34 -> 1031116.3
C58: 66153 | D58: Prihodi za udio troškova u zakupu | E58: ='Prihodi po ek klas i izvorima'!E35 -> 0 | F58: ='Prihodi po ek klas i izvorima'!F35 -> 0 | G58: ='Prihodi po ek klas i izvorima'!G35 -> 0 | H58: ='Prihodi po ek klas i izvorima'!H35 -> 0 | I58: ='Prihodi po ek klas i izvorima'!I35 -> 0
C59: 66157 | D59: Prihod od usluga ref. dežurstva specijalizanti | E59: ='Prihodi po ek klas i izvorima'!E36 -> 0 | F59: ='Prihodi po ek klas i izvorima'!F36 -> 0 | G59: ='Prihodi po ek klas i izvorima'!G36 -> 5000 | H59: ='Prihodi po ek klas i izvorima'!H36 -> 5600 | I59: ='Prihodi po ek klas i izvorima'!I36 -> 6812
C60: 663 | D60: Donacije od pravnih i fizičkih osoba izvan proračuna | E60: =E61+E64 -> 0 | F60: =F61+F64 -> 0 | G60: =G61+G64 -> 2000 | H60: =H61+H64 -> 2220 | I60: =I61+I64 -> 2440.4
C61: 6631 | D61: Tekuće donacije | E61: =SUM(E62:E63) -> 0 | F61: =SUM(F62:F63) -> 0 | G61: =SUM(G62:G63) -> 1500 | H61: =SUM(H62:H63) -> 1720 | I61: =SUM(I62:I63) -> 1940.4
C62: 66312 | D62: Tekuće donacije od neprofitnih organizacija | E62: ='Prihodi po ek klas i izvorima'!E101 -> 0 | F62: ='Prihodi po ek klas i izvorima'!F101 -> 0 | G62: ='Prihodi po ek klas i izvorima'!G101 -> 500 | H62: ='Prihodi po ek klas i izvorima'!H101 -> 520 | I62: ='Prihodi po ek klas i izvorima'!I101 -> 540.4
C63: 66313 | D63: Tekuće donacije | E63: ='Prihodi po ek klas i izvorima'!E102 -> 0 | F63: ='Prihodi po ek klas i izvorima'!F102 -> 0 | G63: ='Prihodi po ek klas i izvorima'!G102 -> 1000 | H63: ='Prihodi po ek klas i izvorima'!H102 -> 1200 | I63: ='Prihodi po ek klas i izvorima'!I102 -> 1400
C64: 6632 | D64: Kapitalne donacije | E64: =E65 -> 0 | F64: =F65 -> 0 | G64: =G65 -> 500 | H64: =H65 -> 500 | I64: =I65 -> 500
C65: 66323 | D65: Kapitalne donacije od trgovačkih društava | E65: ='Prihodi po ek klas i izvorima'!E104 -> 0 | F65: ='Prihodi po ek klas i izvorima'!F104 -> 0 | G65: ='Prihodi po ek klas i izvorima'!G104 -> 500 | H65: ='Prihodi po ek klas i izvorima'!H104 -> 500 | I65: ='Prihodi po ek klas i izvorima'!I104 -> 500
C66: 67 | D66: Prihodi iz nadležnog proračuna i HZZOa | E66: =SUM(E67,E72) -> #REF! | F66: =SUM(F67,F72) -> #REF! | G66: =SUM(G67,G72) -> 21370356 | H66: =SUM(H67,H72) -> 22097637 | I66: =SUM(I67,I72) -> 22577187
C67: 671 | D67: Prihodi iz nadležnog proračuna za financiranje redovne djelatnosti proračunskih korisnika | E67: =E68+E70 -> #REF! | F67: =F68+F70 -> #REF! | G67: =G68+G70 -> 1250606 | H67: =H68+H70 -> 1250606 | I67: =I68+I70 -> 1250606
C68: 6711 | D68: Prihodi iz nadležnog proračuna za financiranje rashoda poslovanja | E68: =SUM(E69) -> 0 | F68: =SUM(F69) -> 0 | G68: =SUM(G69) -> 481103.03 | H68: =SUM(H69) -> 481103.03 | I68: =SUM(I69) -> 481103.03
C69: 67111 | D69: Prihodi iz nadležnog proračuna za financiranje rashoda poslovanja | E69: ='Prihodi po ek klas i izvorima'!E12 -> 0 | F69: ='Prihodi po ek klas i izvorima'!F12 -> 0 | G69: ='Prihodi po ek klas i izvorima'!G12 -> 481103.03 | H69: ='Prihodi po ek klas i izvorima'!H12 -> 481103.03 | I69: ='Prihodi po ek klas i izvorima'!I12 -> 481103.03
C70: 6712 | D70: Prihodi iz nadležnog proračuna za nabavu nefinancijske imovine | E70: =SUM(E71) -> #REF! | F70: =SUM(F71) -> #REF! | G70: =SUM(G71) -> 769502.99 | H70: =SUM(H71) -> 769502.99 | I70: =SUM(I71) -> 769502.99
C71: 67121 | D71: Prihodi iz nadležnog proračuna za nabavu nefinancijske imovine | E71: ='Prihodi po ek klas i izvorima'!#REF! -> #REF! | F71: ='Prihodi po ek klas i izvorima'!#REF! -> #REF! | G71: ='Prihodi po ek klas i izvorima'!G14 -> 769502.99 | H71: ='Prihodi po ek klas i izvorima'!H14 -> 769502.99 | I71: ='Prihodi po ek klas i izvorima'!I14 -> 769502.99
C72: 673 | D72: Prihodi od HZZO-a | E72: =SUM(E73) -> 0 | F72: =SUM(F73) -> 0 | G72: =SUM(G73) -> 20119750 | H72: =SUM(H73) -> 20847031 | I72: =SUM(I73) -> 21326581
C73: 6731 | D73: Prihodi od HZZO-a temeljem ugovora | E73: =E74 -> 0 | F73: =F74 -> 0 | G73: =G74 -> 20119750 | H73: =H74 -> 20847031 | I73: =I74 -> 21326581
C74: 67311 | D74: Prihodi od HZZO-a temeljem ugovora | E74: ='Prihodi po ek klas i izvorima'!E61 -> 0 | F74: ='Prihodi po ek klas i izvorima'!F61 -> 0 | G74: ='Prihodi po ek klas i izvorima'!G61 -> 20119750 | H74: ='Prihodi po ek klas i izvorima'!H61 -> 20847031 | I74: ='Prihodi po ek klas i izvorima'!I61 -> 21326581
C75: 68 | D75: Kazne, upravne mjere i ostali prihodi | E75: =SUM(E76) -> 0 | F75: =SUM(F76) -> 0 | G75: =SUM(G76) -> 164000 | H75: =SUM(H76) -> 169620 | I75: =SUM(I76) -> 170252.4
C76: 683 | D76: Ostali prihodi | E76: =E77 -> 0 | F76: =F77 -> 0 | G76: =G77 -> 164000 | H76: =H77 -> 169620 | I76: =I77 -> 170252.4
C77: 6831 | D77: Ostali prihodi | E77: =E78+E79+E80 -> 0 | F77: =F78+F79+F80 -> 0 | G77: =G78+G79+G80 -> 164000 | H77: =H78+H79+H80 -> 169620 | I77: =I78+I79+I80 -> 170252.4
C78: 68311 | D78: Ostali prihodi | E78: ='Prihodi po ek klas i izvorima'!E40+'Prihodi po ek klas i izvorima'!E65 -> 0 | F78: ='Prihodi po ek klas i izvorima'!F40+'Prihodi po ek klas i izvorima'!F65 -> 0 | G78: ='Prihodi po ek klas i izvorima'!G40+'Prihodi po ek klas i izvorima'!G65 -> 136000 | H78: ='Prihodi po ek klas i izvorima'!H40+'Prihodi po ek klas i izvorima'!H65 -> 141000 | I78: ='Prihodi po ek klas i izvorima'!I40+'Prihodi po ek klas i izvorima'!I65 -> 141000
C79: 68312 | D79: Ostali prihodi-od inventurnih viškova | E79: ='Prihodi po ek klas i izvorima'!E41 -> 0 | F79: ='Prihodi po ek klas i izvorima'!F41 -> 0 | G79: ='Prihodi po ek klas i izvorima'!G41 -> 3000 | H79: ='Prihodi po ek klas i izvorima'!H41 -> 3000 | I79: ='Prihodi po ek klas i izvorima'!I41 -> 3000
C80: 68313 | D80: Ostali prihodi od veleprodajnih i akcijskih rabata | E80: ='Prihodi po ek klas i izvorima'!E42 -> 0 | F80: ='Prihodi po ek klas i izvorima'!F42 -> 0 | G80: ='Prihodi po ek klas i izvorima'!G42 -> 25000 | H80: ='Prihodi po ek klas i izvorima'!H42 -> 25620 | I80: ='Prihodi po ek klas i izvorima'!I42 -> 26252.4
B81: 7 | D81: Prihodi od prodaje nefinancijske imovine | E81: =SUM(E82) -> 0 | F81: =SUM(F82) -> 0 | G81: =SUM(G82) -> 1300 | H81: =SUM(H82) -> 0 | I81: =SUM(I82) -> 0
C82: 72 | D82: Prihodi od prodaje proizvedene dugotrajne imovine | E82: =SUM(E83,E86) -> 0 | F82: =SUM(F83,F86) -> 0 | G82: =SUM(G83,G86) -> 1300 | H82: =SUM(H83,H86) -> 0 | I82: =SUM(I83,I86) -> 0
C83: 721 | D83: Prihodi od prodaje građevinskih objekata | E83: =E84 -> 0 | F83: =F84 -> 0 | G83: =G84 -> 1300 | H83: =H84 -> 0 | I83: =I84 -> 0
C84: 7211 | D84: Stambeni objekti | E84: =E85 -> 0 | F84: =F85 -> 0 | G84: =G85 -> 1300 | H84: =H85 -> 0 | I84: =I85 -> 0
C85: 72111 | D85: Stambeni objekti za zaposlene | E85: ='Prihodi po ek klas i izvorima'!E116 -> 0 | F85: ='Prihodi po ek klas i izvorima'!F116 -> 0 | G85: ='Prihodi po ek klas i izvorima'!G116 -> 1300 | H85: ='Prihodi po ek klas i izvorima'!H116 -> 0 | I85: ='Prihodi po ek klas i izvorima'!I116 -> 0
C86: 723 | D86: Prihodi od prodaje prijevoznih sredstava | E86: =E87 -> 0 | F86: =F87 -> 0 | G86: =G87 -> 0 | H86: =H87 -> 0 | I86: =I87 -> 0
C87: 7231 | D87: Prijevozna sredstva u cestovnom prometu | E87: ='Prihodi po ek klas i izvorima'!E118 -> 0 | F87: ='Prihodi po ek klas i izvorima'!F118 -> 0 | G87: ='Prihodi po ek klas i izvorima'!G118 -> 0 | H87: ='Prihodi po ek klas i izvorima'!H118 -> 0 | I87: ='Prihodi po ek klas i izvorima'!I118 -> 0
B88: UKUPNO PRIHODI I PRIMICI: | E88: =E10+E81 -> #REF! | F88: =F10+F81 -> #REF! | G88: =G10+G81 -> 27400996 | H88: =H10+H81 -> 28076192 | I88: =I10+I81 -> 28547128

Sheet RASHODI-ek.kl.
A1: I. OPĆI DIO
A2: A. RAČUN PRIHODA I RASHODA
A4: RASHODI PREMA EKONOMSKOJ KLASIFIKACIJI
A7: PRIHODI POSLOVANJA
A8: Razred | B8: Skupina/podskupina/odjeljak | C8: Naziv | F8: Izvršenje prethodne godine I.-VI. 2022. | G8: REBALANS 2023. | H8: Izvršenje tekuće godine I.-VI. 2023
A9: 1 | F9: 2 | G9: 3 | H9: 4
A10: 6 | F10: =F11+F26+F30+F33+F40+F43 -> 24659146 | G10: =G11+G26+G30+G33+G40+G43 -> 63888652 | H10: =H11+H26+H30+H33+H40+H43 -> 30834919
B11: 63 | C11: Pomoći | F11: =F12+F14+F17+F19+F21+F24 -> 324811.47 | G11: =SUM(G12,G14,G17,G19,G21,G24) -> 639378.86 | H11: =SUM(H12,H14,H17,H19,H21,H24) -> 1892796.8
B12: 632 | C12: Pomoći od međunaodnih organizacija te institucija i tijela EU | F12: =SUM(F13) -> 0 | G12: =SUM(G13) -> 0 | H12: =SUM(H13) -> 0
B13: 6324 | C13: Kapitalne pomoći od instucija i tijela EU | F13: 0 | G13: 0 | H13: 0
B14: 633 | C14: Pomoć proračunu iz drugih proračuna | F14: =SUM(F15:F16) -> 50556.109 | G14: =SUM(G15:G16) -> 0 | H14: =SUM(H15:H16) -> 0
B15: 6331 | C15: Tekuća pomoć proračunu iz drugih proračuna | F15: =380915/7.5345 -> 50556.109 | G15: 0 | H15: 0
B16: 6332 | C16: Kapitalna pomoć proračunu iz drugih proračuna | F16: 0 | G16: 0 | H16: 0
B17: 634 | C17: Pomoći od izvanproračunskih korisnika | F17: =SUM(F18) -> 111981.95 | G17: =SUM(G18) -> 366500.76 | H17: =SUM(H18) -> 1829292.8
B18: 6341 | C18: Tekuće pomoći od HZZ-a, HZZO-a | F18: =843728/7.5345 -> 111981.95 | G18: 366500.76 | H18: 1829292.8
B19: 636 | C19: Pomoć proračunskim korisnicima iz prorač.koji im nije nadležan | F19: =SUM(F20) -> 54857.124 | G19: =SUM(G20) -> 796.34 | H19: =SUM(H20) -> 45490.31
B20: 6361 | C20: Tekuće pomoći iz državnog prorač. prorač.korisnicima JLP(R)S | F20: =413321/7.5345 -> 54857.124 | G20: =796.34 -> 796.34 | H20: 45490.31
B21: 638 | C21: Pomoć temeljem prijenosa EU | F21: =SUM(F22:F23) -> 107244.81 | G21: =SUM(G23) -> 272081.76 | H21: =SUM(H23) -> 18013.71
B22: 6381 | C22: Tekuće pomoći temeljem prijenosa EU sredstava | F22: =493624/7.5345 -> 65515.164 | G22: 0 | H22: 0
B23: 6382 | C23: kapitalna pomoć temeljem prijenosa EU | F23: =314412/7.5345 -> 41729.644 | G23: 272081.76 | H23: 18013.71
B24: 639 | C24: Prijenosi između proračunskih korisnika | F24: =SUM(F25) -> 171.47787 | G24: =SUM(G25) -> 0 | H24: =SUM(H25) -> 0
B25: 6391 | C25: Tekući prijenosi između proračunskih korisnika | F25: =1292/7.5345 -> 171.47787 | G25: 0 | H25: 0
B26: 64 | C26: Prihodi od imovine | F26: =SUM(F27:F29) -> 50144.535 | G26: =SUM(G27:G29) -> 120462.42 | H26: =SUM(H27:H29) -> 55180.92
B27: 6413 | C27: Kamate na oročena sredstva i depozite po viđenju | F27: =439/7.5345 -> 58.265313 | G27: 746.44 | H27: 204.07
B28: 6419 | C28: Ostali prihode o financijske imovine | F28: =376342/7.5345 -> 49949.167 | G28: 119450.53 | H28: 54839.75
B29: 6429 | C29: Ostali prihodi od nefinancijske imovine | F29: =1033/7.5345 -> 137.10266 | G29: =265.45 -> 265.45 | H29: 137.1
B30: 65 | C30: Prihodi po posebnim propisima | F30: =F31 -> 1523828.4 | G30: =SUM(G31) -> 6950029.9 | H30: =SUM(H31) -> 1963072.3
B31: 652 | C31: Prihodi po posebnim propisima | F31: =SUM(F32) -> 1523828.4 | G31: =SUM(G32) -> 6950029.9 | H31: =SUM(H32) -> 1963072.3
B32: 6526 | C32: Ostali nespomenuti prihodi (participacija) | F32: =11481285/7.5345 -> 1523828.4 | G32: =6950029.86 -> 6950029.9 | H32: 1963072.3
B33: 66 | C33: Prihodi od prodaje i donacija | F33: =F34+F37 -> 1701559.2 | G33: =SUM(G34,G37) -> 3641484.9 | H33: =SUM(H34,H37) -> 1739052
B34: 661 | C34: Prihodi od prodaje roba i pruženih usluga (vlastiti prihodi) | F34: =SUM(F35:F36) -> 1677912 | G34: =SUM(G36,G35) -> 3521370.8 | H34: =SUM(H36,H35) -> 1704828
B35: 6614 | C35: Prihodi od prodaje proizvoda i robe | F35: =6216809/7.5345 -> 825112.35 | G35: 1725396.5 | H35: 916985.05
B36: 6615 | C36: Prihodi od pruženih usluga | F36: =6425419/7.5345 -> 852799.65 | G36: 1795974.2 | H36: 787842.97
B37: 663 | C37: Donacije od pravnih i fizičkih osoba izvan proračuna | F37: =SUM(F38:F39) -> 23647.223 | G37: =SUM(G38:G39) -> 120114.13 | H37: =SUM(H38:H39) -> 34224
B38: 6631 | C38: Tekuće donacije | F38: =5000/7.5345 -> 663.61404 | G38: 53752.73 | H38: =5600+1310 -> 6910
B39: 6632 | C39: Kapitalne donacije | F39: =173170/7.5345 -> 22983.609 | G39: 66361.4 | H39: 27314
B40: 67 | C40: Prihodi iz nadležnog proračuna i HZZOa | F40: =SUM(F41) -> 20985600 | G40: =SUM(G41) -> 52367289 | H40: =SUM(H41) -> 24656056
B41: 673 | C41: Prihodi od HZZO-a | F41: =SUM(F42) -> 20985600 | G41: =SUM(G42) -> 52367289 | H41: =SUM(H42) -> 24656056
B42: 6731 | C42: Prihodi od HZZO-a temeljem ugovora | F42: =158116000/7.5345 -> 20985600 | G42: 52367289 | H42: 24656056
B43: 68 | C43: Kazne, upravne mjere i ostali prihodi | F43: =SUM(F44) -> 73202.601 | G43: =SUM(G44) -> 170007.44 | H43: =SUM(H44) -> 528760.56
B44: 683 | C44: Ostali prihodi | F44: =SUM(F45) -> 73202.601 | G44: =SUM(G45) -> 170007.44 | H44: =SUM(H45) -> 528760.56
B45: 6831 | C45: Ostali prihodi | F45: =551545/7.5345 -> 73202.601 | G45: 170007.44 | H45: 528760.56
A46: 7 | C46: Prihodi od prodaje nefinancijske imovine | F46: =F48 -> 206.78214 | G46: =SUM(G47) -> 7432.48 | H46: =SUM(H47) -> 18031
B47: 72 | C47: Prihodi od prodaje proizvedene dugotrajne imovine | F47: =SUM(F48) -> 206.78214 | G47: =SUM(G48) -> 7432.48 | H47: =SUM(H48) -> 18031
B48: 721 | C48: Prihodi od prodaje građevinskih objekata | F48: =SUM(F49) -> 206.78214 | G48: =SUM(G49,G50) -> 7432.48 | H48: =SUM(H49,H50) -> 18031
B49: 7211 | C49: Stambeni objekti | F49: =1558/7.5345 -> 206.78214 | G49: 796.34 | H49: 18031
B50: 7231 | C50: Prijevozna sredstva u cestovnom prometu | F50: 0 | G50: 6636.14 | H50: 0
A51: UKUPNO PRIHODI I PRIMICI: | F51: =F10+F46 -> 24659353 | G51: =G10+G46 -> 63896085 | H51: =H10+H46 -> 30852950
A54: RASHODI POSLOVANJA
A55: Razred | B55: Skupina/podskupina/odjeljak | C55: Naziv | D55: IZVRŠENJE 2024. | E55: TEKUĆI PLAN ZA 2025. | F55: PLAN ZA 2026. | G55: PROJEKCIJA ZA 2027. | H55: PROJEKCIJA ZA 2028.
A56: 1 | F56: 2 | G56: 3 | H56: 4
A57: 3 | C57: RASHODI POSLOVANJA | D57: =D58+D81+D202+D215+D219+D224 -> #REF! | E57: =E58+E81+E202+E215+E219+E224 -> #REF! | F57: =F58+F81+F202+F215+F219+F224 -> 26300528 | G57: =G58+G81+G202+G215+G219+G224 -> 26565803 | H57: =H58+H81+H202+H215+H219+H224 -> 26806376
B58: 31 | C58: Rashodi za zaposlene | D58: =SUM(D59,D66,D75) -> #REF! | E58: =SUM(E59,E66,E75) -> #REF! | F58: =SUM(F59,F66,F75) -> 15852232 | G58: =SUM(G59,G66,G75) -> 15926606 | H58: =SUM(H59,H66,H75) -> 15987259
B59: 311 | C59: Plaće (Bruto) | D59: =D60+D64+#REF! -> #REF! | E59: =E60+E64+#REF! -> #REF! | F59: =F60+F64 -> 13264985 | G59: =G60+G64 -> 13263565 | H59: =H60+H64 -> 13259961
B60: 3111 | C60: Plaće za redovan rad | D60: =D61+D62 -> #REF! | E60: =E61+E62 -> #REF! | F60: =F61+F62 -> 13094985 | G60: =G61+G62 -> 13086565 | H60: =H61+H62 -> 13075961
B61: 31111 | C61: Plaće za redovan rad | D61: =' PRIHODI I RASHODI-izvori'!E15+' PRIHODI I RASHODI-izvori'!E245+' PRIHODI I RASHODI-izvori'!E108+' PRIHODI I RASHODI-izvori'!E454 -> #REF! | E61: =' PRIHODI I RASHODI-izvori'!F15+' PRIHODI I RASHODI-izvori'!F245+' PRIHODI I RASHODI-izvori'!F108+' PRIHODI I RASHODI-izvori'!F454 -> #REF! | F61: =' PRIHODI I RASHODI-izvori'!G15+' PRIHODI I RASHODI-izvori'!G108+' PRIHODI I RASHODI-izvori'!G245+' PRIHODI I RASHODI-izvori'!G454+' PRIHODI I RASHODI-izvori'!G496+' PRIHODI I RASHODI-izvori'!G517 -> 13093185 | G61: =' PRIHODI I RASHODI-izvori'!H15+' PRIHODI I RASHODI-izvori'!H108+' PRIHODI I RASHODI-izvori'!H245+' PRIHODI I RASHODI-izvori'!H454+' PRIHODI I RASHODI-izvori'!H496+' PRIHODI I RASHODI-izvori'!H517 -> 13084765 | H61: =' PRIHODI I RASHODI-izvori'!I15+' PRIHODI I RASHODI-izvori'!I108+' PRIHODI I RASHODI-izvori'!I245+' PRIHODI I RASHODI-izvori'!I454+' PRIHODI I RASHODI-izvori'!I496+' PRIHODI I RASHODI-izvori'!I517 -> 13074161
B62: 31113 | C62: Plaće po sudskim presudama | D62: =' PRIHODI I RASHODI-izvori'!E246 -> 0 | E62: =' PRIHODI I RASHODI-izvori'!F246 -> 0 | F62: =' PRIHODI I RASHODI-izvori'!G246 -> 1800 | G62: =' PRIHODI I RASHODI-izvori'!H246 -> 1800 | H62: =' PRIHODI I RASHODI-izvori'!I246 -> 1800
B63: 3112 | C63: Plaće u naravi
B64: 3113 | C64: Plaće za prekovremeni rad | D64: =D65 -> 0 | E64: =E65 -> 0 | F64: =F65 -> 170000 | G64: =G65 -> 177000 | H64: =H65 -> 184000
B65: 31131 | C65: Plaće za prekovremeni rad | D65: =' PRIHODI I RASHODI-izvori'!E249 -> 0 | E65: =' PRIHODI I RASHODI-izvori'!F249 -> 0 | F65: =' PRIHODI I RASHODI-izvori'!G249 -> 170000 | G65: =' PRIHODI I RASHODI-izvori'!H249 -> 177000 | H65: =' PRIHODI I RASHODI-izvori'!I249 -> 184000
B66: 312 | C66: Ostali rashodi za zaposlene | D66: =SUM(D67) -> #REF! | E66: =SUM(E67) -> #REF! | F66: =SUM(F67) -> 514027.1 | G66: =SUM(G67) -> 534181.55 | H66: =SUM(H67) -> 553478.37
B67: 3121 | C67: Ostali rashodi za zaposlene | D67: =SUM(D68:D74) -> #REF! | E67: =SUM(E68:E74) -> #REF! | F67: =SUM(F68:F74) -> 514027.1 | G67: =SUM(G68:G74) -> 534181.55 | H67: =SUM(H68:H74) -> 553478.37
B68: 31212 | C68: Ostali rashodi za zaposlene-nagrade | D68: =' PRIHODI I RASHODI-izvori'!E254 -> 0 | E68: =' PRIHODI I RASHODI-izvori'!F254 -> 0 | F68: =' PRIHODI I RASHODI-izvori'!G254 -> 124500 | G68: =' PRIHODI I RASHODI-izvori'!H254 -> 128000 | H68: =' PRIHODI I RASHODI-izvori'!I254 -> 131500
B69: 31213 | C69: Darovi | D69: =' PRIHODI I RASHODI-izvori'!E255+' PRIHODI I RASHODI-izvori'!E115+' PRIHODI I RASHODI-izvori'!#REF! -> #REF! | E69: =' PRIHODI I RASHODI-izvori'!F255+' PRIHODI I RASHODI-izvori'!F115+' PRIHODI I RASHODI-izvori'!#REF! -> #REF! | F69: =' PRIHODI I RASHODI-izvori'!G115+' PRIHODI I RASHODI-izvori'!G255+' PRIHODI I RASHODI-izvori'!G520 -> 36000 | G69: =' PRIHODI I RASHODI-izvori'!H115+' PRIHODI I RASHODI-izvori'!H255+' PRIHODI I RASHODI-izvori'!H520 -> 38250 | H69: =' PRIHODI I RASHODI-izvori'!I115+' PRIHODI I RASHODI-izvori'!I255+' PRIHODI I RASHODI-izvori'!I520 -> 40550
B70: 31214 | C70: Otpremnine | D70: =' PRIHODI I RASHODI-izvori'!E256+' PRIHODI I RASHODI-izvori'!E116 -> 0 | E70: =' PRIHODI I RASHODI-izvori'!F256+' PRIHODI I RASHODI-izvori'!F116 -> 0 | F70: =' PRIHODI I RASHODI-izvori'!G256+' PRIHODI I RASHODI-izvori'!G116 -> 43000 | G70: =' PRIHODI I RASHODI-izvori'!H256+' PRIHODI I RASHODI-izvori'!H116 -> 45000 | H70: =' PRIHODI I RASHODI-izvori'!I256+' PRIHODI I RASHODI-izvori'!I116 -> 47000
B71: 31215 | C71: Naknade za bolest, invalidnost i smrt | D71: =' PRIHODI I RASHODI-izvori'!E257+' PRIHODI I RASHODI-izvori'!E117 -> 0 | E71: =' PRIHODI I RASHODI-izvori'!F257+' PRIHODI I RASHODI-izvori'!F117 -> 0 | F71: =' PRIHODI I RASHODI-izvori'!G257+' PRIHODI I RASHODI-izvori'!G117 -> 23800 | G71: =' PRIHODI I RASHODI-izvori'!H257+' PRIHODI I RASHODI-izvori'!H117 -> 26000 | H71: =' PRIHODI I RASHODI-izvori'!I257+' PRIHODI I RASHODI-izvori'!I117 -> 28200
B72: 31216 | C72: Regres za godišnji odmor | D72: =' PRIHODI I RASHODI-izvori'!E258+' PRIHODI I RASHODI-izvori'!#REF!+' PRIHODI I RASHODI-izvori'!E118 -> #REF! | E72: =' PRIHODI I RASHODI-izvori'!F258+' PRIHODI I RASHODI-izvori'!#REF!+' PRIHODI I RASHODI-izvori'!F118 -> #REF! | F72: =' PRIHODI I RASHODI-izvori'!G118+' PRIHODI I RASHODI-izvori'!G258+' PRIHODI I RASHODI-izvori'!G521 -> 139250 | G72: =' PRIHODI I RASHODI-izvori'!H118+' PRIHODI I RASHODI-izvori'!H258+' PRIHODI I RASHODI-izvori'!H521 -> 143250 | H72: =' PRIHODI I RASHODI-izvori'!I118+' PRIHODI I RASHODI-izvori'!I258+' PRIHODI I RASHODI-izvori'!I521 -> 146950
B73: 31217 | C73: Božićnica, uskrsnica | D73: =' PRIHODI I RASHODI-izvori'!E119+' PRIHODI I RASHODI-izvori'!#REF! -> #REF! | E73: =' PRIHODI I RASHODI-izvori'!F119+' PRIHODI I RASHODI-izvori'!#REF! -> #REF! | F73: =' PRIHODI I RASHODI-izvori'!G119+' PRIHODI I RASHODI-izvori'!G522 -> 65000 | G73: =' PRIHODI I RASHODI-izvori'!H119+' PRIHODI I RASHODI-izvori'!H522 -> 66200 | H73: =' PRIHODI I RASHODI-izvori'!I119+' PRIHODI I RASHODI-izvori'!I522 -> 67480
B74: 31219 | C74: Ostali nenavedeni rashodi za zaposlene | D74: =' PRIHODI I RASHODI-izvori'!E259+' PRIHODI I RASHODI-izvori'!E120+' PRIHODI I RASHODI-izvori'!#REF! -> #REF! | E74: =' PRIHODI I RASHODI-izvori'!F259+' PRIHODI I RASHODI-izvori'!F120+' PRIHODI I RASHODI-izvori'!#REF! -> #REF! | F74: =' PRIHODI I RASHODI-izvori'!G120+' PRIHODI I RASHODI-izvori'!G259+' PRIHODI I RASHODI-izvori'!G523 -> 82477.1 | G74: =' PRIHODI I RASHODI-izvori'!H120+' PRIHODI I RASHODI-izvori'!H259+' PRIHODI I RASHODI-izvori'!H523 -> 87481.55 | H74: =' PRIHODI I RASHODI-izvori'!I120+' PRIHODI I RASHODI-izvori'!I259+' PRIHODI I RASHODI-izvori'!I523 -> 91798.37
B75: 313 | C75: Doprinosi na plaće | D75: =D76+D77+D79 -> #REF! | E75: =E76+E77+E79 -> #REF! | F75: =F76+F77+F79 -> 2073219.9 | G75: =G76+G77+G79 -> 2128859.6 | H75: =H76+H77+H79 -> 2173819.3
B76: 3131 | C76: Doprinosi za mirovinsko osiguranje
B77: 3132 | C77: Doprinosi za obavezno zdravst.osig. | D77: =D78 -> #REF! | E77: =E78 -> #REF! | F77: =F78 -> 2073219.9 | G77: =G78 -> 2128859.6 | H77: =H78 -> 2173819.3
B78: 31321 | C78: Doprinosi za obavezno zdravst.osig. | D78: =' PRIHODI I RASHODI-izvori'!E18+' PRIHODI I RASHODI-izvori'!E262+' PRIHODI I RASHODI-izvori'!E123+' PRIHODI I RASHODI-izvori'!E457 -> #REF! | E78: =' PRIHODI I RASHODI-izvori'!F18+' PRIHODI I RASHODI-izvori'!F262+' PRIHODI I RASHODI-izvori'!F123+' PRIHODI I RASHODI-izvori'!F457 -> #REF! | F78: =' PRIHODI I RASHODI-izvori'!G18+' PRIHODI I RASHODI-izvori'!G123+' PRIHODI I RASHODI-izvori'!G262+' PRIHODI I RASHODI-izvori'!G457+' PRIHODI I RASHODI-izvori'!G526 -> 2073219.9 | G78: =' PRIHODI I RASHODI-izvori'!H18+' PRIHODI I RASHODI-izvori'!H123+' PRIHODI I RASHODI-izvori'!H262+' PRIHODI I RASHODI-izvori'!H457+' PRIHODI I RASHODI-izvori'!H526 -> 2128859.6 | H78: =' PRIHODI I RASHODI-izvori'!I18+' PRIHODI I RASHODI-izvori'!I123+' PRIHODI I RASHODI-izvori'!I262+' PRIHODI I RASHODI-izvori'!I457+' PRIHODI I RASHODI-izvori'!I526 -> 2173819.3
B79: 3133 | C79: Doprinosi za zapošljavanje | D79: =D80 -> 0 | E79: =E80 -> 0 | F79: =F80 -> 0 | G79: =G80 -> 0 | H79: =H80 -> 0
B80: 31332 | C80: Doprinosi u slučaju nezaposlenosti | D80: =' PRIHODI I RASHODI-izvori'!E264 -> 0 | E80: =' PRIHODI I RASHODI-izvori'!F264 -> 0 | F80: =' PRIHODI I RASHODI-izvori'!G264 -> 0 | G80: =' PRIHODI I RASHODI-izvori'!H264 -> 0 | H80: =' PRIHODI I RASHODI-izvori'!I264 -> 0
B81: 32 | C81: Materijalni rashodi | D81: =D82+D96+D125+D169+D172+D180 -> #REF! | E81: =E82+E96+E125+E169+E172+E180 -> #REF! | F81: =F82+F96+F125+F169+F172+F180 -> 10408621 | G81: =G82+G96+G125+G169+G172+G180 -> 10601105 | H81: =H82+H96+H125+H169+H172+H180 -> 10780504
B82: 321 | C82: Naknade troškova zaposlenima | D82: =D83+D88+D91+D94 -> #REF! | E82: =E83+E88+E91+E94 -> #REF! | F82: =F83+F88+F91+F94 -> 440172.59 | G82: =G83+G88+G91+G94 -> 446278.14 | H82: =H83+H88+H91+H94 -> 446091.08
B83: 3211 | C83: Službena putovanja | D83: =SUM(D84:D87) -> #REF! | E83: =SUM(E84:E87) -> #REF! | F83: =SUM(F84:F87) -> 32935.94 | G83: =SUM(G84:G87) -> 32375.94 | H83: =SUM(H84:H87) -> 29703.57
B84: 32111 | C84: Dnevnice za službeni put u zemlji | D84: =' PRIHODI I RASHODI-izvori'!E268+' PRIHODI I RASHODI-izvori'!E461+' PRIHODI I RASHODI-izvori'!E553+' PRIHODI I RASHODI-izvori'!E127+' PRIHODI I RASHODI-izvori'!E22 -> #REF! | E84: =' PRIHODI I RASHODI-izvori'!F268+' PRIHODI I RASHODI-izvori'!F461+' PRIHODI I RASHODI-izvori'!F553+' PRIHODI I RASHODI-izvori'!F127+' PRIHODI I RASHODI-izvori'!F22 -> #REF! | F84: =' PRIHODI I RASHODI-izvori'!G22+' PRIHODI I RASHODI-izvori'!G127+' PRIHODI I RASHODI-izvori'!G268+' PRIHODI I RASHODI-izvori'!G461+' PRIHODI I RASHODI-izvori'!G500+' PRIHODI I RASHODI-izvori'!G530+' PRIHODI I RASHODI-izvori'!G553 -> 19322.33 | G84: =' PRIHODI I RASHODI-izvori'!H22+' PRIHODI I RASHODI-izvori'!H127+' PRIHODI I RASHODI-izvori'!H268+' PRIHODI I RASHODI-izvori'!H461+' PRIHODI I RASHODI-izvori'!H500+' PRIHODI I RASHODI-izvori'!H530+' PRIHODI I RASHODI-izvori'!H553 -> 19322.33 | H84: =' PRIHODI I RASHODI-izvori'!I22+' PRIHODI I RASHODI-izvori'!I127+' PRIHODI I RASHODI-izvori'!I268+' PRIHODI I RASHODI-izvori'!I461+' PRIHODI I RASHODI-izvori'!I500+' PRIHODI I RASHODI-izvori'!I530+' PRIHODI I RASHODI-izvori'!I553 -> 16209.96
B85: 32113 | C85: Naknade za smještaj na službenom putu u zemlji | D85: =' PRIHODI I RASHODI-izvori'!E269+' PRIHODI I RASHODI-izvori'!E462+' PRIHODI I RASHODI-izvori'!E128 -> #REF! | E85: =' PRIHODI I RASHODI-izvori'!F269+' PRIHODI I RASHODI-izvori'!F462+' PRIHODI I RASHODI-izvori'!F128 -> #REF! | F85: =' PRIHODI I RASHODI-izvori'!G128+' PRIHODI I RASHODI-izvori'!G269+' PRIHODI I RASHODI-izvori'!G462+' PRIHODI I RASHODI-izvori'!G531 -> 7600 | G85: =' PRIHODI I RASHODI-izvori'!H128+' PRIHODI I RASHODI-izvori'!H269+' PRIHODI I RASHODI-izvori'!H462+' PRIHODI I RASHODI-izvori'!H531 -> 7200 | H85: =' PRIHODI I RASHODI-izvori'!I128+' PRIHODI I RASHODI-izvori'!I269+' PRIHODI I RASHODI-izvori'!I462+' PRIHODI I RASHODI-izvori'!I531 -> 7400
B86: 32115 | C86: Naknade za prijevoz na službenom putu u zemlji | D86: =' PRIHODI I RASHODI-izvori'!E270+' PRIHODI I RASHODI-izvori'!E129+' PRIHODI I RASHODI-izvori'!E554+' PRIHODI I RASHODI-izvori'!E463 -> #REF! | E86: =' PRIHODI I RASHODI-izvori'!F270+' PRIHODI I RASHODI-izvori'!F129+' PRIHODI I RASHODI-izvori'!F554+' PRIHODI I RASHODI-izvori'!F463 -> #REF! | F86: =' PRIHODI I RASHODI-izvori'!G129+' PRIHODI I RASHODI-izvori'!G270+' PRIHODI I RASHODI-izvori'!G463+' PRIHODI I RASHODI-izvori'!G532+' PRIHODI I RASHODI-izvori'!G554 -> 4863.61 | G86: =' PRIHODI I RASHODI-izvori'!H129+' PRIHODI I RASHODI-izvori'!H270+' PRIHODI I RASHODI-izvori'!H463+' PRIHODI I RASHODI-izvori'!H532+' PRIHODI I RASHODI-izvori'!H554 -> 4663.61 | H86: =' PRIHODI I RASHODI-izvori'!I129+' PRIHODI I RASHODI-izvori'!I270+' PRIHODI I RASHODI-izvori'!I463+' PRIHODI I RASHODI-izvori'!I532+' PRIHODI I RASHODI-izvori'!I554 -> 4863.61
B87: 32119 | C87: Ostali rashodi za sl. putovanje (cestarine, trošak parkiranja) | D87: =' PRIHODI I RASHODI-izvori'!E271+' PRIHODI I RASHODI-izvori'!E130+' PRIHODI I RASHODI-izvori'!E23 -> 0 | E87: =' PRIHODI I RASHODI-izvori'!F271+' PRIHODI I RASHODI-izvori'!F130+' PRIHODI I RASHODI-izvori'!F23 -> 0 | F87: =' PRIHODI I RASHODI-izvori'!G23+' PRIHODI I RASHODI-izvori'!G130+' PRIHODI I RASHODI-izvori'!G271 -> 1150 | G87: =' PRIHODI I RASHODI-izvori'!H23+' PRIHODI I RASHODI-izvori'!H130+' PRIHODI I RASHODI-izvori'!H271 -> 1190 | H87: =' PRIHODI I RASHODI-izvori'!I23+' PRIHODI I RASHODI-izvori'!I130+' PRIHODI I RASHODI-izvori'!I271 -> 1230
B88: 3212 | C88: Naknade za prijevoz, odvojeni život | D88: =SUM(D89:D90) -> #REF! | E88: =SUM(E89:E90) -> #REF! | F88: =SUM(F89:F90) -> 383293.98 | G88: =SUM(G89:G90) -> 390331.86 | H88: =SUM(H89:H90) -> 393601.21
B89: 32121 | C89: Naknade za prijevoz | D89: =' PRIHODI I RASHODI-izvori'!E273+' PRIHODI I RASHODI-izvori'!E132+' PRIHODI I RASHODI-izvori'!E465 -> #REF! | E89: =' PRIHODI I RASHODI-izvori'!F273+' PRIHODI I RASHODI-izvori'!F132+' PRIHODI I RASHODI-izvori'!F465 -> #REF! | F89: =' PRIHODI I RASHODI-izvori'!G132+' PRIHODI I RASHODI-izvori'!G273+' PRIHODI I RASHODI-izvori'!G465+' PRIHODI I RASHODI-izvori'!G534 -> 379293.98 | G89: =' PRIHODI I RASHODI-izvori'!H132+' PRIHODI I RASHODI-izvori'!H273+' PRIHODI I RASHODI-izvori'!H465+' PRIHODI I RASHODI-izvori'!H534 -> 386331.86 | H89: =' PRIHODI I RASHODI-izvori'!I132+' PRIHODI I RASHODI-izvori'!I273+' PRIHODI I RASHODI-izvori'!I465+' PRIHODI I RASHODI-izvori'!I534 -> 389601.21
B90: 32123 | C90: Naknada za odvojeni život | D90: =' PRIHODI I RASHODI-izvori'!E133 -> 0 | E90: =' PRIHODI I RASHODI-izvori'!F133 -> 0 | F90: =' PRIHODI I RASHODI-izvori'!G133 -> 4000 | G90: =' PRIHODI I RASHODI-izvori'!H133 -> 4000 | H90: =' PRIHODI I RASHODI-izvori'!I133 -> 4000
B91: 3213 | C91: Stručno usavršavanje zaposlenih | D91: =SUM(D92:D93) -> #REF! | E91: =SUM(E92:E93) -> #REF! | F91: =SUM(F92:F93) -> 23742.67 | G91: =SUM(G92:G93) -> 23370.34 | H91: =SUM(H92:H93) -> 22586.3
B92: 32131 | C92: Seminari, savjetovanja i simpoziji | D92: =' PRIHODI I RASHODI-izvori'!E275+' PRIHODI I RASHODI-izvori'!E135+' PRIHODI I RASHODI-izvori'!E25+' PRIHODI I RASHODI-izvori'!#REF! -> #REF! | E92: =' PRIHODI I RASHODI-izvori'!F275+' PRIHODI I RASHODI-izvori'!F135+' PRIHODI I RASHODI-izvori'!F25+' PRIHODI I RASHODI-izvori'!#REF! -> #REF! | F92: =' PRIHODI I RASHODI-izvori'!G25+' PRIHODI I RASHODI-izvori'!G135+' PRIHODI I RASHODI-izvori'!G275+' PRIHODI I RASHODI-izvori'!G502 -> 13100 | G92: =' PRIHODI I RASHODI-izvori'!H25+' PRIHODI I RASHODI-izvori'!H135+' PRIHODI I RASHODI-izvori'!H275+' PRIHODI I RASHODI-izvori'!H502 -> 13505.69 | H92: =' PRIHODI I RASHODI-izvori'!I25+' PRIHODI I RASHODI-izvori'!I135+' PRIHODI I RASHODI-izvori'!I275+' PRIHODI I RASHODI-izvori'!I502 -> 13980.69
B93: 32132 | C93: Tečajevi i stručni ispiti | D93: =' PRIHODI I RASHODI-izvori'!E276+' PRIHODI I RASHODI-izvori'!E136+' PRIHODI I RASHODI-izvori'!E467 -> #REF! | E93: =' PRIHODI I RASHODI-izvori'!F276+' PRIHODI I RASHODI-izvori'!F136+' PRIHODI I RASHODI-izvori'!F467 -> #REF! | F93: =' PRIHODI I RASHODI-izvori'!G136+' PRIHODI I RASHODI-izvori'!G276+' PRIHODI I RASHODI-izvori'!G467+' PRIHODI I RASHODI-izvori'!G536 -> 10642.67 | G93: =' PRIHODI I RASHODI-izvori'!H136+' PRIHODI I RASHODI-izvori'!H276+' PRIHODI I RASHODI-izvori'!H467+' PRIHODI I RASHODI-izvori'!H536 -> 9864.65 | H93: =' PRIHODI I RASHODI-izvori'!I136+' PRIHODI I RASHODI-izvori'!I276+' PRIHODI I RASHODI-izvori'!I467+' PRIHODI I RASHODI-izvori'!I536 -> 8605.61
B94: 3214 | C94: Ostale naknade troškova zaposlenima | D94: =D95 -> 0 | E94: =E95 -> 0 | F94: =F95 -> 200 | G94: =G95 -> 200 | H94: =H95 -> 200
B95: 32141 | C95: Naknada za korištenje privatnog automobila u službene svrhe | D95: =' PRIHODI I RASHODI-izvori'!E278 -> 0 | E95: =' PRIHODI I RASHODI-izvori'!F278 -> 0 | F95: =' PRIHODI I RASHODI-izvori'!G278 -> 200 | G95: =' PRIHODI I RASHODI-izvori'!H278 -> 200 | H95: =' PRIHODI I RASHODI-izvori'!I278 -> 200
B96: 322 | C96: Rashodi za materijal i energiju | D96: =D97+D104+D110+D115+D120+D123 -> #REF! | E96: =E97+E104+E110+E115+E120+E123 -> #REF! | F96: =F97+F104+F110+F115+F120+F123 -> 3476735.5 | G96: =G97+G104+G110+G115+G120+G123 -> 3523632.4 | H96: =H97+H104+H110+H115+H120+H123 -> 3571537
B97: 3221 | C97: Uredski materijal i ostali materijalni rashodi | D97: =SUM(D98:D103) -> #REF! | E97: =SUM(E98:E103) -> #REF! | F97: =SUM(F98:F103) -> 138033.03 | G97: =SUM(G98:G103) -> 145150 | H97: =SUM(H98:H103) -> 155250
B98: 32211 | C98: Uredski materijal | D98: =' PRIHODI I RASHODI-izvori'!E281+' PRIHODI I RASHODI-izvori'!E140+' PRIHODI I RASHODI-izvori'!E28+' PRIHODI I RASHODI-izvori'!E470 -> #REF! | E98: =' PRIHODI I RASHODI-izvori'!F281+' PRIHODI I RASHODI-izvori'!F140+' PRIHODI I RASHODI-izvori'!F28+' PRIHODI I RASHODI-izvori'!F470 -> #REF! | F98: =' PRIHODI I RASHODI-izvori'!G281+' PRIHODI I RASHODI-izvori'!G140+' PRIHODI I RASHODI-izvori'!G28+' PRIHODI I RASHODI-izvori'!G470 -> 49833.03 | G98: =' PRIHODI I RASHODI-izvori'!H281+' PRIHODI I RASHODI-izvori'!H140+' PRIHODI I RASHODI-izvori'!H28+' PRIHODI I RASHODI-izvori'!H470 -> 53000 | H98: =' PRIHODI I RASHODI-izvori'!I281+' PRIHODI I RASHODI-izvori'!I140+' PRIHODI I RASHODI-izvori'!I28+' PRIHODI I RASHODI-izvori'!I470 -> 57850
B99: 32212 | C99: Literatura | D99: =' PRIHODI I RASHODI-izvori'!E282 -> 0 | E99: =' PRIHODI I RASHODI-izvori'!F282 -> 0 | F99: =' PRIHODI I RASHODI-izvori'!G282 -> 1500 | G99: =' PRIHODI I RASHODI-izvori'!H282 -> 1650 | H99: =' PRIHODI I RASHODI-izvori'!I282 -> 1800
B100: 32214 | C100: Materijal i sredstva za čišćenje i održavanje | D100: =' PRIHODI I RASHODI-izvori'!E283+' PRIHODI I RASHODI-izvori'!E29 -> #REF! | E100: =' PRIHODI I RASHODI-izvori'!F283+' PRIHODI I RASHODI-izvori'!F29 -> #REF! | F100: =' PRIHODI I RASHODI-izvori'!G283+' PRIHODI I RASHODI-izvori'!G29 -> 58500 | G100: =' PRIHODI I RASHODI-izvori'!H283+' PRIHODI I RASHODI-izvori'!H29 -> 61000 | H100: =' PRIHODI I RASHODI-izvori'!I283+' PRIHODI I RASHODI-izvori'!I29 -> 63500
B101: 32215 | C101: Službena, radna i zaštitna odjeća | D101: =' PRIHODI I RASHODI-izvori'!E284 -> 0 | E101: =' PRIHODI I RASHODI-izvori'!F284 -> 0 | F101: =' PRIHODI I RASHODI-izvori'!G284 -> 500 | G101: =' PRIHODI I RASHODI-izvori'!H284 -> 700 | H101: =' PRIHODI I RASHODI-izvori'!I284 -> 900
B102: 32216 | C102: Materijal za higijenske potrebe i njegu | D102: =' PRIHODI I RASHODI-izvori'!E285 -> 0 | E102: =' PRIHODI I RASHODI-izvori'!F285 -> 0 | F102: =' PRIHODI I RASHODI-izvori'!G285 -> 25000 | G102: =' PRIHODI I RASHODI-izvori'!H285 -> 27000 | H102: =' PRIHODI I RASHODI-izvori'!I285 -> 29000
B103: 32219 | C103: Ostali materijal za potrebe redovnog poslovanja | D103: =' PRIHODI I RASHODI-izvori'!E286+' PRIHODI I RASHODI-izvori'!E471 -> 0 | E103: =' PRIHODI I RASHODI-izvori'!F286+' PRIHODI I RASHODI-izvori'!F471 -> 0 | F103: =' PRIHODI I RASHODI-izvori'!G286+' PRIHODI I RASHODI-izvori'!G471 -> 2700 | G103: =' PRIHODI I RASHODI-izvori'!H286+' PRIHODI I RASHODI-izvori'!H471 -> 1800 | H103: =' PRIHODI I RASHODI-izvori'!I286+' PRIHODI I RASHODI-izvori'!I471 -> 2200
B104: 3222 | C104: Materijal i sirovine | D104: =SUM(D105:D109) -> #REF! | E104: =SUM(E105:E109) -> #REF! | F104: =SUM(F105:F109) -> 2956455 | G104: =SUM(G105:G109) -> 2982990.3 | H104: =SUM(H105:H109) -> 3006994.9
B105: 32221 | C105: Potrošni medicinski materijal | D105: =' PRIHODI I RASHODI-izvori'!E288+' PRIHODI I RASHODI-izvori'!E142+' PRIHODI I RASHODI-izvori'!E31 -> #REF! | E105: =' PRIHODI I RASHODI-izvori'!F288+' PRIHODI I RASHODI-izvori'!F142+' PRIHODI I RASHODI-izvori'!F31 -> #REF! | F105: =' PRIHODI I RASHODI-izvori'!G288+' PRIHODI I RASHODI-izvori'!G142+' PRIHODI I RASHODI-izvori'!G31 -> 0 | G105: =' PRIHODI I RASHODI-izvori'!H288+' PRIHODI I RASHODI-izvori'!H142+' PRIHODI I RASHODI-izvori'!H31 -> 0 | H105: =' PRIHODI I RASHODI-izvori'!I288+' PRIHODI I RASHODI-izvori'!I142+' PRIHODI I RASHODI-izvori'!I31 -> 0
...

Sheet Prihodi po ek klas i izvorima
A1: I. OPĆI DIO
A2: A. RAČUN PRIHODA
A3: PRIHODI PREMA EKONOMSKOJ KLASIFIKACIJI I IZVORIMA FINANCIRANJA
A5: PRIHODI POSLOVANJA
A6: Razred | B6: Skupina/podskupina/odjeljak | C6: Izvor | D6: Naziv | E6: IZVRŠENJE 2024. | F6: TEKUĆI PLAN ZA 2025. | G6: PLAN ZA 2026. | H6: PROJEKCIJA ZA 2027. | I6: PROJEKCIJA ZA 2028.
A7: 1 | G7: 2 | H7: 3 | I7: 4
A8: 6 | D8: Prihodi poslovanja | E8: =E9+E17+E28+E37+E45+E49+E55+E62+E68+E98+E107 -> #REF! | F8: =F9+F17+F28+F37+F45+F49+F55+F62+F68+F98+F107 -> #REF! | G8: =G9+G17+G28+G37+G45+G49+G55+G62+G68+G85+G91+G98+G107 -> 27399696 | H8: =H9+H17+H28+H37+H45+H49+H55+H62+H68+H85+H91+H98+H107 -> 28076192 | I8: =I9+I17+I28+I37+I45+I49+I55+I62+I68+I85+I91+I98+I107 -> 28547128
B9: 67 | D9: Prihodi iz nadležnog proračuna i od HZZO-a temeljem ugovornih obveza | E9: =E10 -> #REF! | F9: =F10 -> #REF! | G9: =G10 -> 1250606 | H9: =H10 -> 1250606 | I9: =I10 -> 1250606
B10: 671 | D10: Prihodi iz nadležnog proračuna za financiranje redovne djelatnosti proračunskih korisnika | E10: =SUM(E11,#REF!) -> #REF! | F10: =SUM(F11,#REF!) -> #REF! | G10: =G11+G13 -> 1250606 | H10: =H11+H13 -> 1250606 | I10: =I11+I13 -> 1250606
B11: 6711 | D11: Prihodi iz nadležnog proračuna za financiranje rashoda poslovanja | E11: =E12 -> 0 | F11: =F12 -> 0 | G11: =G12 -> 481103.03 | H11: =H12 -> 481103.03 | I11: =I12 -> 481103.03
B12: 67111 | D12: Prihodi iz nadležnog proračuna za financiranje rashoda poslovanja | E12: 0 | F12: 0 | G12: 481103.03 | H12: 481103.03 | I12: 481103.03
B13: 6712 | D13: Prihodi iz nadležnog proračuna za nabavu nefinancijske imovine | E13: =E14 -> 0 | F13: =F14 -> 0 | G13: =G14 -> 769502.99 | H13: =H14 -> 769502.99 | I13: =I14 -> 769502.99
B14: 67121 | D14: Prihodi iz nadležnog proračuna za nabavu nefinancijske imovine | E14: 0 | F14: 0 | G14: 769502.99 | H14: 769502.99 | I14: 769502.99
C15: 11 | D15: Opći prihodi i primici | E15: =E9 -> #REF! | F15: =F9 -> #REF! | G15: =G9 -> 1250606 | H15: =H9 -> 1250606 | I15: =I9 -> 1250606
C16: 1 | D16: OPĆI PRIHODI I PRIMICI | G16: =G15 -> 1250606 | H16: =H15 -> 1250606 | I16: =I15 -> 1250606
B17: 64 | D17: Prihodi od imovine | E17: =SUM(E18,E25) -> 0 | F17: =SUM(F18,F25) -> 0 | G17: =SUM(G18,G25) -> 1000 | H17: =SUM(H18,H25) -> 1404 | I17: =SUM(I18,I25) -> 1408.08
B18: 641 | D18: Prihodi od financijske imovine | E18: =SUM(E19,E21,E23) -> 0 | F18: =SUM(F19,F21,F23) -> 0 | G18: =SUM(G19,G21,G23) -> 600 | H18: =SUM(H19,H21,H23) -> 804 | I18: =SUM(I19,I21,I23) -> 808.08
B19: 6413 | D19: Kamate na oročena srredstva i depozite po viđenju | E19: =SUM(E20) -> 0 | F19: =SUM(F20) -> 0 | G19: =SUM(G20) -> 550 | H19: =SUM(H20) -> 754 | I19: =SUM(I20) -> 758.08
B20: 64132 | D20: Kamate na oročena sredstva i depozite po viđenju | E20: 0 | F20: 0 | G20: =200+150+200 -> 550 | H20: =400+150+204 -> 754 | I20: =400+150+208.08 -> 758.08
B21: 6414 | D21: Prihodi od zateznih kamata | E21: =E22 -> 0 | F21: =F22 -> 0 | G21: =G22 -> 50 | H21: =H22 -> 50 | I21: =I22 -> 50
B22: 64143 | D22: Prihodi od zateznih kamata | E22: 0 | G22: 50 | H22: 50 | I22: 50
B23: 6419 | D23: Ostali prihodi od financijske imovine | E23: =E24 -> 0 | F23: =F24 -> 0 | G23: =G24 -> 0 | H23: =H24 -> 0 | I23: =I24 -> 0
B24: 64199 | D24: Ostali prihodi od financijske imovine | G24: 0 | H24: 0 | I24: 0
B25: 642 | D25: Prihodi od nefinancijske imovine | E25: =E26 -> 0 | F25: =F26 -> 0 | G25: =G26 -> 400 | H25: =H26 -> 600 | I25: =I26 -> 600
B26: 6429 | D26: Ostali prihodi od nefinancijske imovine | E26: =E27 -> 0 | F26: =F27 -> 0 | G26: =G27 -> 400 | H26: =H27 -> 600 | I26: =I27 -> 600
B27: 64299 | D27: Ostali prihodi od nefinancijske imovine | G27: 400 | H27: 600 | I27: 600
B28: 66 | D28: Prihodi od prodaje proizvoda i robe te pruženih usluga i prihodi od donacija | E28: =SUM(E29) -> 0 | F28: =SUM(F29) -> 0 | G28: =SUM(G29) -> 3643116.3 | H28: =SUM(H29) -> 3683716.3 | I28: =SUM(I29) -> 3714928.3
B29: 661 | D29: Prihodi od prodaje proizvoda i robe te pruženih usluga | E29: =SUM(E30,E33) -> 0 | F29: =SUM(F30,F33) -> 0 | G29: =SUM(G30,G33) -> 3643116.3 | H29: =SUM(H30,H33) -> 3683716.3 | I29: =SUM(I30,I33) -> 3714928.3
B30: 6614 | D30: Prihod od prodaje proizvoda i usluga | E30: =E31+E32 -> 0 | F30: =F31+F32 -> 0 | G30: =G31+G32 -> 2625000 | H30: =H31+H32 -> 2656000 | I30: =I31+I32 -> 2677000
B31: 66141 | D31: Prihodi od prodaje proizvoda i robe - ljekarne | E31: 0 | F31: 0 | G31: 25000 | H31: 26000 | I31: 27000
B32: 66142 | D32: Prihodi od prodaje robe | G32: =1000000+1600000 -> 2600000 | H32: =1020000+1610000 -> 2630000 | I32: =1040000+1610000 -> 2650000
B33: 6615 | D33: Prihodi od pruženih usluga | E33: =SUM(E34:E36) -> 0 | F33: =SUM(F34:F36) -> 0 | G33: =SUM(G34:G36) -> 1018116.3 | H33: =SUM(H34:H36) -> 1027716.3 | I33: =SUM(I34:I36) -> 1037928.3
B34: 66151 | D34: Prihodi od pruženih usluga | E34: 0 | F34: 0 | G34: =350000+163116.33+500000 -> 1013116.3 | H34: =350000+163116.33+509000 -> 1022116.3 | I34: =350000+163116.33+518000 -> 1031116.3
B35: 66153 | D35: Prihodi za udio troškova u zakupu | E35: 0 | F35: 0
B36: 66157 | D36: Prihod od usluga ref. dežurstva specijalizanti | E36: 0 | F36: 0 | G36: 5000 | H36: 5600 | I36: 6812
B37: 68 | D37: Kazne, upravne mjere i ostali prihodi | E37: =SUM(E38) -> 0 | F37: =SUM(F38) -> 0 | G37: =SUM(G38) -> 161000 | H37: =SUM(H38) -> 166620 | I37: =SUM(I38) -> 167252.4
B38: 683 | D38: Ostali prihodi | E38: =SUM(E39) -> 0 | F38: =SUM(F39) -> 0 | G38: =SUM(G39) -> 161000 | H38: =SUM(H39) -> 166620 | I38: =SUM(I39) -> 167252.4
B39: 6831 | D39: Ostali prihodi | E39: =E40+E41+E42 -> 0 | F39: =F40+F41+F42 -> 0 | G39: =G40+G41+G42 -> 161000 | H39: =H40+H41+H42 -> 166620 | I39: =I40+I41+I42 -> 167252.4
B40: 68311 | D40: Ostali prihodi | E40: 0 | F40: 0 | G40: =3000+130000 -> 133000 | H40: =3000+135000 -> 138000 | I40: =3000+135000 -> 138000
B41: 68312 | D41: Ostali prihodi-od inventurnih viškova | E41: 0 | F41: 0 | G41: 3000 | H41: 3000 | I41: 3000
B42: 68313 | D42: Ostali prihodi od veleprodajnih i akcijskih rabata | E42: 0 | F42: 0 | G42: 25000 | H42: 25620 | I42: 26252.4
C43: 31 | D43: Vlastiti prihodi | E43: =E17+E28+E37 -> 0 | F43: =F17+F28+F37 -> 0 | G43: =G17+G28+G37 -> 3805116.3 | H43: =H17+H28+H37 -> 3851740.3 | I43: =I17+I28+I37 -> 3883588.8
C44: 3 | D44: VLASTITI PRIHODI | G44: =G43 -> 3805116.3 | H44: =H43 -> 3851740.3 | I44: =I43 -> 3883588.8
B45: 64 | D45: Prihodi od imovine | E45: =SUM(E46) -> 0 | F45: =SUM(F46) -> 0 | G45: =SUM(G46) -> 100000 | H45: =SUM(H46) -> 102000 | I45: =SUM(I46) -> 104040
B46: 641 | D46: Prihodi od financijske imovine | E46: =SUM(E47:E47) -> 0 | F46: =SUM(F47:F47) -> 0 | G46: =SUM(G47:G47) -> 100000 | H46: =SUM(H47:H47) -> 102000 | I46: =SUM(I47:I47) -> 104040
B47: 6419 | D47: Ostali prihodi od financijske imovine | E47: =E48 -> 0 | F47: =F48 -> 0 | G47: =G48 -> 100000 | H47: =H48 -> 102000 | I47: =I48 -> 104040
B48: 64199 | D48: Ostali prihodi od financijske imovine | G48: 100000 | H48: 102000 | I48: 104040
B49: 65 | D49: Prihodi od upravnih i administrativnih pristojbi, pristojbi po posebnim propisima i naknada | E49: =SUM(E50) -> 0 | F49: =SUM(F50) -> 0 | G49: =SUM(G50) -> 932300 | H49: =SUM(H50) -> 960895 | I49: =SUM(I50) -> 971559.4
B50: 652 | D50: Prihodi po posebnim propisima | E50: =SUM(E51) -> 0 | F50: =SUM(F51) -> 0 | G50: =SUM(G51) -> 932300 | H50: =SUM(H51) -> 960895 | I50: =SUM(I51) -> 971559.4
B51: 6526 | D51: Ostali nespomenuti prihodi (participacija) | E51: =SUM(E52:E54) -> 0 | F51: =SUM(F52:F54) -> 0 | G51: =SUM(G52:G54) -> 932300 | H51: =SUM(H52:H54) -> 960895 | I51: =SUM(I52:I54) -> 971559.4
B52: 65264 | D52: Sufinanciranje cijene usluge, participacija | E52: 0 | F52: 0 | G52: =497800+55000+350000 -> 902800 | H52: =515000+57500+356520 -> 929020 | I52: =515000+60000+363190.4 -> 938190.4
B53: 65267 | D53: Prihodi od osiguranja i refundacije štete | G53: 1000 | H53: 1000 | I53: 1000
B54: 65269 | D54: Refundacija plaća specijalizanata | E54: 0 | F54: 0 | G54: =25000+3500 -> 28500 | H54: =26000+4875 -> 30875 | I54: =27000+5369 -> 32369
B55: 67 | D55: Prihodi iz nadležnog proračuna i od HZZO-a temeljem ugovornih obveza | E55: =SUM(E56,E59) -> 0 | F55: =SUM(F56,F59) -> 0 | G55: =SUM(G56,G59) -> 20119750 | H55: =SUM(H56,H59) -> 20847031 | I55: =SUM(I56,I59) -> 21326581
B56: 671 | D56: Prihodi iz nadležnog proračuna za financiranje redovne djelatnosti proračunskih korisnika | E56: =SUM(E57:E58) -> 0 | F56: =SUM(F57:F58) -> 0 | G56: =SUM(G57:G58) -> 0 | H56: =SUM(H57:H58) -> 0 | I56: =SUM(I57:I58) -> 0
B57: 6711 | D57: Prihodi iz nadležnog proračuna za financiranje rashoda poslovanja | E57: 0 | F57: 0 | G57: 0 | H57: 0 | I57: 0
B58: 6712 | D58: Prihodi iz nadležnog proračuna za nabavu nefinancijske imovine | E58: 0 | F58: 0 | G58: 0 | H58: 0 | I58: 0
B59: 673 | D59: Prihodi od HZZO-a temeljem ugovora | E59: =SUM(E60) -> 0 | F59: =SUM(F60) -> 0 | G59: =SUM(G60) -> 20119750 | H59: =SUM(H60) -> 20847031 | I59: =SUM(I60) -> 21326581
B60: 6731 | D60: Prihodi od HZZO-a temeljem ugovora | E60: =SUM(E61) -> 0 | F60: =SUM(F61) -> 0 | G60: =SUM(G61) -> 20119750 | H60: =SUM(H61) -> 20847031 | I60: =SUM(I61) -> 21326581
B61: 67311 | D61: Prihodi od HZZO-a temeljem ugovora | E61: 0 | F61: 0 | G61: =8100663+4599086.9+7420000 -> 20119750 | H61: =8141363+5137268.35+7568400 -> 20847031 | I61: =8201363+5405449.8+7719768 -> 21326581
B62: 68 | D62: Kazne, upravne mjere i ostali prihodi | E62: =SUM(E63) -> 0 | F62: =SUM(F63) -> 0 | G62: =SUM(G63) -> 3000 | H62: =SUM(H63) -> 3000 | I62: =SUM(I63) -> 3000
B63: 683 | D63: Ostali prihodi | E63: =SUM(E64) -> 0 | F63: =SUM(F64) -> 0 | G63: =SUM(G64) -> 3000 | H63: =SUM(H64) -> 3000 | I63: =SUM(I64) -> 3000
B64: 6831 | D64: Ostali prihodi | E64: =SUM(E65) -> 0 | F64: =SUM(F65) -> 0 | G64: =SUM(G65) -> 3000 | H64: =SUM(H65) -> 3000 | I64: =SUM(I65) -> 3000
B65: 68311 | D65: Ostali prihodi | E65: 0 | F65: 0 | G65: 3000 | H65: 3000 | I65: 3000
C66: 43 | D66: Ostali prihodi za posebne namjene | E66: =SUM(E45,E49,E55,E62) -> 0 | F66: =SUM(F45,F49,F55,F62) -> 0 | G66: =SUM(G45,G49,G55,G62) -> 21155050 | H66: =SUM(H45,H49,H55,H62) -> 21912926 | I66: =SUM(I45,I49,I55,I62) -> 22405180
C67: 4 | D67: PRIHODI ZA POSEBNE NAMJENE | G67: =G66 -> 21155050 | H67: =H66 -> 21912926 | I67: =I66 -> 22405180
B68: 63 | D68: Pomoći iz inozemstva i od subjekata unutar općeg proračuna | E68: =SUM(E69,E73,E76,E92,E81) -> #REF! | F68: =SUM(F69,F73,F76,F92,F81) -> #REF! | G68: =SUM(G69,G73,G76,G81) -> 582814.61 | H68: =SUM(H69,H73,H76,H81) -> 568814.61 | I68: =SUM(I69,I73,I76,I81) -> 568814.61
B69: 633 | D69: Pomoći proračunu iz drugih proračuna | E69: =E70 -> 0 | F69: =F70 -> 0 | G69: =G70 -> 500 | H69: =H70 -> 500 | I69: =I70 -> 500
B70: 6331 | D70: Tekuće pomoći proračunu iz drugih proračuna | E70: =E71 -> 0 | F70: =F71 -> 0 | G70: =G71 -> 500 | H70: =H71 -> 500 | I70: =I71 -> 500
B71: 63313 | D71: Tekuće potpore iz gradskog proračuna | E71: 0 | G71: 500 | H71: 500 | I71: 500
B72: 6332 | D72: Kapitalne pomoći proračunu iz drugih proračuna
B73: 634 | D73: Pomoći od izvanproračunskih korisnika | E73: =SUM(E74) -> 0 | F73: =SUM(F74) -> 0 | G73: =SUM(G74) -> 68314.61 | H73: =SUM(H74) -> 68314.61 | I73: =SUM(I74) -> 68314.61
B74: 6341 | D74: Tekuće pomoći od HZZ-a, HZZO-a | E74: =SUM(E75) -> 0 | F74: =SUM(F75) -> 0 | G74: =SUM(G75) -> 68314.61 | H74: =SUM(H75) -> 68314.61 | I74: =SUM(I75) -> 68314.61
B75: 63414 | D75: Tekuće pomoći od HZZ-a, HZZO-a | E75: 0 | F75: 0 | G75: 68314.61 | H75: 68314.61 | I75: 68314.61
B76: 636 | D76: Pomoći proračunskim korisnicima iz proračuna koji im nije nadležan | E76: =SUM(E77,E79) -> 0 | F76: =SUM(F77,F79) -> 0 | G76: =SUM(G77,G79) -> 14000 | H76: =SUM(H77,H79) -> 0 | I76: =SUM(I77,I79) -> 0
B77: 6361 | D77: Tekuće pomoći iz državnog proračuna proračunskim korisnicma JLP(R)S | E77: =SUM(E78) -> 0 | F77: =SUM(F78) -> 0 | G77: =SUM(G78) -> 14000 | H77: =SUM(H78) -> 0 | I77: =SUM(I78) -> 0
B78: 63612 | D78: Tekuće pomoći iz državnog proračuna proračunskim korisnicma JLP(R)S | E78: 0 | F78: 0 | G78: 14000 | H78: 0 | I78: 0
B79: 6362 | D79: Kapitalne pomoći iz državnog proračuna proračunskim korisnicima JLP(R)S | E79: =E80 -> 0 | F79: =F80 -> 0 | G79: =G80 -> 0 | H79: =H80 -> 0 | I79: =I80 -> 0
B80: 63622 | D80: Kapitalne pomoći iz državnog proračuna proračunskim korisnicima JLP(R)S | E80: 0 | F80: 0
B81: 639 | D81: Prijenosi između proračunskih korisnika istog proračuna | E81: =E82 -> 0 | F81: =F82 -> 0 | G81: =G82 -> 500000 | H81: =H82 -> 500000 | I81: =I82 -> 500000
B82: 6391 | D82: Tekući prijenosi između proračunskih korisnika istog proračuna | E82: =E83 -> 0 | F82: =F83 -> 0 | G82: =G83 -> 500000 | H82: =H83 -> 500000 | I82: =I83 -> 500000
B83: 63911 | D83: Tekući prijenosi između proračunskih korisnika istog proračuna | G83: 500000 | H83: 500000 | I83: 500000
C84: 52 | D84: Ostale pomoći | E84: =SUM(E68) -> #REF! | F84: =SUM(F68) -> #REF! | G84: =SUM(G68) -> 582814.61 | H84: =SUM(H68) -> 568814.61 | I84: =SUM(I68) -> 568814.61
B85: 63 | D85: Pomoći iz inozemstva i od subjekata unutar općeg proračuna | E85: =SUM(E86,E90,E93,E104,#REF!) -> #REF! | F85: =SUM(F86,F90,F93,F104,#REF!) -> #REF! | G85: =G86 -> 156200 | H85: =H86 -> 159324 | I85: =I86 -> 162510.48
B86: 638 | D86: Pomoć temeljem prijenosa EU sredstava | E86: =SUM(E87,E94) -> #REF! | F86: =SUM(F87,F94) -> #REF! | G86: =G87 -> 156200 | H86: =H87 -> 159324 | I86: =I87 -> 162510.48
B87: 6382 | D87: Kapitalna pomoć temeljem prijenosa EU sredstava | E87: =E88+#REF! -> #REF! | F87: =F88+#REF! -> #REF! | G87: =G88 -> 156200 | H87: =H88 -> 159324 | I87: =I88 -> 162510.48
B88: 63821 | D88: Pomoći temeljem EU prijenosa | G88: 156200 | H88: 159324 | I88: 162510.48
C89: 563 | D89: Europski fond za regionalni razvoj | G89: =G85 -> 156200 | H89: =H85 -> 159324 | I89: =I85 -> 162510.48
C90: 56 | D90: Fondovi EU | G90: =G89 -> 156200 | H90: =H89 -> 159324 | I90: =I89 -> 162510.48
B91: 63 | D91: Pomoći iz inozemstva i od subjekata unutar općeg proračuna | E91: =SUM(E92,E96,#REF!,E111,E99) -> #REF! | F91: =SUM(F92,F96,#REF!,F111,F99) -> #REF! | G91: =G92 -> 437409.22 | H91: =H92 -> 319785.88 | I91: =I92 -> 262923.4
B92: 638 | D92: Pomoć temeljem prijenosa EU sredstava | E92: =SUM(E93,#REF!) -> #REF! | F92: =SUM(F93,#REF!) -> #REF! | G92: =G93 -> 437409.22 | H92: =H93 -> 319785.88 | I92: =I93 -> 262923.4
B93: 6381 | D93: Tekuće pomoći temeljem prijenosa EU sredstava | E93: =SUM(E94:E94) -> 0 | F93: =SUM(F94:F94) -> 0 | G93: =SUM(G94:G94) -> 437409.22 | H93: =SUM(H94:H94) -> 319785.88 | I93: =SUM(I94:I94) -> 262923.4
B94: 63811 | D94: Tekuće pomoći iz državnog proračuna temeljem EU prijenosa | G94: =135000+148609.22+153800 -> 437409.22 | H94: =60000+102909.88+156876 -> 319785.88 | I94: =0+102909.88+160013.52 -> 262923.4
C95: 581 | D95: Mehanizam za oporavak i otpornost | G95: =G91 -> 437409.22 | H95: =H91 -> 319785.88 | I95: =I91 -> 262923.4
C96: 58 | D96: Instrumenti EU nove generacije | G96: =G95 -> 437409.22 | H96: =H95 -> 319785.88 | I96: =I95 -> 262923.4
C97: 5 | D97: POMOĆI | G97: =G84+G90+G96 -> 1176423.8 | H97: =H84+H90+H96 -> 1047924.5 | I97: =I84+I90+I96 -> 994248.49
B98: 66 | D98: Prihodi od prodaje proizvoda i robe te pruženih usluga i prihodi od donacija | E98: =E99 -> 0 | F98: =F99 -> 0 | G98: =G99 -> 2000 | H98: =H99 -> 2220 | I98: =I99 -> 2440.4
B99: 663 | D99: Donacije od pravnih i fizičkih osoba izvan općeg proračuna i povrat donacija po protestiranim jamstvima | E99: =SUM(E100,E103) -> 0 | F99: =SUM(F100,F103) -> 0 | G99: =SUM(G100,G103) -> 2000 | H99: =SUM(H100,H103) -> 2220 | I99: =SUM(I100,I103) -> 2440.4
B100: 6631 | D100: Tekuće donacije | E100: =SUM(E101:E102) -> 0 | F100: =SUM(F101:F102) -> 0 | G100: =SUM(G101:G102) -> 1500 | H100: =SUM(H101:H102) -> 1720 | I100: =SUM(I101:I102) -> 1940.4
B101: 66312 | D101: Tekuće donacije od neprofitnih organizacija | E101: 0 | F101: 0 | G101: 500 | H101: 520 | I101: 540.4
...

Sheet  PRIHODI I RASHODI-izvori
A1: I. OPĆI DIO
A2: A. RAČUN PRIHODA I RASHODA
A3: RASHODI PREMA EKONOMSKOJ KLASIFIKACIJI I IZVORIMA FINANCIRANJA
A5: RASHODI POSLOVANJA
A6: Razred | B6: Skupina/podskupina/odjeljak | C6: Izvor | D6: Naziv | E6: IZVRŠENJE 2024. | F6: TEKUĆI PLAN ZA 2025. | G6: PLAN ZA 2026. | H6: PROJEKCIJA ZA 2027. | I6: PROJEKCIJA ZA 2028.
A7: 1 | G7: 2 | H7: 3 | I7: 4
A8: 3 | D8: Rashodi poslovanja | E8: =E11+E241+E104+E450+E549+E579 -> #REF! | F8: =F11+F241+F104+F450+F549+F579 -> #REF! | G8: =G11+G241+G104+G450+G492+G513+G549+G579 -> 26300528 | H8: =H11+H241+H104+H450+H492+H513+H549+H579 -> 26565803 | I8: =I11+I241+I104+I450+I492+I513+I549+I579 -> 26806376
A9: 4 | D9: Rashodi za nabavu nefinancijske imovine | E9: =E69+E414+E218+E485+#REF!+E566+E591 -> #REF! | F9: =F69+F414+F218+F485+#REF!+F566+F591 -> #REF! | G9: =G69+G414+G218+G485+G566+G591 -> 854875.27 | H9: =H69+H414+H218+H485+H566+H591 -> 857825.27 | I9: =I69+I414+I218+I485+I566+I591 -> 860775.27
D10: KORIŠTENJE DEC-a SREDSTAVA ŽUPANIJE
A11: 3 | D11: Rashodi poslovanja | E11: =E12+E19 -> #REF! | F11: =F12+F19 -> #REF! | G11: =G12+G19 -> 481103.03 | H11: =H12+H19 -> 481103.03 | I11: =I12+I19 -> 481103.03
B12: 31 | D12: Rashodi za zaposlene | E12: =E13+E16 -> #REF! | F12: =F13+F16 -> #REF! | G12: =G13+G16 -> 6978.02 | H12: =H13+H16 -> 6978.02 | I12: =I13+I16 -> 6978.02
B13: 311 | D13: Plaće | E13: =SUM(E14) -> #REF! | F13: =SUM(F14) -> #REF! | G13: =SUM(G14) -> 5989.73 | H13: =SUM(H14) -> 5989.73 | I13: =SUM(I14) -> 5989.73
B14: 3111 | D14: Plaće za redovan rad | E14: =SUM(E15) -> #REF! | F14: =SUM(F15) -> #REF! | G14: =SUM(G15) -> 5989.73 | H14: =SUM(H15) -> 5989.73 | I14: =SUM(I15) -> 5989.73
B15: 31111 | D15: Plaće za redovan rad | E15: ='Rekapitulacija Posebni dio'!#REF!+'Rekapitulacija Posebni dio'!C508+'Rekapitulacija Posebni dio'!#REF! -> #REF! | F15: ='Rekapitulacija Posebni dio'!#REF!+'Rekapitulacija Posebni dio'!D508+'Rekapitulacija Posebni dio'!#REF! -> #REF! | G15: ='Rekapitulacija Posebni dio'!E508+'Rekapitulacija Posebni dio'!E527 -> 5989.73 | H15: ='Rekapitulacija Posebni dio'!F508+'Rekapitulacija Posebni dio'!F527 -> 5989.73 | I15: ='Rekapitulacija Posebni dio'!G508+'Rekapitulacija Posebni dio'!G527 -> 5989.73
B16: 313 | D16: Doprinosi na plaće | E16: =SUM(E17) -> #REF! | F16: =SUM(F17) -> #REF! | G16: =SUM(G17) -> 988.29 | H16: =SUM(H17) -> 988.29 | I16: =SUM(I17) -> 988.29
B17: 3132 | D17: Doprinosi za obvezno zdravstveno osiguranje | E17: =SUM(E18) -> #REF! | F17: =SUM(F18) -> #REF! | G17: =SUM(G18) -> 988.29 | H17: =SUM(H18) -> 988.29 | I17: =SUM(I18) -> 988.29
B18: 31321 | D18: Doprinosi za obvezno zdravstveno osiguranje | E18: ='Rekapitulacija Posebni dio'!#REF!+'Rekapitulacija Posebni dio'!#REF!+'Rekapitulacija Posebni dio'!C513+'Rekapitulacija Posebni dio'!#REF! -> #REF! | F18: ='Rekapitulacija Posebni dio'!#REF!+'Rekapitulacija Posebni dio'!#REF!+'Rekapitulacija Posebni dio'!D513+'Rekapitulacija Posebni dio'!#REF! -> #REF! | G18: ='Rekapitulacija Posebni dio'!E513+'Rekapitulacija Posebni dio'!E532 -> 988.29 | H18: ='Rekapitulacija Posebni dio'!F513+'Rekapitulacija Posebni dio'!F532 -> 988.29 | I18: ='Rekapitulacija Posebni dio'!G513+'Rekapitulacija Posebni dio'!G532 -> 988.29
B19: 32 | D19: Materijalni rashodi | E19: =E20+E26+E41+E58+E62 -> #REF! | F19: =F20+F26+F41+F58+F62 -> #REF! | G19: =G20+G26+G41+G58+G62 -> 474125.01 | H19: =H20+H26+H41+H58+H62 -> 474125.01 | I19: =I20+I26+I41+I58+I62 -> 474125.01
B20: 321 | D20: Naknade troškova zaposlenima | E20: =E21+E24 -> #REF! | F20: =F21+F24 -> #REF! | G20: =G21+G24 -> 4200 | H20: =H21+H24 -> 4200 | I20: =I21+I24 -> 4200
B21: 3211 | D21: Službena putovanja | E21: =E22+E23 -> 0 | F21: =F22+F23 -> 0 | G21: =G22+G23 -> 470 | H21: =H22+H23 -> 470 | I21: =I22+I23 -> 470
B22: 32111 | D22: Dnevnice za službeni put u zemlji | E22: ='Rekapitulacija Posebni dio'!C536 -> 0 | F22: ='Rekapitulacija Posebni dio'!D536 -> 0 | G22: ='Rekapitulacija Posebni dio'!E536 -> 400 | H22: ='Rekapitulacija Posebni dio'!F536 -> 400 | I22: ='Rekapitulacija Posebni dio'!G536 -> 400
B23: 32119 | D23: Ostali rashodi za sl. putovanje (cestarine, trošak parkiranja) | E23: ='Rekapitulacija Posebni dio'!C537 -> 0 | F23: ='Rekapitulacija Posebni dio'!D537 -> 0 | G23: ='Rekapitulacija Posebni dio'!E537 -> 70 | H23: ='Rekapitulacija Posebni dio'!F537 -> 70 | I23: ='Rekapitulacija Posebni dio'!G537 -> 70
B24: 3213 | D24: Stručno usavršavanje zaposlenih | E24: =E25 -> #REF! | F24: =F25 -> #REF! | G24: =G25 -> 3730 | H24: =H25 -> 3730 | I24: =I25 -> 3730
B25: 32131 | D25: Seminari, savjetovanja i simpoziji | E25: ='Rekapitulacija Posebni dio'!C540+'Rekapitulacija Posebni dio'!#REF! -> #REF! | F25: ='Rekapitulacija Posebni dio'!D540+'Rekapitulacija Posebni dio'!#REF! -> #REF! | G25: ='Rekapitulacija Posebni dio'!E540 -> 3730 | H25: ='Rekapitulacija Posebni dio'!F540 -> 3730 | I25: ='Rekapitulacija Posebni dio'!G540 -> 3730
B26: 322 | D26: Rashodi za materijal i energiju | E26: =E27+E30+E33+E37 -> #REF! | F26: =F27+F30+F33+F37 -> #REF! | G26: =G27+G30+G33+G37 -> 154892.1 | H26: =H27+H30+H33+H37 -> 154892.1 | I26: =I27+I30+I33+I37 -> 154892.1
B27: 3221 | D27: Uredski materijal i ostali materijalni rashodi | E27: =E28+E29 -> #REF! | F27: =F28+F29 -> #REF! | G27: =G28+G29 -> 0 | H27: =H28+H29 -> 0 | I27: =I28+I29 -> 0
B28: 32211 | D28: Uredski materijal | E28: ='Rekapitulacija Posebni dio'!#REF! -> #REF! | F28: ='Rekapitulacija Posebni dio'!#REF! -> #REF! | G28: 0 | H28: 0 | I28: 0
B29: 32214 | D29: Materijal i sredstva za čišćenje | E29: ='Rekapitulacija Posebni dio'!#REF! -> #REF! | F29: ='Rekapitulacija Posebni dio'!#REF! -> #REF! | G29: 0 | H29: 0 | I29: 0
B30: 3222 | D30: Materijal i sirovine | E30: =E31 -> #REF! | F30: =F31 -> #REF! | G30: =SUM(G31:G32) -> 150000 | H30: =SUM(H31:H32) -> 150000 | I30: =SUM(I31:I32) -> 150000
B31: 32221 | D31: Potrošni medicinski materijal | E31: ='Rekapitulacija Posebni dio'!#REF! -> #REF! | F31: ='Rekapitulacija Posebni dio'!#REF! -> #REF! | G31: 0 | H31: 0 | I31: 0
B32: 32225 | D32: Roba | G32: ='Rekapitulacija Posebni dio'!E438 -> 150000 | H32: ='Rekapitulacija Posebni dio'!F438 -> 150000 | I32: ='Rekapitulacija Posebni dio'!G438 -> 150000
B33: 3223 | D33: Energija | E33: =E34+E35+E36 -> #REF! | F33: =F34+F35+F36 -> #REF! | G33: =G34+G35+G36 -> 200 | H33: =H34+H35+H36 -> 200 | I33: =I34+I35+I36 -> 200
B34: 32231 | D34: Električna energija | E34: ='Rekapitulacija Posebni dio'!#REF! -> #REF! | F34: ='Rekapitulacija Posebni dio'!#REF! -> #REF! | G34: 0 | H34: 0 | I34: 0
B35: 32233 | D35: Plin | E35: ='Rekapitulacija Posebni dio'!#REF! -> #REF! | F35: ='Rekapitulacija Posebni dio'!#REF! -> #REF! | G35: 0 | H35: 0 | I35: 0
B36: 32234 | D36: Motorni benzin i dizel gorivo | E36: ='Rekapitulacija Posebni dio'!C543 -> 0 | F36: ='Rekapitulacija Posebni dio'!D543 -> 0 | G36: ='Rekapitulacija Posebni dio'!E543 -> 200 | H36: ='Rekapitulacija Posebni dio'!F543 -> 200 | I36: ='Rekapitulacija Posebni dio'!G543 -> 200
B37: 3224 | D37: Materijal i dijelovi za tekuće i investicijsko održavanje | E37: =SUM(E38:E40) -> #REF! | F37: =SUM(F38:F40) -> #REF! | G37: =SUM(G38:G40) -> 4692.1 | H37: =SUM(H38:H40) -> 4692.1 | I37: =SUM(I38:I40) -> 4692.1
B38: 32241 | D38: Materijal i dijelovi za tekuće i invest. održavanje građevinskih objekata | E38: ='Rekapitulacija Posebni dio'!C459+'Rekapitulacija Posebni dio'!#REF!+'Rekapitulacija Posebni dio'!#REF! -> #REF! | F38: ='Rekapitulacija Posebni dio'!D459+'Rekapitulacija Posebni dio'!#REF!+'Rekapitulacija Posebni dio'!#REF! -> #REF! | G38: ='Rekapitulacija Posebni dio'!E459 -> 4692.1 | H38: ='Rekapitulacija Posebni dio'!F459 -> 4692.1 | I38: ='Rekapitulacija Posebni dio'!G459 -> 4692.1
B39: 32242 | D39: Materijal i dijelovi za tekuće i invest. održavanje postrojenja i opreme | E39: ='Rekapitulacija Posebni dio'!#REF! -> #REF! | F39: ='Rekapitulacija Posebni dio'!#REF! -> #REF!
B40: 32244 | D40: Ostali materijal i dijelovi za tekuće i invest. održavanje | E40: ='Rekapitulacija Posebni dio'!#REF! -> #REF! | F40: ='Rekapitulacija Posebni dio'!#REF! -> #REF!
B41: 323 | D41: Rashodi za usluge | E41: =E42+E44+E49+E51+E53+E55 -> #REF! | F41: =F42+F44+F49+F51+F53+F55 -> #REF! | G41: =G42+G44+G49+G51+G53+G55 -> 297032.91 | H41: =H42+H44+H49+H51+H53+H55 -> 297032.91 | I41: =I42+I44+I49+I51+I53+I55 -> 297032.91
B42: 3231 | D42: Usluge telefona i pošte | E42: =E43 -> #REF! | F42: =F43 -> #REF! | G42: =G43 -> 0 | H42: =H43 -> 0 | I42: =I43 -> 0
B43: 32311 | D43: Usluge telefona, telefaksa | E43: ='Rekapitulacija Posebni dio'!#REF! -> #REF! | F43: ='Rekapitulacija Posebni dio'!#REF! -> #REF! | G43: 0 | H43: 0 | I43: 0
B44: 3232 | D44: Usluge tekućeg i investicijskog održavanja | E44: =SUM(E45:E48) -> #REF! | F44: =SUM(F45:F48) -> #REF! | G44: =SUM(G45:G48) -> 224043.74 | H44: =SUM(H45:H48) -> 224043.74 | I44: =SUM(I45:I48) -> 224043.74
B45: 32321 | D45: Usluge tekućeg i investicijskog održavanja građevinskih objekata | E45: ='Rekapitulacija Posebni dio'!C462+'Rekapitulacija Posebni dio'!#REF!+'Rekapitulacija Posebni dio'!#REF! -> #REF! | F45: ='Rekapitulacija Posebni dio'!D462+'Rekapitulacija Posebni dio'!#REF!+'Rekapitulacija Posebni dio'!#REF! -> #REF! | G45: ='Rekapitulacija Posebni dio'!E462 -> 224043.74 | H45: ='Rekapitulacija Posebni dio'!F462 -> 224043.74 | I45: ='Rekapitulacija Posebni dio'!G462 -> 224043.74
B46: 32322 | D46: Usluge tekućeg i investicijskog održavanja postrojenja i opreme | E46: ='Rekapitulacija Posebni dio'!C463+'Rekapitulacija Posebni dio'!#REF!+'Rekapitulacija Posebni dio'!#REF! -> #REF! | F46: ='Rekapitulacija Posebni dio'!D463+'Rekapitulacija Posebni dio'!#REF!+'Rekapitulacija Posebni dio'!#REF! -> #REF! | G46: ='Rekapitulacija Posebni dio'!E463 -> 0 | H46: ='Rekapitulacija Posebni dio'!F463 -> 0 | I46: ='Rekapitulacija Posebni dio'!G463 -> 0
B47: 32323 | D47: Usluge tekućeg i investicijskog održavanja prijevoznih sredstava | E47: ='Rekapitulacija Posebni dio'!C464+'Rekapitulacija Posebni dio'!#REF!+'Rekapitulacija Posebni dio'!#REF! -> #REF! | F47: ='Rekapitulacija Posebni dio'!D464+'Rekapitulacija Posebni dio'!#REF!+'Rekapitulacija Posebni dio'!#REF! -> #REF! | G47: ='Rekapitulacija Posebni dio'!E464 -> 0 | H47: ='Rekapitulacija Posebni dio'!F464 -> 0 | I47: ='Rekapitulacija Posebni dio'!G464 -> 0
B48: 32329 | D48: Ostale usluge tekućeg i investicijskog održavanja | E48: ='Rekapitulacija Posebni dio'!#REF! -> #REF! | F48: ='Rekapitulacija Posebni dio'!#REF! -> #REF! | G48: 0 | H48: 0 | I48: 0
B49: 3236 | D49: Zdravstvene i veterinarske usluge | E49: =E50 -> #REF! | F49: =F50 -> #REF! | G49: =G50 -> 0 | H49: =H50 -> 0 | I49: =I50 -> 0
B50: 32369 | D50: Zdravstvene i veterinarske usluge | E50: ='Rekapitulacija Posebni dio'!#REF!+'Rekapitulacija Posebni dio'!#REF! -> #REF! | F50: ='Rekapitulacija Posebni dio'!#REF!+'Rekapitulacija Posebni dio'!#REF! -> #REF! | G50: 0 | H50: 0 | I50: 0
B51: 3237 | D51: Intelektualne usluge | E51: =E52 -> #REF! | F51: =F52 -> #REF! | G51: =G52 -> 0 | H51: =H52 -> 0 | I51: =I52 -> 0
B52: 32379 | D52: Ostale intelektualne usluge | E52: ='Rekapitulacija Posebni dio'!#REF! -> #REF! | F52: ='Rekapitulacija Posebni dio'!#REF! -> #REF! | G52: 0 | H52: 0 | I52: 0
B53: 3238 | D53: Računalne usluge | E53: =SUM(E54) -> #REF! | F53: =SUM(F54) -> #REF! | G53: =SUM(G54) -> 72989.17 | H53: =SUM(H54) -> 72989.17 | I53: =SUM(I54) -> 72989.17
B54: 32381 | D54: Usluge ažuriranja računalnih baza | E54: ='Rekapitulacija Posebni dio'!C468+'Rekapitulacija Posebni dio'!#REF! -> #REF! | F54: ='Rekapitulacija Posebni dio'!D468+'Rekapitulacija Posebni dio'!#REF! -> #REF! | G54: ='Rekapitulacija Posebni dio'!E468 -> 72989.17 | H54: ='Rekapitulacija Posebni dio'!F468 -> 72989.17 | I54: ='Rekapitulacija Posebni dio'!G468 -> 72989.17
B55: 3239 | D55: Ostale usluge | E55: =E56+E57 -> #REF! | F55: =F56+F57 -> #REF! | G55: =G56+G57 -> 0 | H55: =H56+H57 -> 0 | I55: =I56+I57 -> 0
B56: 32394 | D56: Usluge pri registraciji prijevoznih sredstava | E56: ='Rekapitulacija Posebni dio'!#REF! -> #REF! | F56: ='Rekapitulacija Posebni dio'!#REF! -> #REF! | H56: 0 | I56: 0
B57: 32399 | D57: Ostale nespomenute usluge | E57: ='Rekapitulacija Posebni dio'!#REF! -> #REF! | F57: ='Rekapitulacija Posebni dio'!#REF! -> #REF! | G57: 0 | H57: 0 | I57: 0
B58: 325 | D58: Rashodi lijekova i potrošnog materijala | E58: =E59 -> #REF! | F58: =F59 -> #REF! | G58: =G59 -> 0 | H58: =H59 -> 0 | I58: =I59 -> 0
B59: 3251 | D59: Rashodi lijekova i potrošnog materijala | E59: =E60+E61 -> #REF! | F59: =F60+F61 -> #REF! | G59: =G60+G61 -> 0 | H59: =H60+H61 -> 0 | I59: =I60+I61 -> 0
B60: 32511 | D60: Rashodi po osnovi utroška lijekova | E60: ='Rekapitulacija Posebni dio'!#REF!+'Rekapitulacija Posebni dio'!#REF! -> #REF! | F60: ='Rekapitulacija Posebni dio'!#REF!+'Rekapitulacija Posebni dio'!#REF! -> #REF! | G60: 0 | H60: 0 | I60: 0
B61: 32513 | D61: Rashodi po osnovi utroška potrošnog medicinskog materijala | E61: ='Rekapitulacija Posebni dio'!#REF!+'Rekapitulacija Posebni dio'!#REF!+'Rekapitulacija Posebni dio'!#REF! -> #REF! | F61: ='Rekapitulacija Posebni dio'!#REF!+'Rekapitulacija Posebni dio'!#REF!+'Rekapitulacija Posebni dio'!#REF! -> #REF! | G61: 0 | H61: 0 | I61: 0
B62: 329 | D62: Ostali nespomenuti rashodi poslovanja | E62: =E63+E65+E67 -> #REF! | F62: =F63+F65+F67 -> #REF! | G62: =G63+G65+G67 -> 18000 | H62: =H63+H65+H67 -> 18000 | I62: =I63+I65+I67 -> 18000
B63: 3292 | D63: Premija osiguranja | E63: =E64 -> #REF! | F63: =F64 -> #REF! | G63: =G64 -> 0 | H63: =H64 -> 0 | I63: =I64 -> 0
B64: 32923 | D64: Premije osiguranja zaposlenih | E64: ='Rekapitulacija Posebni dio'!#REF! -> #REF! | F64: ='Rekapitulacija Posebni dio'!#REF! -> #REF! | G64: 0 | H64: 0 | I64: 0
B65: 3293 | D65: Reprezentacija | E65: =E66 -> #REF! | F65: =F66 -> #REF! | G65: =G66 -> 0 | H65: =H66 -> 0 | I65: =I66 -> 0
B66: 32931 | D66: Reprezentacija | E66: ='Rekapitulacija Posebni dio'!#REF! -> #REF! | F66: ='Rekapitulacija Posebni dio'!#REF! -> #REF! | G66: 0 | H66: 0 | I66: 0
B67: 3299 | D67: Ostali nespomenuti rashodi poslovanja | E67: =E68 -> #REF! | F67: =F68 -> #REF! | G67: =G68 -> 18000 | H67: =H68 -> 18000 | I67: =I68 -> 18000
B68: 32999 | D68: Ostali nespomenuti rashodi poslovanja | E68: ='Rekapitulacija Posebni dio'!#REF! -> #REF! | F68: ='Rekapitulacija Posebni dio'!#REF! -> #REF! | G68: ='Rekapitulacija Posebni dio'!E557 -> 18000 | H68: ='Rekapitulacija Posebni dio'!F557 -> 18000 | I68: ='Rekapitulacija Posebni dio'!G557 -> 18000
A69: 4 | D69: Rashodi za nabavu nefinancijske imovine | E69: =E70+E74+E98 -> #REF! | F69: =F70+F74+F98 -> #REF! | G69: =G70+G74+G98 -> 769502.99 | H69: =H70+H74+H98 -> 769502.99 | I69: =I70+I74+I98 -> 769502.99
B70: 41 | D70: Rashodi za nabavu neproizvedene dugotrajne imovine | E70: =E71 -> #REF! | F70: =F71 -> #REF! | G70: =G71 -> 1300 | H70: =H71 -> 1300 | I70: =I71 -> 1300
B71: 412 | D71: Nematerijalna imovina - licence | E71: =E72 -> #REF! | F71: =F72 -> #REF! | G71: =G72 -> 1300 | H71: =H72 -> 1300 | I71: =I72 -> 1300
B72: 4123 | D72: Nematerijalna imovina - licence | E72: =E73 -> #REF! | F72: =F73 -> #REF! | G72: =G73 -> 1300 | H72: =H73 -> 1300 | I72: =I73 -> 1300
B73: 41231 | D73: Licence | E73: ='Rekapitulacija Posebni dio'!#REF! -> #REF! | F73: ='Rekapitulacija Posebni dio'!#REF! -> #REF! | G73: ='Rekapitulacija Posebni dio'!E473 -> 1300 | H73: ='Rekapitulacija Posebni dio'!F473 -> 1300 | I73: ='Rekapitulacija Posebni dio'!G473 -> 1300
B74: 42 | D74: Rashodi za nabavu proizvedene dug. imovine | E74: =SUM(E78,E92,E95) -> #REF! | F74: =SUM(F78,F92,F95) -> #REF! | G74: =SUM(G75,G78,G92,G95) -> 592202.99 | H74: =SUM(H75,H78,H92,H95) -> 592202.99 | I74: =SUM(I75,I78,I92,I95) -> 592202.99
B75: 421 | D75: Građevinski objekti | G75: =G76 -> 3062.5 | H75: =H76 -> 3062.5 | I75: =I76 -> 3062.5
B76: 4212 | D76: Poslovni objekti | G76: =G77 -> 3062.5 | H76: =H77 -> 3062.5 | I76: =I77 -> 3062.5
B77: 42122 | D77: Bolnice, ostali zdravstveni objekti, laboratoriji, umirovljenički domovi i centri za socijalnu skrb | G77: ='Rekapitulacija Posebni dio'!E477 -> 3062.5 | H77: ='Rekapitulacija Posebni dio'!F477 -> 3062.5 | I77: ='Rekapitulacija Posebni dio'!G477 -> 3062.5
B78: 422 | D78: Postrojenja i oprema | E78: =E79+E82+E84+E86+E88 -> #REF! | F78: =F79+F82+F84+F86+F88 -> #REF! | G78: =G79+G82+G84+G86+G88+G90 -> 479140.49 | H78: =H79+H82+H84+H86+H88+H90 -> 479140.49 | I78: =I79+I82+I84+I86+I88+I90 -> 479140.49
B79: 4221 | D79: Uredska oprema i namještaj | E79: =SUM(E80:E81) -> #REF! | F79: =SUM(F80:F81) -> #REF! | G79: =SUM(G80:G81) -> 74651.66 | H79: =SUM(H80:H81) -> 74651.66 | I79: =SUM(I80:I81) -> 74651.66
B80: 42211 | D80: Računala i računalna oprema | E80: ='Rekapitulacija Posebni dio'!C480+'Rekapitulacija Posebni dio'!#REF!+'Rekapitulacija Posebni dio'!#REF! -> #REF! | F80: ='Rekapitulacija Posebni dio'!D480+'Rekapitulacija Posebni dio'!#REF!+'Rekapitulacija Posebni dio'!#REF! -> #REF! | G80: ='Rekapitulacija Posebni dio'!E480 -> 43776.66 | H80: ='Rekapitulacija Posebni dio'!F480 -> 43776.66 | I80: ='Rekapitulacija Posebni dio'!G480 -> 43776.66
B81: 42212 | D81: Uredski namještaj | E81: ='Rekapitulacija Posebni dio'!C481+'Rekapitulacija Posebni dio'!#REF!+'Rekapitulacija Posebni dio'!#REF! -> #REF! | F81: ='Rekapitulacija Posebni dio'!D481+'Rekapitulacija Posebni dio'!#REF!+'Rekapitulacija Posebni dio'!#REF! -> #REF! | G81: ='Rekapitulacija Posebni dio'!E481 -> 30875 | H81: ='Rekapitulacija Posebni dio'!F481 -> 30875 | I81: ='Rekapitulacija Posebni dio'!G481 -> 30875
B82: 4222 | D82: Komunikacijska oprema | E82: =E83 -> #REF! | F82: =F83 -> #REF! | G82: =G83 -> 61.19 | H82: =H83 -> 61.19 | I82: =I83 -> 61.19
B83: 42222 | D83: Telefoni i ostali komunikacijski uređaji | E83: ='Rekapitulacija Posebni dio'!#REF! -> #REF! | F83: ='Rekapitulacija Posebni dio'!#REF! -> #REF! | G83: ='Rekapitulacija Posebni dio'!E483 -> 61.19 | H83: ='Rekapitulacija Posebni dio'!F483 -> 61.19 | I83: ='Rekapitulacija Posebni dio'!G483 -> 61.19
B84: 4223 | D84: Oprema za održavanje i zaštitu | E84: =E85 -> #REF! | F84: =F85 -> #REF! | G84: =G85 -> 9191.75 | H84: =H85 -> 9191.75 | I84: =I85 -> 9191.75
B85: 42232 | D85: Oprema za održavanje prostorija | E85: ='Rekapitulacija Posebni dio'!C485+'Rekapitulacija Posebni dio'!#REF!+'Rekapitulacija Posebni dio'!#REF! -> #REF! | F85: ='Rekapitulacija Posebni dio'!D485+'Rekapitulacija Posebni dio'!#REF!+'Rekapitulacija Posebni dio'!#REF! -> #REF! | G85: ='Rekapitulacija Posebni dio'!E485 -> 9191.75 | H85: ='Rekapitulacija Posebni dio'!F485 -> 9191.75 | I85: ='Rekapitulacija Posebni dio'!G485 -> 9191.75
B86: 4224 | D86: Medicinska i laboratorijska oprema | E86: =SUM(E87) -> #REF! | F86: =SUM(F87) -> #REF! | G86: =SUM(G87) -> 376267.39 | H86: =SUM(H87) -> 376267.39 | I86: =SUM(I87) -> 376267.39
B87: 42241 | D87: Medicinska oprema | E87: ='Rekapitulacija Posebni dio'!C487+'Rekapitulacija Posebni dio'!#REF!+'Rekapitulacija Posebni dio'!#REF! -> #REF! | F87: ='Rekapitulacija Posebni dio'!D487+'Rekapitulacija Posebni dio'!#REF!+'Rekapitulacija Posebni dio'!#REF! -> #REF! | G87: ='Rekapitulacija Posebni dio'!E487 -> 376267.39 | H87: ='Rekapitulacija Posebni dio'!F487 -> 376267.39 | I87: ='Rekapitulacija Posebni dio'!G487 -> 376267.39
B88: 4225 | D88: Instrumenti, uređaji i strojevi | E88: =SUM(E89) -> #REF! | F88: =SUM(F89) -> #REF! | G88: =SUM(G89) -> 15000 | H88: =SUM(H89) -> 15000 | I88: =SUM(I89) -> 15000
B89: 42251 | D89: Precizni i optički instrumenti | E89: ='Rekapitulacija Posebni dio'!C489+'Rekapitulacija Posebni dio'!#REF!+'Rekapitulacija Posebni dio'!#REF! -> #REF! | F89: ='Rekapitulacija Posebni dio'!D489+'Rekapitulacija Posebni dio'!#REF!+'Rekapitulacija Posebni dio'!#REF! -> #REF! | G89: ='Rekapitulacija Posebni dio'!E489 -> 15000 | H89: ='Rekapitulacija Posebni dio'!F489 -> 15000 | I89: ='Rekapitulacija Posebni dio'!G489 -> 15000
B90: 4227 | D90: Uređaji, strojevi i oprema za ostale namjene | G90: =G91 -> 3968.5 | H90: =H91 -> 3968.5 | I90: =I91 -> 3968.5
B91: 42271 | D91: Uređaji | G91: ='Rekapitulacija Posebni dio'!E491 -> 3968.5 | H91: ='Rekapitulacija Posebni dio'!F491 -> 3968.5 | I91: ='Rekapitulacija Posebni dio'!G491 -> 3968.5
B92: 423 | D92: Prijevozna sredstva | E92: =E93 -> #REF! | F92: =F93 -> #REF! | G92: =G93 -> 108000 | H92: =H93 -> 108000 | I92: =I93 -> 108000
B93: 4231 | D93: Prijevozna sredstva u cestovnom prometu | E93: =E94 -> #REF! | F93: =F94 -> #REF! | G93: =G94 -> 108000 | H93: =H94 -> 108000 | I93: =I94 -> 108000
B94: 42311 | D94: Osobni automobili | E94: ='Rekapitulacija Posebni dio'!#REF! -> #REF! | F94: ='Rekapitulacija Posebni dio'!#REF! -> #REF! | G94: ='Rekapitulacija Posebni dio'!E494 -> 108000 | H94: ='Rekapitulacija Posebni dio'!F494 -> 108000 | I94: ='Rekapitulacija Posebni dio'!G494 -> 108000
B95: 426 | D95: Nematerijalna proizvedena imovina | E95: =E96 -> #REF! | F95: =F96 -> #REF! | G95: =G96 -> 2000 | H95: =H96 -> 2000 | I95: =I96 -> 2000
B96: 4262 | D96: Ulaganja u računalne programe | E96: =E97 -> #REF! | F96: =F97 -> #REF! | G96: =G97 -> 2000 | H96: =H97 -> 2000 | I96: =I97 -> 2000
B97: 42621 | D97: Ulaganja u računalne programe | E97: ='Rekapitulacija Posebni dio'!#REF! -> #REF! | F97: ='Rekapitulacija Posebni dio'!#REF! -> #REF! | G97: ='Rekapitulacija Posebni dio'!E497 -> 2000 | H97: ='Rekapitulacija Posebni dio'!F497 -> 2000 | I97: ='Rekapitulacija Posebni dio'!G497 -> 2000
B98: 45 | D98: Dodatna ulaganja na građevinskim objektima | E98: =E99 -> #REF! | F98: =F99 -> #REF! | G98: =G99 -> 176000 | H98: =H99 -> 176000 | I98: =I99 -> 176000
B99: 451 | D99: Građevinski objekti | E99: =SUM(E100) -> #REF! | F99: =SUM(F100) -> #REF! | G99: =SUM(G100) -> 176000 | H99: =SUM(H100) -> 176000 | I99: =SUM(I100) -> 176000
B100: 4511 | D100: Dodatna ulaganja na građevinskim objektima | E100: =SUM(E101) -> #REF! | F100: =SUM(F101) -> #REF! | G100: =SUM(G101) -> 176000 | H100: =SUM(H101) -> 176000 | I100: =SUM(I101) -> 176000
B101: 45111 | D101: Dodatna ulaganja na građevinskim objektima | E101: ='Rekapitulacija Posebni dio'!C501+'Rekapitulacija Posebni dio'!#REF!+'Rekapitulacija Posebni dio'!#REF! -> #REF! | F101: ='Rekapitulacija Posebni dio'!D501+'Rekapitulacija Posebni dio'!#REF!+'Rekapitulacija Posebni dio'!#REF! -> #REF! | G101: ='Rekapitulacija Posebni dio'!E501 -> 176000 | H101: ='Rekapitulacija Posebni dio'!F501 -> 176000 | I101: ='Rekapitulacija Posebni dio'!G501 -> 176000
...

Sheet Prih.i rash.
A1: PRIHODI I RASHODI PREMA IZVORIMA FINANCIRANJA
A3: BROJČANA OZNAKA I NAZIV | B3: IZVRŠENJE 2024. | C3: TEKUĆI PLAN ZA 2025. | D3: PLAN ZA 2026. | E3: PROJEKCIJA ZA 2027. | F3: PROJEKCIJA ZA 2028.
A4: UKUPNO PRIHODI | B4: =B5+B7+B9+B14+B20+B22 -> #REF! | C4: =C5+C7+C9+C14+C20+C22 -> #REF! | D4: =D5+D7+D9+D14+D20+D22 -> 27400996 | E4: =E5+E7+E9+E14+E20+E22 -> 28076192 | F4: =F5+F7+F9+F14+F20+F22 -> 28547128
A5: 1 Opći prihodi i primici | B5: =B6 -> #REF! | C5: =C6 -> #REF! | D5: =D6 -> 1250606 | E5: =E6 -> 1250606 | F5: =F6 -> 1250606
A6: 11 Opći prihodi i primici | B6: ='Prihodi po ek klas i izvorima'!E15 -> #REF! | C6: ='Prihodi po ek klas i izvorima'!F15 -> #REF! | D6: ='Prihodi po ek klas i izvorima'!G15 -> 1250606 | E6: ='Prihodi po ek klas i izvorima'!H15 -> 1250606 | F6: ='Prihodi po ek klas i izvorima'!I15 -> 1250606
A7: 3 Vlastiti prihodi | B7: =B8 -> 0 | C7: =C8 -> 0 | D7: =D8 -> 3805116.3 | E7: =E8 -> 3851740.3 | F7: =F8 -> 3883588.8
A8: 31 Vlastiti prihodi | B8: ='Prihodi po ek klas i izvorima'!E43 -> 0 | C8: ='Prihodi po ek klas i izvorima'!F43 -> 0 | D8: ='Prihodi po ek klas i izvorima'!G43 -> 3805116.3 | E8: ='Prihodi po ek klas i izvorima'!H43 -> 3851740.3 | F8: ='Prihodi po ek klas i izvorima'!I43 -> 3883588.8
A9: 4 Prihodi za posebne namjene | B9: =SUM(B10:B13) -> 0 | C9: =SUM(C10:C13) -> 0 | D9: =SUM(D10:D13) -> 21155050 | E9: =SUM(E10:E13) -> 21912926 | F9: =SUM(F10:F13) -> 22405180
A10: 43 Prihodi od financijske imovine | B10: ='Prihodi po ek klas i izvorima'!E45 -> 0 | C10: ='Prihodi po ek klas i izvorima'!F45 -> 0 | D10: ='Prihodi po ek klas i izvorima'!G45 -> 100000 | E10: ='Prihodi po ek klas i izvorima'!H45 -> 102000 | F10: ='Prihodi po ek klas i izvorima'!I45 -> 104040
A11: 43 Prihodi za posebne namjene (HZZO) | B11: ='Prihodi po ek klas i izvorima'!E61 -> 0 | C11: ='Prihodi po ek klas i izvorima'!F61 -> 0 | D11: ='Prihodi po ek klas i izvorima'!G61 -> 20119750 | E11: ='Prihodi po ek klas i izvorima'!H61 -> 20847031 | F11: ='Prihodi po ek klas i izvorima'!I61 -> 21326581
A12: 43 Prihodi za posebne namjene (dopunsko osiguranje, participacija,…) | B12: ='Prihodi po ek klas i izvorima'!E49 -> 0 | C12: ='Prihodi po ek klas i izvorima'!F49 -> 0 | D12: ='Prihodi po ek klas i izvorima'!G49 -> 932300 | E12: ='Prihodi po ek klas i izvorima'!H49 -> 960895 | F12: ='Prihodi po ek klas i izvorima'!I49 -> 971559.4
A13: 43 Ostali prihodi | B13: ='Prihodi po ek klas i izvorima'!E65 -> 0 | C13: ='Prihodi po ek klas i izvorima'!F65 -> 0 | D13: ='Prihodi po ek klas i izvorima'!G65 -> 3000 | E13: ='Prihodi po ek klas i izvorima'!H65 -> 3000 | F13: ='Prihodi po ek klas i izvorima'!I65 -> 3000
A14: 5 Pomoći | B14: =B15 -> #REF! | C14: =C15 -> #REF! | D14: =D15+D16+D18 -> 1176423.8 | E14: =E15+E16+E18 -> 1047924.5 | F14: =F15+F16+F18 -> 994248.49
A15: 52 Ostale pomoći | B15: ='Prihodi po ek klas i izvorima'!E84 -> #REF! | C15: ='Prihodi po ek klas i izvorima'!F84 -> #REF! | D15: ='Prihodi po ek klas i izvorima'!G69+'Prihodi po ek klas i izvorima'!G73+'Prihodi po ek klas i izvorima'!G76+'Prihodi po ek klas i izvorima'!G81 -> 582814.61 | E15: ='Prihodi po ek klas i izvorima'!H69+'Prihodi po ek klas i izvorima'!H73+'Prihodi po ek klas i izvorima'!H76+'Prihodi po ek klas i izvorima'!H81 -> 568814.61 | F15: ='Prihodi po ek klas i izvorima'!I69+'Prihodi po ek klas i izvorima'!I73+'Prihodi po ek klas i izvorima'!I76+'Prihodi po ek klas i izvorima'!I81 -> 568814.61
A16: 56 Fondovi EU | D16: =D17 -> 156200 | E16: =E17 -> 159324 | F16: =F17 -> 162510.48
A17: 563 Europski fond za regionalni razvoj | D17: ='Prihodi po ek klas i izvorima'!G89 -> 156200 | E17: ='Prihodi po ek klas i izvorima'!H89 -> 159324 | F17: ='Prihodi po ek klas i izvorima'!I89 -> 162510.48
A18: 58 Instrumenti EU nove generacije | D18: =D19 -> 437409.22 | E18: =E19 -> 319785.88 | F18: =F19 -> 262923.4
A19: 581 Mehanizam za oporavak i otpornost - bespovratna sredstva | D19: ='Prihodi po ek klas i izvorima'!G95 -> 437409.22 | E19: ='Prihodi po ek klas i izvorima'!H95 -> 319785.88 | F19: ='Prihodi po ek klas i izvorima'!I95 -> 262923.4
A20: 6 Donacije | B20: =B21 -> 0 | C20: =C21 -> 0 | D20: =D21 -> 2000 | E20: =E21 -> 2220 | F20: =F21 -> 2440.4
A21: 61 Donacije | B21: ='Prihodi po ek klas i izvorima'!E105 -> 0 | C21: ='Prihodi po ek klas i izvorima'!F105 -> 0 | D21: ='Prihodi po ek klas i izvorima'!G105 -> 2000 | E21: ='Prihodi po ek klas i izvorima'!H105 -> 2220 | F21: ='Prihodi po ek klas i izvorima'!I105 -> 2440.4
A22: 7 Prihodi od nefinancijske imovine i naknade štete s naslova osiguranja | B22: =B23 -> 0 | C22: =C23 -> 0 | D22: =D23 -> 11800 | E22: =E23 -> 10775 | F22: =F23 -> 11064
A23: 71 Prihodi od nefinancijske imovine i naknade štete s naslova osiguranja | B23: ='Prihodi po ek klas i izvorima'!E111+'Prihodi po ek klas i izvorima'!E120 -> 0 | C23: ='Prihodi po ek klas i izvorima'!F111+'Prihodi po ek klas i izvorima'!F120 -> 0 | D23: ='Prihodi po ek klas i izvorima'!G111+'Prihodi po ek klas i izvorima'!G120 -> 11800 | E23: ='Prihodi po ek klas i izvorima'!H111+'Prihodi po ek klas i izvorima'!H120 -> 10775 | F23: ='Prihodi po ek klas i izvorima'!I111+'Prihodi po ek klas i izvorima'!I120 -> 11064
A25: UKUPNO RASHODI | B25: =B26+B28+B30+B32+B38+B40 -> #REF! | C25: =C26+C28+C30+C32+C38+C40 -> #REF! | D25: =D26+D28+D30+D32+D38+D40 -> 27155403 | E25: =E26+E28+E30+E32+E38+E40 -> 27423629 | F25: =F26+F28+F30+F32+F38+F40 -> 27667152
A26: 1 Opći prihodi i primici | B26: =B27 -> #REF! | C26: =C27 -> #REF! | D26: =D27 -> 1250606 | E26: =E27 -> 1250606 | F26: =F27 -> 1250606
A27: 11 Opći prihodi i primici | B27: =' PRIHODI I RASHODI-izvori'!E102 -> #REF! | C27: =' PRIHODI I RASHODI-izvori'!F102 -> #REF! | D27: =' PRIHODI I RASHODI-izvori'!G102 -> 1250606 | E27: =' PRIHODI I RASHODI-izvori'!H102 -> 1250606 | F27: =' PRIHODI I RASHODI-izvori'!I102 -> 1250606
A28: 3 Vlastiti prihodi | B28: =B29 -> 0 | C28: =C29 -> 0 | D28: =D29 -> 3804916.3 | E28: =E29 -> 3850540.3 | F28: =F29 -> 3882388.8
A29: 31 Vlastiti prihodi | B29: =' PRIHODI I RASHODI-izvori'!E239 -> 0 | C29: =' PRIHODI I RASHODI-izvori'!F239 -> 0 | D29: =' PRIHODI I RASHODI-izvori'!G239 -> 3804916.3 | E29: =' PRIHODI I RASHODI-izvori'!H239 -> 3850540.3 | F29: =' PRIHODI I RASHODI-izvori'!I239 -> 3882388.8
A30: 4 Prihodi za posebne namjene | B30: =B31 -> 0 | C30: =C31 -> 0 | D30: =D31 -> 21410157 | E30: =E31 -> 21715388 | F30: =F31 -> 22025968
A31: 43 Prihodi za posebne namjene | B31: =' PRIHODI I RASHODI-izvori'!E448 -> 0 | C31: =' PRIHODI I RASHODI-izvori'!F448 -> 0 | D31: =' PRIHODI I RASHODI-izvori'!G448 -> 21410157 | E31: =' PRIHODI I RASHODI-izvori'!H448 -> 21715388 | F31: =' PRIHODI I RASHODI-izvori'!I448 -> 22025968
A32: 5 Pomoći | B32: =B33 -> #REF! | C32: =C33 -> #REF! | D32: =D33+D34+D36 -> 675923.83 | E32: =E33+E34+E36 -> 593123.83 | F32: =F33+F34+F36 -> 493748.49
A33: 52 Ostale pomoći | B33: =' PRIHODI I RASHODI-izvori'!E491 -> #REF! | C33: =' PRIHODI I RASHODI-izvori'!F491 -> #REF! | D33: =' PRIHODI I RASHODI-izvori'!G491 -> 82314.61 | E33: =' PRIHODI I RASHODI-izvori'!H491 -> 68314.61 | F33: =' PRIHODI I RASHODI-izvori'!I491 -> 68314.61
A34: 56 Fondovi EU | D34: =D35 -> 156200 | E34: =E35 -> 159324 | F34: =F35 -> 162510.48
A35: 563 Europski fond za regionalni razvoj | D35: =' PRIHODI I RASHODI-izvori'!G511 -> 156200 | E35: =' PRIHODI I RASHODI-izvori'!H511 -> 159324 | F35: =' PRIHODI I RASHODI-izvori'!I511 -> 162510.48
A36: 58 Instrumenti EU nove generacije | D36: =D37 -> 437409.22 | E36: =E37 -> 365485.22 | F36: =F37 -> 262923.4
A37: 581 Mehanizam za oporavak i otpornost - bespovratna sredstva | D37: =' PRIHODI I RASHODI-izvori'!G546 -> 437409.22 | E37: =' PRIHODI I RASHODI-izvori'!H546 -> 365485.22 | F37: =' PRIHODI I RASHODI-izvori'!I546 -> 262923.4
A38: 6 Donacije | B38: =B39 -> 0 | C38: =C39 -> 0 | D38: =D39 -> 2000 | E38: =E39 -> 2220 | F38: =F39 -> 2440.4
A39: 61 Donacije | B39: =' PRIHODI I RASHODI-izvori'!E577 -> 0 | C39: =' PRIHODI I RASHODI-izvori'!F577 -> 0 | D39: =' PRIHODI I RASHODI-izvori'!G577 -> 2000 | E39: =' PRIHODI I RASHODI-izvori'!H577 -> 2220 | F39: =' PRIHODI I RASHODI-izvori'!I577 -> 2440.4
A40: 7 Prihodi od nefinancijske imovine i naknade štete s naslova osiguranja | B40: =B41 -> 0 | C40: =C41 -> 0 | D40: =D41 -> 11800 | E40: =E41 -> 11750 | F40: =F41 -> 12000
A41: 71 Prihodi od nefinancijske imovine i naknade štete s naslova osiguranja | B41: =' PRIHODI I RASHODI-izvori'!E600 -> 0 | C41: =' PRIHODI I RASHODI-izvori'!F600 -> 0 | D41: =' PRIHODI I RASHODI-izvori'!G600 -> 11800 | E41: =' PRIHODI I RASHODI-izvori'!H600 -> 11750 | F41: =' PRIHODI I RASHODI-izvori'!I600 -> 12000

Sheet RASHODI-funkcijska
A2: I. OPĆI DIO
A4: A. RAČUN PRIHODA I RASHODA
A6: IZVJEŠTAJ O RASHODIMA PREMA FUNKCIJSKOJ KLASIFIKACIJI
A8: BROJČANA OZNAKA I NAZIV | B8: IZVRŠENJE 2024. | C8: TEKUĆI PLAN ZA 2025. | D8: PLAN ZA 2026. | E8: PROJEKCIJA ZA 2027. | F8: PROJEKCIJA ZA 2028.
A9: 1 | B9: 2 | C9: 3 | D9: 4 | E9: 5 | F9: 6
A10: UKUPNO RASHODI | B10: ='RASHODI-ek.kl.'!D274 -> #REF! | C10: ='RASHODI-ek.kl.'!E274 -> #REF! | D10: ='RASHODI-ek.kl.'!F274 -> 27155403 | E10: ='RASHODI-ek.kl.'!G274 -> 27423629 | F10: ='RASHODI-ek.kl.'!H274 -> 27667152
A11: 07 Zdravstvo | B11: =B12 -> #REF! | C11: =C12 -> #REF! | D11: =D12 -> 27155403 | E11: =E12 -> 27423629 | F11: =F12 -> 27667152
A12: 072 Služba za vanjske pacijente | B12: =B13+B14+B15 -> #REF! | C12: =C13+C14+C15 -> #REF! | D12: =D13+D14+D15 -> 27155403 | E12: =E13+E14+E15 -> 27423629 | F12: =F13+F14+F15 -> 27667152
A13: 0721 Opće medicinske usluge | B13: =ROUND(B10*0.6,2) -> #REF! | C13: =ROUND(C10*0.6,2) -> #REF! | D13: =ROUND(D10*0.6,2) -> 16293242 | E13: =ROUND(E10*0.6,2) -> 16454177 | F13: =ROUND(F10*0.6,2) -> 16600291
A14: 0722 Specijalističke med. usluge | B14: =ROUND(B10*0.15,2) -> #REF! | C14: =ROUND(C10*0.15,2) -> #REF! | D14: =ROUND(D10*0.15,2) -> 4073310.5 | E14: =ROUND(E10*0.15,2) -> 4113544.3 | F14: =ROUND(F10*0.15,2) -> 4150072.7
A15: 0723 Zubarske usluge | B15: =ROUND(B10*0.25,2) -> #REF! | C15: =ROUND(C10*0.25,2) -> #REF! | D15: =ROUND(D10*0.25,2) -> 6788850.8 | E15: =ROUND(E10*0.25,2) -> 6855907.2 | F15: =ROUND(F10*0.25,2) -> 6916787.9
A16: 073 Bolničke službe | D16: =D17 -> 0 | E16: =E17 -> 0 | F16: =F17 -> 0
A17: 0731 Usluge općih bolnica
A18: 074 Službe javnog zdravstva | D18: 0 | E18: 0 | F18: 0

Sheet Rekapitulacija Posebni dio
A1: II. POSEBNI DIO
A2: Rashodi i izdaci po izvorima financiranja i ekonomskoj klasifikaciji raspoređenih u programe, aktivnosti i projekte
A4: Šifra | B4: Naziv | C4: IZVRŠENJE 2024. | D4: TEKUĆI PLAN ZA 2025. | E4: PLAN ZA 2026. | F4: PROJEKCIJA ZA 2027. | G4: PROJEKCIJA ZA 2028.
A5: PROGRAM | B5: RAD I RAZVOJ USTANOVE | C5: =C7+C216+C349+C392+C411+#REF!+#REF!+#REF!+#REF!+C440+#REF!+#REF!+#REF!+C503+#REF!+C522+#REF!+C559+#REF!+#REF!+#REF!+C596+C636+C675+C718 -> #REF! | D5: =D7+D216+D349+D392+D411+#REF!+#REF!+#REF!+#REF!+D440+#REF!+#REF!+#REF!+D503+#REF!+D522+#REF!+D559+#REF!+#REF!+#REF!+D596+D636+D675+D718 -> #REF! | E5: =E7+E216+E349+E392+E411+E433+E440+E503+E552+E522+E559+E596+E636+E675+E718 -> 27155403 | F5: =F7+F216+F349+F392+F411+F433+F440+F503+F552+F522+F559+F596+F636+F675+F718 -> 27423629 | G5: =G7+G216+G349+G392+G411+G433+G440+G503+G552+G522+G559+G596+G636+G675+G718 -> 27667152
A6: AKTIVNOST | B6: Redovna djelatnost | C6: =C7+C216+C349+C392+C411+#REF!+#REF!+#REF!+#REF! -> #REF! | D6: =D7+D216+D349+D392+D411+#REF!+#REF!+#REF!+#REF! -> #REF! | E6: =E7+E216+E349+E392+E411+E433 -> 25447188 | F6: =F7+F216+F349+F392+F411+F433 -> 25798213 | G6: =G7+G216+G349+G392+G411+G433 -> 26141112
A7: 43 | B7: Ostali prihodi za posebne namjene | C7: =C8+C181 -> 0 | D7: =D8+D181 -> 0 | E7: =E8+E181 -> 21410157 | F7: =F8+F181 -> 21715388 | G7: =G8+G181 -> 22025968
A8: 3 | B8: Rashodi poslovanja | C8: =C9+C32+C149+C162+C165+C170 -> 0 | D8: =D9+D32+D149+D162+D165+D170 -> 0 | E8: =E9+E32+E149+E162+E165+E170 -> 21324785 | F8: =F9+F32+F149+F162+F165+F170 -> 21627066 | G8: =G9+G32+G149+G162+G165+G170 -> 21934696
A9: 31 | B9: Rashodi za zaposlene | C9: =C10+C19+C27 -> 0 | D9: =D10+D19+D27 -> 0 | E9: =E10+E19+E27 -> 13895551 | F9: =F10+F19+F27 -> 14019017 | G9: =G10+G19+G27 -> 14142396
A10: 311 | B10: Plaće | C10: =C11+C14+C15+C17 -> 0 | D10: =D11+D14+D15+D17 -> 0 | E10: =E11+E14+E15+E17 -> 11748762 | F10: =F11+F14+F15+F17 -> 11813800 | G10: =G11+G14+G15+G17 -> 11886800
A11: 3111 | B11: Plaće za redovan rad | C11: =SUM(C12:C13) -> 0 | D11: =SUM(D12:D13) -> 0 | E11: =SUM(E12:E13) -> 11578762 | F11: =SUM(F12:F13) -> 11636800 | G11: =SUM(G12:G13) -> 11702800
A12: 31111 | B12: Plaće za redovan rad | E12: =3370067.31+4865000+3341895 -> 11576962 | F12: 11635000 | G12: 11701000
A13: 31113 | B13: Plaće po sudskim presudama | E13: 1800 | F13: 1800 | G13: 1800
A14: 3112 | B14: Plaće u naravi
A15: 3113 | B15: Plaće za prekovremeni rad | C15: =SUM(C16) -> 0 | D15: =SUM(D16) -> 0 | E15: =SUM(E16) -> 170000 | F15: =SUM(F16) -> 177000 | G15: =SUM(G16) -> 184000
A16: 31131 | B16: Plaće za prekovremeni rad | E16: =80000+90000 -> 170000 | F16: 177000 | G16: 184000
A17: 3114 | B17: Plaće za posebne uvjete rada | C17: =SUM(C18) -> 0 | D17: =SUM(D18) -> 0 | E17: =SUM(E18) -> 0 | F17: =SUM(F18) -> 0 | G17: =SUM(G18) -> 0
A18: 31141 | B18: Plaće za posebne uvjete rada | D18: 0 | E18: 0 | F18: 0 | G18: 0
A19: 312 | B19: Ostali rashodi za zaposlene | C19: =C20 -> 0 | D19: =D20 -> 0 | E19: =E20 -> 350300 | F19: =F20 -> 365500 | G19: =G20 -> 380700
A20: 3121 | B20: Ostali rashodi za zaposlene | C20: =SUM(C21:C26) -> 0 | D20: =SUM(D21:D26) -> 0 | E20: =SUM(E21:E26) -> 350300 | F20: =SUM(F21:F26) -> 365500 | G20: =SUM(G21:G26) -> 380700
A21: 31212 | B21: Ostali rashodi za zaposlene-nagrade | E21: =28000+96500 -> 124500 | F21: 128000 | G21: 131500
A22: 31213 | B22: Darovi | E22: 26000 | F22: 28000 | G22: 30000
A23: 31214 | B23: Otpremnine | E23: =25000+2000 -> 27000 | F23: 28500 | G23: 30000
A24: 31215 | B24: Naknade za bolest, invalidnost i smrt | E24: =10000+3800 -> 13800 | F24: 15000 | G24: 16200
A25: 31216 | B25: Regres za godišnji odmor | E25: =57000+35000 -> 92000 | F25: 95000 | G25: 98000
A26: 31219 | B26: Ostali nenavedeni rashodi za zaposlene | E26: =32000+35000 -> 67000 | F26: 71000 | G26: 75000
A27: 313 | B27: Doprinosi na plaće | C27: =C28+C30 -> 0 | D27: =D28+D30 -> 0 | E27: =E28+E30 -> 1796488.8 | F27: =F28+F30 -> 1839716.5 | G27: =G28+G30 -> 1874896.4
A28: 3132 | B28: Doprinosi za obvezno zdravstveno osiguranje | C28: =SUM(C29) -> 0 | D28: =SUM(D29) -> 0 | E28: =SUM(E29) -> 1796488.8 | F28: =SUM(F29) -> 1839716.5 | G28: =SUM(G29) -> 1874896.4
A29: 31321 | B29: Doprinosi za obvezno zdravstveno osiguranje | E29: =760000+536488.84+500000 -> 1796488.8 | F29: 1839716.5 | G29: 1874896.4
A30: 3133 | B30: Doprinosi za zapošljavanje | C30: =C31 -> 0 | D30: =D31 -> 0 | E30: =E31 -> 0 | F30: =F31 -> 0 | G30: =G31 -> 0
A31: 31332 | B31: Doprinosi u slučaju nezaposlenosti | D31: 0
A32: 32 | B32: Materijalni rashodi | C32: =C33+C46+C75+C117+C120+C128 -> 0 | D32: =D33+D46+D75+D117+D120+D128 -> 0 | E32: =E33+E46+E75+E117+E120+E128 -> 7400658.6 | F32: =F33+F46+F75+F117+F120+F128 -> 7581279.6 | G32: =G33+G46+G75+G117+G120+G128 -> 7765234.2
A33: 321 | B33: Naknade troškova zaposlenima | C33: =C34+C39+C41+C44 -> 0 | D33: =D34+D39+D41+D44 -> 0 | E33: =E34+E39+E41+E44 -> 250944.29 | F33: =F34+F39+F41+F44 -> 257170 | G33: =G34+G39+G41+G44 -> 264360
A34: 3211 | B34: Službena putovanja | C34: =SUM(C35:C38) -> 0 | D34: =SUM(D35:D38) -> 0 | E34: =SUM(E35:E38) -> 6380 | F34: =SUM(F35:F38) -> 6920 | G34: =SUM(G35:G38) -> 7460
A35: 32111 | B35: Dnevnice za službeni put u zemlji | E35: =3000+600 -> 3600 | F35: 3800 | G35: 4000
A36: 32113 | B36: Naknade za smještaj na službenom putu u zemlji | E36: =500+1000 -> 1500 | F36: 1700 | G36: 1900
A37: 32115 | B37: Naknade za prijevoz na službenom putu u zemlji | E37: =500+700 -> 1200 | F37: 1300 | G37: 1400
A38: 32119 | B38: Ostali rashodi za sl. putovanje (cestarine, trošak parkiranja) | E38: 80 | F38: 120 | G38: 160
A39: 3212 | B39: Naknade za prijevoz, za rad na terenu i odvojeni život | C39: =SUM(C40) -> 0 | D39: =SUM(D40) -> 0 | E39: =SUM(E40) -> 234716.27 | F39: =SUM(F40) -> 240000 | G39: =SUM(G40) -> 246000
A40: 32121 | B40: Naknade za prijevoz, za rad na terenu i odvojeni život | E40: =74716.27+160000 -> 234716.27 | F40: 240000 | G40: 246000
A41: 3213 | B41: Stručno usavršavanje zaposlenih | C41: =SUM(C42:C43) -> 0 | D41: =SUM(D42:D43) -> 0 | E41: =SUM(E42:E43) -> 9648.02 | F41: =SUM(F42:F43) -> 10050 | G41: =SUM(G42:G43) -> 10700
A42: 32131 | B42: Seminari, savjetovanja i simpoziji | E42: =5470+1100 -> 6570 | F42: 6750 | G42: 7000
A43: 32132 | B43: Tečajevi i stručni ispiti | E43: =500+2578.02 -> 3078.02 | F43: 3300 | G43: 3700
A44: 3214 | B44: Ostale naknade troškova zaposlenima | C44: =SUM(C45) -> 0 | D44: =SUM(D45) -> 0 | E44: =SUM(E45) -> 200 | F44: =SUM(F45) -> 200 | G44: =SUM(G45) -> 200
A45: 32141 | B45: Naknada za korištenje privatnog automobila u službene svrhe | E45: 200 | F45: 200 | G45: 200
A46: 322 | B46: Rashodi za materijal i energiju | C46: =C47+C54+C60+C65+C70+C73 -> 0 | D46: =D47+D54+D60+D65+D70+D73 -> 0 | E46: =E47+E54+E60+E65+E70+E73 -> 3285505 | F46: =F47+F54+F60+F65+F70+F73 -> 3334240.3 | G46: =G47+G54+G60+G65+G70+G73 -> 3381444.9
A47: 3221 | B47: Uredski materijal i ostali materijalni rashodi | C47: =SUM(C48:C53) -> 0 | D47: =SUM(D48:D53) -> 0 | E47: =SUM(E48:E53) -> 128000 | F47: =SUM(F48:F53) -> 136650 | G47: =SUM(G48:G53) -> 146300
A48: 32211 | B48: Uredski materijal | E48: =12000+15000+14000 -> 41000 | F48: 44500 | G48: 48900
A49: 32212 | B49: Literatura | E49: =300+700+500 -> 1500 | F49: 1650 | G49: 1800
A50: 32214 | B50: Materijal i sredstva za čišćenje i održavanje | E50: =13500+15000+30000 -> 58500 | F50: 61000 | G50: 63500
A51: 32215 | B51: Službena, radna i zaštitna odjeća | E51: 500 | F51: 700 | G51: 900
A52: 32216 | B52: Materijal za higijenske potrebe i njegu | C52: 0 | D52: 0 | E52: 25000 | F52: 27000 | G52: 29000
A53: 32219 | B53: Ostali materijal za potrebe redovnog poslovanja | E53: 1500 | F53: 1800 | G53: 2200
A54: 3222 | B54: Materijal i sirovine | C54: =SUM(C55:C59) -> 0 | D54: =SUM(D55:D59) -> 0 | E54: =SUM(E55:E59) -> 2806455 | F54: =SUM(F55:F59) -> 2832990.3 | G54: =SUM(G55:G59) -> 2856994.9
A55: 32221 | B55: Potrošni medicinski materijal | E55: 0 | F55: 0 | G55: 0
A56: 32224 | B56: Namirnice | E56: 12000 | F56: 13000 | G56: 14000
A57: 32225 | B57: Roba | E57: 2794455 | F57: 2819990.3 | G57: 2842994.9
A58: 32226 | B58: Lijekovi | E58: 0 | F58: 0 | G58: 0
A59: 32229 | B59: Ostali materijal i sirovine | E59: 0 | F59: 0 | G59: 0
A60: 3223 | B60: Energija | C60: =SUM(C61:C64) -> 0 | D60: =SUM(D61:D64) -> 0 | E60: =SUM(E61:E64) -> 321000 | F60: =SUM(F61:F64) -> 329300 | G60: =SUM(G61:G64) -> 337600
A61: 32231 | B61: Električna energija | E61: =27000+55000+60000 -> 142000 | F61: 144000 | G61: 146000
A62: 32232 | B62: Topla voda | E62: 2200 | F62: 2500 | G62: 2800
A63: 32233 | B63: Plin | E63: =20000+65000+50000 -> 135000 | F63: 140000 | G63: 145000
A64: 32234 | B64: Motorni benzin i dizel gorivo | E64: =17000+9800+15000 -> 41800 | F64: 42800 | G64: 43800
A65: 3224 | B65: Materijal i dijelovi za tekuće i investicijsko održavanje | C65: =SUM(C66:C69) -> 0 | D65: =SUM(D66:D69) -> 0 | E65: =SUM(E66:E69) -> 15050 | F65: =SUM(F66:F69) -> 16800 | G65: =SUM(G66:G69) -> 18550
A66: 32241 | B66: Materijal i dijelovi za tekuće i invest. održavanje građevinskih objekata | E66: 2500 | F66: 3000 | G66: 3500
A67: 32242 | B67: Materijal i dijelovi za tekuće i invest. održavanje postrojenja i opreme | E67: 2750 | F67: 3000 | G67: 3250
A68: 32243 | B68: Materijal i dijelovi za tekuće i invest. održavanje transportnih sredstava | E68: =6000+500 -> 6500 | F68: 7000 | G68: 7500
A69: 32244 | B69: Ostali materijal i dijelovi za tekuće i invest. održavanje | E69: =3000+300 -> 3300 | F69: 3800 | G69: 4300
A70: 3225 | B70: Sitan inventar i autogume | C70: =SUM(C71:C72) -> 0 | D70: =SUM(D71:D72) -> 0 | E70: =SUM(E71:E72) -> 9500 | F70: =SUM(F71:F72) -> 12000 | G70: =SUM(G71:G72) -> 14500
A71: 32251 | B71: Sitan inventar | E71: =5000+3000 -> 8000 | F71: 10000 | G71: 12000
A72: 32252 | B72: Auto gume | E72: 1500 | F72: 2000 | G72: 2500
A73: 3227 | B73: Službena radna i zaštitna odjeća | C73: =SUM(C74) -> 0 | D73: =SUM(D74) -> 0 | E73: =SUM(E74) -> 5500 | F73: =SUM(F74) -> 6500 | G73: =SUM(G74) -> 7500
A74: 32271 | B74: Službena radna i zaštitna odjeća | E74: =3000+2500 -> 5500 | F74: 6500 | G74: 7500
A75: 323 | B75: Rashodi za usluge | C75: =C76+C80+C85+C87+C96+C100+C105+C110+C112 -> 0 | D75: =D76+D80+D85+D87+D96+D100+D105+D110+D112 -> 0 | E75: =E76+E80+E85+E87+E96+E100+E105+E110+E112 -> 1067396.3 | F75: =F76+F80+F85+F87+F96+F100+F105+F110+F112 -> 1105996.3 | G75: =G76+G80+G85+G87+G96+G100+G105+G110+G112 -> 1144696.3
A76: 3231 | B76: Usluge telefona i pošte | C76: =SUM(C77:C79) -> 0 | D76: =SUM(D77:D79) -> 0 | E76: =SUM(E77:E79) -> 46350 | F76: =SUM(F77:F79) -> 48800 | G76: =SUM(G77:G79) -> 51350
A77: 32311 | B77: Usluge telefona, telefaksa | E77: =25000+18000 -> 43000 | F77: 45000 | G77: 47000
A78: 32313 | B78: Poštarina | E78: =600+900 -> 1500 | F78: 1800 | G78: 2100
A79: 32319 | B79: Ostale usluge za komunikaciju i prijevoz | E79: =350+1500 -> 1850 | F79: 2000 | G79: 2250
A80: 3232 | B80: Usluge tekućeg i investicijskog održavanja | C80: =SUM(C81:C84) -> 0 | D80: =SUM(D81:D84) -> 0 | E80: =SUM(E81:E84) -> 29500 | F80: =SUM(F81:F84) -> 35500 | G80: =SUM(G81:G84) -> 41500
A81: 32321 | B81: Usluge tekućeg i investicijskog održavanja građevinskih objekata | E81: =5000+5000 -> 10000 | F81: 12000 | G81: 14000
A82: 32322 | B82: Usluge tekućeg i investicijskog održavanja postrojenja i opreme | E82: =5000+3000 -> 8000 | F82: 10000 | G82: 12000
A83: 32323 | B83: Usluge tekućeg i investicijskog održavanja prijevoznih sredstava | E83: =3500+3000 -> 6500 | F83: 7500 | G83: 8500
A84: 32329 | B84: Ostale usluge tekućeg i investicijskog ulaganja | E84: 5000 | F84: 6000 | G84: 7000
A85: 3233 | B85: Usluge promidžbe i informiranja | C85: =SUM(C86) -> 0 | D85: =SUM(D86) -> 0 | E85: =SUM(E86) -> 2663.61 | F85: =SUM(F86) -> 2663.61 | G85: =SUM(G86) -> 2663.61
A86: 32339 | B86: Usluge promidžbe i informiranja | E86: =2000+663.61 -> 2663.61 | F86: 2663.61 | G86: 2663.61
A87: 3234 | B87: Komunalne usluge | C87: =SUM(C88:C95) -> 0 | D87: =SUM(D88:D95) -> 0 | E87: =SUM(E88:E95) -> 166650 | F87: =SUM(F88:F95) -> 175100 | G87: =SUM(G88:G95) -> 183550
A88: 32341 | B88: Opskrba vodom | E88: =25000+13000+6000 -> 44000 | F88: 47000 | G88: 50000
A89: 32342 | B89: Iznošenje i odvoz smeća | E89: =15000+18000+35000 -> 68000 | F89: 70000 | G89: 72000
A90: 32343 | B90: Deratizacija i dezinsekcija | E90: =1800+1000 -> 2800 | F90: 3300 | G90: 3800
A91: 32344 | B91: Dimnjačarske usluge | E91: =1500+500 -> 2000 | F91: 2500 | G91: 3000
A92: 32345 | B92: Komunalna naknada | E92: 9000 | F92: 9400 | G92: 9800
A93: 32347 | B93: Pričuva | E93: =2000+4000 -> 6000 | F93: 6500 | G93: 7000
A94: 32348 | B94: Naknada za uređenje voda | E94: 150 | F94: 200 | G94: 250
A95: 32349 | B95: Ostale komunalne usluge | E95: =700+30000+4000 -> 34700 | F95: 36200 | G95: 37700
A96: 3235 | B96: Zakupnine i najamnine | C96: =SUM(C97:C99) -> 0 | D96: =SUM(D97:D99) -> 0 | E96: =SUM(E97:E99) -> 7832.72 | F96: =SUM(F97:F99) -> 8232.72 | G96: =SUM(G97:G99) -> 8632.72
A97: 32353 | B97: Zakupnine i najamnine za opremu | E97: 1800 | F97: 2000 | G97: 2200
A98: 32354 | B98: Licence-računalni programi | E98: 5700 | F98: 5900 | G98: 6100
A99: 32359 | B99: Ostale zakupnine i najamnine | E99: =132.72+200 -> 332.72 | F99: 332.72 | G99: 332.72
A100: 3236 | B100: Zdravstvene i veterinarske usluge | C100: =SUM(C101:C104) -> 0 | D100: =SUM(D101:D104) -> 0 | E100: =SUM(E101:E104) -> 463000 | F100: =SUM(F101:F104) -> 471500 | G100: =SUM(G101:G104) -> 480000
A101: 32361 | B101: Obvezni i preventivni zdravstveni pregledi zaposlenika | E101: 4000 | F101: 5000 | G101: 6000
...
