Workbook

Sheet SAŽETAK
B1: IZVJEŠTAJ O IZVRŠENJU FINANCIJSKOG PLANA DOMA ZDRAVLJA VUKOVARSKO - SRIJEMSKE ŽUPANIJE OD 01.01.2026. DO 30.06.2026. GODINE
B4: I. OPĆI DIO
F6: A) SAŽETAK RAČUNA PRIHODA I RASHODA
K7: EUR | L7: EUR
B8: BROJČANA OZNAKA I NAZIV | G8: OSTVARENJE/ IZVRŠENJE 1.-3.2025. | H8: IZVORNI PLAN ZA 2026. | I8: TEKUĆI PLAN ZA 2026. | J8: OSTVARENJE/ IZVRŠENJE 1.-6.2026. | K8: Indeks | L8: Indeks
B9: 1 | G9: 2 | H9: 3 | I9: 4 | J9: 5 | K9: 6=5/3*100 | L9: 7=5/4*100
B10: PRIHODI UKUPNO | G10: =G11+G12 -> 0 | H10: =H11+H12 -> 27400996 | I10: =I11+I12 -> 27029768 | J10: =J11+J12 -> 12342056 | K10: =J10/H10*100 -> 45.042362 | L10: =J10/I10*100 -> 45.660975
B11: 6 PRIHODI POSLOVANJA | G11: ='Prihodi po ekonomskoj klas'!D9 -> 0 | H11: ='Prihodi po ekonomskoj klas'!E9 -> 27399696 | I11: ='Prihodi po ekonomskoj klas'!F9 -> 27028468 | J11: ='Prihodi po ekonomskoj klas'!G9 -> 12341724 | K11: =J11/H11*100 -> 45.043289 | L11: =J11/I11*100 -> 45.661945
B12: 7 PRIHODI OD PRODAJE NEFINANCIJSKE IMOVINE | G12: ='Prihodi po ekonomskoj klas'!D80 -> 0 | H12: ='Prihodi po ekonomskoj klas'!E80 -> 1300 | I12: ='Prihodi po ekonomskoj klas'!F80 -> 1300 | J12: ='Prihodi po ekonomskoj klas'!G80 -> 331.59 | K12: =J12/H12*100 -> 25.506923 | L12: =J12/I12*100 -> 25.506923
B13: RASHODI UKUPNO | G13: =G14+G15 -> #REF! | H13: =H14+H15 -> 27155403 | I13: =I14+I15 -> 26784175 | J13: =J14+J15 -> 12805809 | K13: =J13/H13*100 -> 47.157499 | L13: =J13/I13*100 -> 47.811101
B14: 3 RASHODI POSLOVANJA | G14: ='RASHODI-ek.kl.'!D57 -> 0 | H14: ='RASHODI-ek.kl.'!E57 -> 26300528 | I14: ='RASHODI-ek.kl.'!F57 -> 26423403 | J14: ='RASHODI-ek.kl.'!G57 -> 12760368 | K14: =J14/H14*100 -> 48.517535 | L14: =J14/I14*100 -> 48.291917
B15: 4 RASHODI ZA NABAVU NEFINANCIJSKE IMOVINE | G15: ='RASHODI-ek.kl.'!D239 -> #REF! | H15: ='RASHODI-ek.kl.'!E239 -> 854875.27 | I15: ='RASHODI-ek.kl.'!F239 -> 360772.28 | J15: ='RASHODI-ek.kl.'!G239 -> 45441.15 | K15: =J15/H15*100 -> 5.3155298 | L15: =J15/I15*100 -> 12.595521
B16: RAZLIKA - VIŠAK MANJAK | G16: =G10-G13 -> #REF! | H16: =H10-H13 -> 245592.85 | I16: =I10-I13 -> 245592.85 | J16: =J10-J13 -> -463753.2 | K16: =J16/H16*100 -> -188.83009 | L16: =J16/I16*100 -> -188.83009
F18: B) SAŽETAK RAČUNA FINANCIRANJA
B20: BROJČANA OZNAKA I NAZIV | G20: OSTVARENJE/ IZVRŠENJE 1.-3.2025. | H20: IZVORNI PLAN ZA 2026. | I20: TEKUĆI PLAN ZA 2026. | J20: OSTVARENJE/ IZVRŠENJE 1.-6.2026. | K20: Indeks | L20: Indeks
B21: 1 | G21: 2 | H21: 3 | I21: 4 | J21: 5 | K21: 6 | L21: 7
B22: 8 PRIMICI OD FINANCIJSKE IMOVINE I ZADUŽIVANJA
B23: 5 IZDACI ZA FINANCIJSKU IMOVINU I OTPLATE ZAJMOVA
B24: RAZLIKA PRIMITAKA I IZDATAKA
F26: C) PRENESENI VIŠAK ILI PRENESENI MANJAK
B28: BROJČANA OZNAKA I NAZIV | G28: OSTVARENJE/ IZVRŠENJE 1.-3.2025. | H28: IZVORNI PLAN ZA 2026. | I28: TEKUĆI PLAN ZA 2026. | J28: OSTVARENJE/ IZVRŠENJE 1.-6.2026. | K28: Indeks | L28: Indeks
B29: 1 | G29: 2 | H29: 3 | I29: 4 | J29: 5 | K29: 6 | L29: 7
B30: PRENESENI VIŠAK / MANJAK IZ PRETHODNE(IH) GODINE | H30: =G31 -> -1778132.8 | I30: -4599353.7 | J30: -4599353.7 | K30: =J30/H30*100 -> 258.662 | L30: =J30/I30*100 -> 100
B31: VIŠAK / MANJAK + NETO FINANCIRANJE + PRIJENOS VIŠKA / MANJKA IZ PRETHODNE(IH) GODINE - PRIJENOS VIŠKA / MANJKA U SLJEDEĆE RAZDOBLJE | G31: -1778132.8 | H31: =H16+H24+H30 -> -1532539.9 | I31: =I16+I24+I30 -> -4353760.8 | J31: =J16+J24+J30 -> -5063106.9 | K31: =J31/H31*100 -> 330.37358 | L31: =J31/I31*100 -> 116.29272

Sheet Prihodi po ekonomskoj klas
A1: I. OPĆI DIO
A3: A. RAČUN PRIHODA
A5: PRIHODI PREMA EKONOMSKOJ KLASIFIKACIJI
A7: PRIHODI POSLOVANJA
A8: Razred | B8: Skupina/podskupina/odjeljak | C8: Naziv | D8: OSTVARENJE/ IZVRŠENJE 1.-3.2025. | E8: IZVORNI PLAN ZA 2026. | F8: TEKUĆI PLAN ZA 2026. | G8: OSTVARENJE/ IZVRŠENJE 1.-6.2026.
A9: 6 | C9: Prihodi poslovanja | D9: =D10+D33+D44+D50+D65+D74 -> 0 | E9: =E10+E33+E44+E50+E65+E74 -> 27399696 | F9: =F10+F33+F44+F50+F65+F74 -> 27028468 | G9: =G10+G33+G44+G50+G65+G74 -> 12341724
B10: 63 | C10: Pomoći | D10: =D11+D13+D17+D20+D25+D30 -> 0 | E10: =E11+E13+E17+E20+E25+E30 -> 1176423.8 | F10: =F11+F13+F17+F20+F25+F30 -> 1176423.8 | G10: =G11+G13+G17+G20+G25+G30 -> 95063.32
B11: 632 | C11: Pomoći od međunaodnih organizacija te institucija i tijela EU | D11: =SUM(D12) -> 0 | E11: =SUM(E12) -> 0 | F11: =SUM(F12) -> 0 | G11: =SUM(G12) -> 0
B12: 6324 | C12: Kapitalne pomoći od instucija i tijela EU | D12: 0 | E12: 0 | F12: 0 | G12: 0
B13: 633 | C13: Pomoć proračunu iz drugih proračuna | D13: =SUM(D14,D16) -> 0 | E13: =SUM(E14,E16) -> 500 | F13: =SUM(F14,F16) -> 500 | G13: =SUM(G14,G16) -> 0
B14: 6331 | C14: Tekuća pomoć proračunu iz drugih proračuna | D14: =D15 -> 0 | E14: =E15 -> 500 | F14: =F15 -> 500 | G14: =G15 -> 0
B15: 63313 | C15: Tekuće potpore iz gradskog proračuna | D15: ='Prihodi po ek klas i izvorima'!E71 -> 0 | E15: ='Prihodi po ek klas i izvorima'!F71 -> 500 | F15: ='Prihodi po ek klas i izvorima'!G71 -> 500 | G15: ='Prihodi po ek klas i izvorima'!H71 -> 0
B16: 6332 | C16: Kapitalna pomoć proračunu iz drugih proračuna | D16: 0 | E16: 0 | F16: 0 | G16: 0
B17: 634 | C17: Pomoći od izvanproračunskih korisnika | D17: =SUM(D18) -> 0 | E17: =SUM(E18) -> 68314.61 | F17: =SUM(F18) -> 68314.61 | G17: =SUM(G18) -> 0
B18: 6341 | C18: Tekuće pomoći od izvanproračunskih korisnika | D18: =D19 -> 0 | E18: =E19 -> 68314.61 | F18: =F19 -> 68314.61 | G18: =G19 -> 0
B19: 63414 | C19: Tekuće pomoći od izvanproračunskih korisnika | D19: ='Prihodi po ek klas i izvorima'!E75 -> 0 | E19: ='Prihodi po ek klas i izvorima'!F75 -> 68314.61 | F19: ='Prihodi po ek klas i izvorima'!G75 -> 68314.61 | G19: ='Prihodi po ek klas i izvorima'!H75 -> 0
B20: 636 | C20: Pomoć proračunskim korisnicima iz prorač.koji im nije nadležan | D20: =SUM(D21,D23) -> 0 | E20: =SUM(E21,E23) -> 14000 | F20: =SUM(F21,F23) -> 14000 | G20: =SUM(G21,G23) -> 0
B21: 6361 | C21: Tekuće pomoći iz državnog prorač. prorač.korisnicima JLP(R)S | D21: =D22 -> 0 | E21: =E22 -> 14000 | F21: =F22 -> 14000 | G21: =G22 -> 0
B22: 63612 | C22: Tekuće pomoći iz državnog prorač. prorač.korisnicima JLP(R)S | D22: ='Prihodi po ek klas i izvorima'!E78 -> 0 | E22: ='Prihodi po ek klas i izvorima'!F78 -> 14000 | F22: ='Prihodi po ek klas i izvorima'!G78 -> 14000 | G22: ='Prihodi po ek klas i izvorima'!H78 -> 0
B23: 6362 | C23: Kapitalne pomoći iz državnog prorač. prorač.korisnicima JLP(R)S | D23: =D24 -> 0 | E23: =E24 -> 0 | F23: =F24 -> 0 | G23: =G24 -> 0
B24: 63622 | C24: Kapitalne pomoći iz državnog prorač. prorač.korisnicima JLP(R)S | D24: ='Prihodi po ek klas i izvorima'!E80 -> 0 | E24: ='Prihodi po ek klas i izvorima'!F80 -> 0 | F24: ='Prihodi po ek klas i izvorima'!G80 -> 0 | G24: ='Prihodi po ek klas i izvorima'!H80 -> 0
B25: 638 | C25: Pomoć temeljem prijenosa EU | D25: =D26+D28 -> 0 | E25: =E26+E28 -> 593609.22 | F25: =F26+F28 -> 593609.22 | G25: =G26+G28 -> 95063.32
B26: 6381 | C26: Tekuće pomoći temeljem prijenosa EU sredstava | D26: =SUM(D27:D27) -> 0 | E26: =SUM(E27:E27) -> 437409.22 | F26: =SUM(F27:F27) -> 437409.22 | G26: =SUM(G27:G27) -> 95063.32
B27: 63811 | C27: Tekuće pomoći iz državnog proračuna temeljem EU prijenosa | D27: ='Prihodi po ek klas i izvorima'!E94 -> 0 | E27: ='Prihodi po ek klas i izvorima'!F94 -> 437409.22 | F27: ='Prihodi po ek klas i izvorima'!G94 -> 437409.22 | G27: ='Prihodi po ek klas i izvorima'!H94 -> 95063.32
B28: 6382 | C28: Kapitalna pomoć temeljem prijenosa EU | D28: =D29 -> 0 | E28: =E29 -> 156200 | F28: =F29 -> 156200 | G28: =G29 -> 0
B29: 63821 | C29: Pomoći temeljem EU prijenosa | D29: ='Prihodi po ek klas i izvorima'!E88 -> 0 | E29: ='Prihodi po ek klas i izvorima'!F88 -> 156200 | F29: ='Prihodi po ek klas i izvorima'!G88 -> 156200 | G29: ='Prihodi po ek klas i izvorima'!H88 -> 0
B30: 639 | C30: Prijenosi između proračunskih korisnika | D30: =SUM(D31) -> 0 | E30: =SUM(E31) -> 500000 | F30: =SUM(F31) -> 500000 | G30: =SUM(G31) -> 0
B31: 6391 | C31: Tekući prijenosi između proračunskih korisnika | D31: =D32 -> 0 | E31: =E32 -> 500000 | F31: =F32 -> 500000 | G31: =G32 -> 0
B32: 63911 | C32: Tekući prijenosi između proračunskih korisnika istog proračuna | D32: ='Prihodi po ek klas i izvorima'!E83 -> 0 | E32: ='Prihodi po ek klas i izvorima'!F83 -> 500000 | F32: ='Prihodi po ek klas i izvorima'!G83 -> 500000 | G32: ='Prihodi po ek klas i izvorima'!H83 -> 0
B33: 64 | C33: Prihodi od imovine | D33: =D34+D41 -> 0 | E33: =E34+E41 -> 101000 | F33: =F34+F41 -> 101000 | G33: =G34+G41 -> 47.37
B34: 641 | C34: Prihodi od financijske imovine | D34: =D35+D37+D39 -> 0 | E34: =E35+E37+E39 -> 100600 | F34: =F35+F37+F39 -> 100600 | G34: =G35+G37+G39 -> 47.37
B35: 6413 | C35: Kamate na oročena sredstva i depozite po viđenju | D35: =SUM(D36) -> 0 | E35: =SUM(E36) -> 550 | F35: =SUM(F36) -> 550 | G35: =SUM(G36) -> 47.37
B36: 64132 | C36: Kamate na oročena sredstva i depozite po viđenju | D36: ='Prihodi po ek klas i izvorima'!E20 -> 0 | E36: ='Prihodi po ek klas i izvorima'!F20 -> 550 | F36: ='Prihodi po ek klas i izvorima'!G20 -> 550 | G36: ='Prihodi po ek klas i izvorima'!H20 -> 47.37
B37: 6414 | C37: Prihodi od zateznih kamata | D37: =D38 -> 0 | E37: =E38 -> 50 | F37: =F38 -> 50 | G37: =G38 -> 0
B38: 64143 | C38: Prihodi od zateznih kamata | D38: ='Prihodi po ek klas i izvorima'!E22 -> 0 | E38: ='Prihodi po ek klas i izvorima'!F22 -> 50 | F38: ='Prihodi po ek klas i izvorima'!G22 -> 50 | G38: ='Prihodi po ek klas i izvorima'!H22 -> 0
B39: 6419 | C39: Ostali prihodi od financijske imovine | D39: =D40 -> 0 | E39: =E40 -> 100000 | F39: =F40 -> 100000 | G39: =G40 -> 0
B40: 64199 | C40: Ostali prihodi od financijske imovine | D40: ='Prihodi po ek klas i izvorima'!E24+'Prihodi po ek klas i izvorima'!E48 -> 0 | E40: ='Prihodi po ek klas i izvorima'!F24+'Prihodi po ek klas i izvorima'!F48 -> 100000 | F40: ='Prihodi po ek klas i izvorima'!G24+'Prihodi po ek klas i izvorima'!G48 -> 100000 | G40: ='Prihodi po ek klas i izvorima'!H24+'Prihodi po ek klas i izvorima'!H48 -> 0
B41: 642 | C41: Prihodi od nefinancijske imovine | D41: =D42 -> 0 | E41: =E42 -> 400 | F41: =F42 -> 400 | G41: =G42 -> 0
B42: 6429 | C42: Ostali prihodi od nefinancijske imovine | D42: =D43 -> 0 | E42: =E43 -> 400 | F42: =F43 -> 400 | G42: =G43 -> 0
B43: 64299 | C43: Ostali prihodi od nefinancijske imovine | D43: ='Prihodi po ek klas i izvorima'!E27 -> 0 | E43: ='Prihodi po ek klas i izvorima'!F27 -> 400 | F43: ='Prihodi po ek klas i izvorima'!G27 -> 400 | G43: ='Prihodi po ek klas i izvorima'!H27 -> 0
...

Sheet RASHODI-ek.kl.
A1: I. OPĆI DIO
A2: A. RAČUN PRIHODA I RASHODA
A4: RASHODI PREMA EKONOMSKOJ KLASIFIKACIJI
A7: PRIHODI POSLOVANJA
A8: Razred | B8: Skupina/podskupina/odjeljak | C8: Naziv | E8: Izvršenje prethodne godine I.-VI. 2022. | F8: REBALANS 2023. | G8: Izvršenje tekuće godine I.-VI. 2023
A9: 1 | E9: 2 | F9: 3 | G9: 4
A10: 6 | E10: =E11+E26+E30+E33+E40+E43 -> 24659146 | F10: =F11+F26+F30+F33+F40+F43 -> 63888652 | G10: =G11+G26+G30+G33+G40+G43 -> 30834919
B11: 63 | C11: Pomoći | E11: =E12+E14+E17+E19+E21+E24 -> 324811.47 | F11: =SUM(F12,F14,F17,F19,F21,F24) -> 639378.86 | G11: =SUM(G12,G14,G17,G19,G21,G24) -> 1892796.8
B12: 632 | C12: Pomoći od međunaodnih organizacija te institucija i tijela EU | E12: =SUM(E13) -> 0 | F12: =SUM(F13) -> 0 | G12: =SUM(G13) -> 0
B13: 6324 | C13: Kapitalne pomoći od instucija i tijela EU | E13: 0 | F13: 0 | G13: 0
B14: 633 | C14: Pomoć proračunu iz drugih proračuna | E14: =SUM(E15:E16) -> 50556.109 | F14: =SUM(F15:F16) -> 0 | G14: =SUM(G15:G16) -> 0
B15: 6331 | C15: Tekuća pomoć proračunu iz drugih proračuna | E15: =380915/7.5345 -> 50556.109 | F15: 0 | G15: 0
B16: 6332 | C16: Kapitalna pomoć proračunu iz drugih proračuna | E16: 0 | F16: 0 | G16: 0
B17: 634 | C17: Pomoći od izvanproračunskih korisnika | E17: =SUM(E18) -> 111981.95 | F17: =SUM(F18) -> 366500.76 | G17: =SUM(G18) -> 1829292.8
B18: 6341 | C18: Tekuće pomoći od HZZ-a, HZZO-a | E18: =843728/7.5345 -> 111981.95 | F18: 366500.76 | G18: 1829292.8
B19: 636 | C19: Pomoć proračunskim korisnicima iz prorač.koji im nije nadležan | E19: =SUM(E20) -> 54857.124 | F19: =SUM(F20) -> 796.34 | G19: =SUM(G20) -> 45490.31
B20: 6361 | C20: Tekuće pomoći iz državnog prorač. prorač.korisnicima JLP(R)S | E20: =413321/7.5345 -> 54857.124 | F20: =796.34 -> 796.34 | G20: 45490.31
B21: 638 | C21: Pomoć temeljem prijenosa EU | E21: =SUM(E22:E23) -> 107244.81 | F21: =SUM(F23) -> 272081.76 | G21: =SUM(G23) -> 18013.71
B22: 6381 | C22: Tekuće pomoći temeljem prijenosa EU sredstava | E22: =493624/7.5345 -> 65515.164 | F22: 0 | G22: 0
B23: 6382 | C23: kapitalna pomoć temeljem prijenosa EU | E23: =314412/7.5345 -> 41729.644 | F23: 272081.76 | G23: 18013.71
B24: 639 | C24: Prijenosi između proračunskih korisnika | E24: =SUM(E25) -> 171.47787 | F24: =SUM(F25) -> 0 | G24: =SUM(G25) -> 0
B25: 6391 | C25: Tekući prijenosi između proračunskih korisnika | E25: =1292/7.5345 -> 171.47787 | F25: 0 | G25: 0
B26: 64 | C26: Prihodi od imovine | E26: =SUM(E27:E29) -> 50144.535 | F26: =SUM(F27:F29) -> 120462.42 | G26: =SUM(G27:G29) -> 55180.92
B27: 6413 | C27: Kamate na oročena sredstva i depozite po viđenju | E27: =439/7.5345 -> 58.265313 | F27: 746.44 | G27: 204.07
B28: 6419 | C28: Ostali prihode o financijske imovine | E28: =376342/7.5345 -> 49949.167 | F28: 119450.53 | G28: 54839.75
B29: 6429 | C29: Ostali prihodi od nefinancijske imovine | E29: =1033/7.5345 -> 137.10266 | F29: =265.45 -> 265.45 | G29: 137.1
B30: 65 | C30: Prihodi po posebnim propisima | E30: =E31 -> 1523828.4 | F30: =SUM(F31) -> 6950029.9 | G30: =SUM(G31) -> 1963072.3
B31: 652 | C31: Prihodi po posebnim propisima | E31: =SUM(E32) -> 1523828.4 | F31: =SUM(F32) -> 6950029.9 | G31: =SUM(G32) -> 1963072.3
B32: 6526 | C32: Ostali nespomenuti prihodi (participacija) | E32: =11481285/7.5345 -> 1523828.4 | F32: =6950029.86 -> 6950029.9 | G32: 1963072.3
B33: 66 | C33: Prihodi od prodaje i donacija | E33: =E34+E37 -> 1701559.2 | F33: =SUM(F34,F37) -> 3641484.9 | G33: =SUM(G34,G37) -> 1739052
B34: 661 | C34: Prihodi od prodaje roba i pruženih usluga (vlastiti prihodi) | E34: =SUM(E35:E36) -> 1677912 | F34: =SUM(F36,F35) -> 3521370.8 | G34: =SUM(G36,G35) -> 1704828
B35: 6614 | C35: Prihodi od prodaje proizvoda i robe | E35: =6216809/7.5345 -> 825112.35 | F35: 1725396.5 | G35: 916985.05
B36: 6615 | C36: Prihodi od pruženih usluga | E36: =6425419/7.5345 -> 852799.65 | F36: 1795974.2 | G36: 787842.97
B37: 663 | C37: Donacije od pravnih i fizičkih osoba izvan proračuna | E37: =SUM(E38:E39) -> 23647.223 | F37: =SUM(F38:F39) -> 120114.13 | G37: =SUM(G38:G39) -> 34224
B38: 6631 | C38: Tekuće donacije | E38: =5000/7.5345 -> 663.61404 | F38: 53752.73 | G38: =5600+1310 -> 6910
B39: 6632 | C39: Kapitalne donacije | E39: =173170/7.5345 -> 22983.609 | F39: 66361.4 | G39: 27314
B40: 67 | C40: Prihodi iz nadležnog proračuna i HZZOa | E40: =SUM(E41) -> 20985600 | F40: =SUM(F41) -> 52367289 | G40: =SUM(G41) -> 24656056
B41: 673 | C41: Prihodi od HZZO-a | E41: =SUM(E42) -> 20985600 | F41: =SUM(F42) -> 52367289 | G41: =SUM(G42) -> 24656056
B42: 6731 | C42: Prihodi od HZZO-a temeljem ugovora | E42: =158116000/7.5345 -> 20985600 | F42: 52367289 | G42: 24656056
B43: 68 | C43: Kazne, upravne mjere i ostali prihodi | E43: =SUM(E44) -> 73202.601 | F43: =SUM(F44) -> 170007.44 | G43: =SUM(G44) -> 528760.56
...

Sheet Prihodi po ek klas i izvorima
A1: I. OPĆI DIO
A2: A. RAČUN PRIHODA
A3: PRIHODI PREMA EKONOMSKOJ KLASIFIKACIJI I IZVORIMA FINANCIRANJA
A5: PRIHODI POSLOVANJA
A6: Razred | B6: Skupina/podskupina/odjeljak | C6: Izvor | D6: Naziv | E6: OSTVARENJE/ IZVRŠENJE 1.-3.2025. | F6: IZVORNI PLAN ZA 2026. | G6: TEKUĆI PLAN ZA 2026. | H6: OSTVARENJE/ IZVRŠENJE 1.-6.2026. | I6: Indeks | J6: Indeks
A7: 1 | E7: 2 | F7: 3 | G7: 4 | H7: 5 | I7: 6=5/3*100 | J7: 7=5/4*100
A8: 6 | D8: Prihodi poslovanja | E8: =E9+E17+E28+E37+E45+E49+E55+E62+#REF!+E68+E85+E91+E98+E107 -> #REF! | F8: =F9+F17+F28+F37+F45+F49+F55+F62+F68+F85+F91+F98+F107 -> 27399696 | G8: =G9+G17+G28+G37+G45+G49+G55+G62+G68+G85+G91+G98+G107 -> 27028468 | H8: =H9+H17+H28+H37+H45+H49+H55+H62+H68+H85+H91+H98+H107 -> 12341724 | I8: =H8/F8*100 -> 45.043289 | J8: =H8/G8*100 -> 45.661945
B9: 67 | D9: Prihodi iz nadležnog proračuna i od HZZO-a temeljem ugovornih obveza | E9: =E10 -> 0 | F9: =F10 -> 1250606 | G9: =G10 -> 879378.02 | H9: =H10 -> 274213.08 | I9: =H9/F9*100 -> 21.926416 | J9: =H9/G9*100 -> 31.182617
B10: 671 | D10: Prihodi iz nadležnog proračuna za financiranje redovne djelatnosti proračunskih korisnika | E10: =E11 -> 0 | F10: =F11+F13 -> 1250606 | G10: =G11+G13 -> 879378.02 | H10: =H11+H13 -> 274213.08 | I10: =H10/F10*100 -> 21.926416 | J10: =H10/G10*100 -> 31.182617
B11: 6711 | D11: Prihodi iz nadležnog proračuna za financiranje rashoda poslovanja | E11: =E12 -> 0 | F11: =F12 -> 481103.03 | G11: =G12 -> 603978.02 | H11: =H12 -> 162217.39 | I11: =H11/F11*100 -> 33.717807 | J11: =H11/G11*100 -> 26.858161
B12: 67111 | D12: Prihodi iz nadležnog proračuna za financiranje rashoda poslovanja | E12: 0 | F12: 481103.03 | G12: 603978.02 | H12: 162217.39 | I12: =H12/F12*100 -> 33.717807 | J12: =H12/G12*100 -> 26.858161
B13: 6712 | D13: Prihodi iz nadležnog proračuna za nabavu nefinancijske imovine | E13: =E14 -> 0 | F13: =F14 -> 769502.99 | G13: =G14 -> 275400 | H13: =H14 -> 111995.69 | I13: =H13/F13*100 -> 14.554289 | J13: =H13/G13*100 -> 40.666554
B14: 67121 | D14: Prihodi iz nadležnog proračuna za nabavu nefinancijske imovine | E14: 0 | F14: 769502.99 | G14: 275400 | H14: 111995.69 | I14: =H14/F14*100 -> 14.554289 | J14: =H14/G14*100 -> 40.666554
C15: 11 | D15: Opći prihodi i primici | E15: =E9 -> 0 | F15: =F9 -> 1250606 | G15: =G9 -> 879378.02 | H15: =H9 -> 274213.08 | I15: =H15/F15*100 -> 21.926416 | J15: =H15/G15*100 -> 31.182617
C16: 1 | D16: OPĆI PRIHODI I PRIMICI | E16: =E15 -> 0 | F16: =F15 -> 1250606 | G16: =G15 -> 879378.02 | H16: =H15 -> 274213.08 | I16: =H16/F16*100 -> 21.926416 | J16: =H16/G16*100 -> 31.182617
B17: 64 | D17: Prihodi od imovine | E17: =SUM(E18,E25) -> 0 | F17: =SUM(F18,F25) -> 1000 | G17: =SUM(G18,G25) -> 1000 | H17: =SUM(H18,H25) -> 47.37 | I17: =H17/F17*100 -> 4.737 | J17: =H17/G17*100 -> 4.737
B18: 641 | D18: Prihodi od financijske imovine | E18: =SUM(E19,E21,E23) -> 0 | F18: =SUM(F19,F21,F23) -> 600 | G18: =SUM(G19,G21,G23) -> 600 | H18: =SUM(H19,H21,H23) -> 47.37 | I18: =H18/F18*100 -> 7.895 | J18: =H18/G18*100 -> 7.895
B19: 6413 | D19: Kamate na oročena sredstva i depozite po viđenju | E19: =SUM(E20) -> 0 | F19: =SUM(F20) -> 550 | G19: =SUM(G20) -> 550 | H19: =SUM(H20) -> 47.37 | I19: =H19/F19*100 -> 8.6127273 | J19: =H19/G19*100 -> 8.6127273
B20: 64132 | D20: Kamate na oročena sredstva i depozite po viđenju | E20: 0 | F20: =200+150+200 -> 550 | G20: 550 | H20: 47.37 | I20: =H20/F20*100 -> 8.6127273 | J20: =H20/G20*100 -> 8.6127273
B21: 6414 | D21: Prihodi od zateznih kamata | E21: =E22 -> 0 | F21: =F22 -> 50 | G21: =G22 -> 50 | H21: =H22 -> 0 | I21: =H21/F21*100 -> 0 | J21: =H21/G21*100 -> 0
B22: 64143 | D22: Prihodi od zateznih kamata | F22: 50 | G22: 50 | I22: =H22/F22*100 -> 0 | J22: =H22/G22*100 -> 0
B23: 6419 | D23: Ostali prihodi od financijske imovine | E23: =E24 -> 0 | F23: =F24 -> 0 | G23: =G24 -> 0 | H23: =H24 -> 0 | I23: =H23/F23*100 -> #DIV/0! | J23: =H23/G23*100 -> #DIV/0!
B24: 64199 | D24: Ostali prihodi od financijske imovine | F24: 0 | G24: 0 | H24: 0 | I24: =H24/F24*100 -> #DIV/0! | J24: =H24/G24*100 -> #DIV/0!
B25: 642 | D25: Prihodi od nefinancijske imovine | E25: =E26 -> 0 | F25: =F26 -> 400 | G25: =G26 -> 400 | H25: =H26 -> 0 | I25: =H25/F25*100 -> 0 | J25: =H25/G25*100 -> 0
B26: 6429 | D26: Ostali prihodi od nefinancijske imovine | E26: =E27 -> 0 | F26: =F27 -> 400 | G26: =G27 -> 400 | H26: =H27 -> 0 | I26: =H26/F26*100 -> 0 | J26: =H26/G26*100 -> 0
B27: 64299 | D27: Ostali prihodi od nefinancijske imovine | F27: 400 | G27: 400 | H27: 0 | I27: =H27/F27*100 -> 0 | J27: =H27/G27*100 -> 0
B28: 66 | D28: Prihodi od prodaje proizvoda i robe te pruženih usluga i prihodi od donacija | E28: =SUM(E29) -> 0 | F28: =SUM(F29) -> 3643116.3 | G28: =SUM(G29) -> 3643116.3 | H28: =SUM(H29) -> 1457596.6 | I28: =H28/F28*100 -> 40.00961 | J28: =H28/G28*100 -> 40.00961
B29: 661 | D29: Prihodi od prodaje proizvoda i robe te pruženih usluga | E29: =SUM(E30,E33) -> 0 | F29: =SUM(F30,F33) -> 3643116.3 | G29: =SUM(G30,G33) -> 3643116.3 | H29: =SUM(H30,H33) -> 1457596.6 | I29: =H29/F29*100 -> 40.00961 | J29: =H29/G29*100 -> 40.00961
B30: 6614 | D30: Prihod od prodaje proizvoda i usluga | E30: =E31+E32 -> 0 | F30: =F31+F32 -> 2625000 | G30: =G31+G32 -> 2625000 | H30: =H31+H32 -> 1109038.4 | I30: =H30/F30*100 -> 42.249083 | J30: =H30/G30*100 -> 42.249083
B31: 66141 | D31: Prihodi od prodaje proizvoda i robe - ljekarne | E31: 0 | F31: 25000 | G31: 25000 | I31: =H31/F31*100 -> 0 | J31: =H31/G31*100 -> 0
B32: 66142 | D32: Prihodi od prodaje robe | F32: =1000000+1600000 -> 2600000 | G32: 2600000 | H32: 1109038.4 | I32: =H32/F32*100 -> 42.655325 | J32: =H32/G32*100 -> 42.655325
B33: 6615 | D33: Prihodi od pruženih usluga | E33: =SUM(E34:E36) -> 0 | F33: =SUM(F34:F36) -> 1018116.3 | G33: =SUM(G34:G36) -> 1018116.3 | H33: =SUM(H34:H36) -> 348558.2 | I33: =H33/F33*100 -> 34.235597 | J33: =H33/G33*100 -> 34.235597
B34: 66151 | D34: Prihodi od pruženih usluga | E34: 0 | F34: =350000+163116.33+500000 -> 1013116.3 | G34: 1013116.3 | H34: 348558.2 | I34: =H34/F34*100 -> 34.404558 | J34: =H34/G34*100 -> 34.404558
B35: 66153 | D35: Prihodi za udio troškova u zakupu | E35: 0 | I35: =H35/F35*100 -> #DIV/0! | J35: =H35/G35*100 -> #DIV/0!
B36: 66157 | D36: Prihod od usluga ref. dežurstva specijalizanti | E36: 0 | F36: 5000 | G36: 5000 | I36: =H36/F36*100 -> 0 | J36: =H36/G36*100 -> 0
B37: 68 | D37: Kazne, upravne mjere i ostali prihodi | E37: =SUM(E38) -> 0 | F37: =SUM(F38) -> 161000 | G37: =SUM(G38) -> 161000 | H37: =SUM(H38) -> 93685.16 | I37: =H37/F37*100 -> 58.18954 | J37: =H37/G37*100 -> 58.18954
B38: 683 | D38: Ostali prihodi | E38: =SUM(E39) -> 0 | F38: =SUM(F39) -> 161000 | G38: =SUM(G39) -> 161000 | H38: =SUM(H39) -> 93685.16 | I38: =H38/F38*100 -> 58.18954 | J38: =H38/G38*100 -> 58.18954
B39: 6831 | D39: Ostali prihodi | E39: =E40+E41+E42 -> 0 | F39: =F40+F41+F42 -> 161000 | G39: =G40+G41+G42 -> 161000 | H39: =H40+H41+H42 -> 93685.16 | I39: =H39/F39*100 -> 58.18954 | J39: =H39/G39*100 -> 58.18954
B40: 68311 | D40: Ostali prihodi | E40: 0 | F40: =3000+130000 -> 133000 | G40: 133000 | H40: 93685.16 | I40: =H40/F40*100 -> 70.43997 | J40: =H40/G40*100 -> 70.43997
B41: 68312 | D41: Ostali prihodi-od inventurnih viškova | E41: 0 | F41: 3000 | G41: 3000 | I41: =H41/F41*100 -> 0 | J41: =H41/G41*100 -> 0
...

Sheet  PRIHODI I RASHODI-izvori
A1: I. OPĆI DIO
A2: A. RAČUN PRIHODA I RASHODA
A3: RASHODI PREMA EKONOMSKOJ KLASIFIKACIJI I IZVORIMA FINANCIRANJA
A5: RASHODI POSLOVANJA
A6: Razred | B6: Skupina/podskupina/odjeljak | C6: Izvor | D6: Naziv | E6: OSTVARENJE/ IZVRŠENJE 1.-3.2025. | F6: IZVORNI PLAN ZA 2026. | G6: TEKUĆI PLAN ZA 2026. | H6: OSTVARENJE/ IZVRŠENJE 1.-6.2026. | I6: Indeks | J6: Indeks
A7: 1 | E7: 2 | F7: 3 | G7: 4 | H7: 5 | I7: 6=5/3*100 | J7: 7=5/4*100
A8: 3 | D8: Rashodi poslovanja | E8: =E11+E246+E109+E463+E507+E536+E572+E603 -> 0 | F8: =F11+F246+F109+F463+F507+F536+F572+F603 -> 26300528 | G8: =G11+G246+G109+G463+G507+G536+G572+G603 -> 26423403 | H8: =H11+H246+H109+H463+H507+H536+H572+H603 -> 12760368 | I8: =H8/F8*100 -> 48.517535 | J8: =H8/G8*100 -> 48.291917
A9: 4 | D9: Rashodi za nabavu nefinancijske imovine | E9: =E73+E426+E223+#REF!+E500+E590+E615 -> #REF! | F9: =F73+F426+F223+F500+F590+F615 -> 854875.27 | G9: =G73+G426+G223+G500+G590+G615 -> 360772.28 | H9: =H73+H426+H223+H500+H590+H615 -> 45441.15 | I9: =H9/F9*100 -> 5.3155298 | J9: =H9/G9*100 -> 12.595521
D10: KORIŠTENJE DEC-a SREDSTAVA ŽUPANIJE
A11: 3 | D11: Rashodi poslovanja | E11: =E12+E22 -> 0 | F11: =F12+F22 -> 481103.03 | G11: =G12+G22 -> 603978.02 | H11: =H12+H22 -> 162217.39 | I11: =H11/F11*100 -> 33.717807 | J11: =H11/G11*100 -> 26.858161
B12: 31 | D12: Rashodi za zaposlene | E12: =E13+E16+E19 -> 0 | F12: =F13+F16+F19 -> 6978.02 | G12: =G13+G16+G19 -> 6978.02 | H12: =H13+H16+H19 -> 96593.29 | I12: =H12/F12*100 -> 1384.2507 | J12: =H12/G12*100 -> 1384.2507
B13: 311 | D13: Plaće | E13: =SUM(E14) -> 0 | F13: =SUM(F14) -> 5989.73 | G13: =SUM(G14) -> 5989.73 | H13: =SUM(H14) -> 7715.84 | I13: =H13/F13*100 -> 128.81783 | J13: =H13/G13*100 -> 128.81783
B14: 3111 | D14: Plaće za redovan rad | E14: =SUM(E15) -> 0 | F14: =SUM(F15) -> 5989.73 | G14: =SUM(G15) -> 5989.73 | H14: =SUM(H15) -> 7715.84 | I14: =H14/F14*100 -> 128.81783 | J14: =H14/G14*100 -> 128.81783
B15: 31111 | D15: Plaće za redovan rad | E15: ='Rekapitulacija Posebni dio'!C528+'Rekapitulacija Posebni dio'!C547 -> 0 | F15: ='Rekapitulacija Posebni dio'!D528+'Rekapitulacija Posebni dio'!D547 -> 5989.73 | G15: ='Rekapitulacija Posebni dio'!E528+'Rekapitulacija Posebni dio'!E547 -> 5989.73 | H15: ='Rekapitulacija Posebni dio'!F528+'Rekapitulacija Posebni dio'!F547 -> 7715.84 | I15: =H15/F15*100 -> 128.81783 | J15: =H15/G15*100 -> 128.81783
B16: 312 | D16: Ostali rashodi za zaposlene | E16: =E17 -> 0 | F16: =F17 -> 0 | G16: =G17 -> 0 | H16: =H17 -> 6396.59 | I16: =IFERROR(H16/F16*100,H16) -> 6396.59 | J16: =IFERROR(H16/G16*100,H16) -> 6396.59
B17: 3121 | D17: Ostali rashodi za zaposlene | E17: =E18 -> 0 | F17: =F18 -> 0 | G17: =G18 -> 0 | H17: =H18 -> 6396.59 | I17: =IFERROR(H17/F17*100,H17) -> 6396.59 | J17: =IFERROR(H17/G17*100,H17) -> 6396.59
B18: 31219 | D18: Ostali nenavedeni rashodi za zaposlene | E18: ='Rekapitulacija Posebni dio'!C448 -> 0 | F18: ='Rekapitulacija Posebni dio'!D448 -> 0 | G18: ='Rekapitulacija Posebni dio'!E448 -> 0 | H18: ='Rekapitulacija Posebni dio'!F448 -> 6396.59 | I18: =IFERROR(H18/F18*100,H18) -> 6396.59 | J18: =IFERROR(H18/G18*100,H18) -> 6396.59
B19: 313 | D19: Doprinosi na plaće | E19: =SUM(E20) -> 0 | F19: =SUM(F20) -> 988.29 | G19: =SUM(G20) -> 988.29 | H19: =SUM(H20) -> 82480.86 | I19: =H19/F19*100 -> 8345.8155 | J19: =H19/G19*100 -> 8345.8155
B20: 3132 | D20: Doprinosi za obvezno zdravstveno osiguranje | E20: =SUM(E21) -> 0 | F20: =SUM(F21) -> 988.29 | G20: =SUM(G21) -> 988.29 | H20: =SUM(H21) -> 82480.86 | I20: =H20/F20*100 -> 8345.8155 | J20: =H20/G20*100 -> 8345.8155
B21: 31321 | D21: Doprinosi za obvezno zdravstveno osiguranje | E21: ='Rekapitulacija Posebni dio'!C533+'Rekapitulacija Posebni dio'!C552 -> 0 | F21: ='Rekapitulacija Posebni dio'!D533+'Rekapitulacija Posebni dio'!D552 -> 988.29 | G21: ='Rekapitulacija Posebni dio'!E533+'Rekapitulacija Posebni dio'!E552 -> 988.29 | H21: ='Rekapitulacija Posebni dio'!F451+'Rekapitulacija Posebni dio'!F533+'Rekapitulacija Posebni dio'!F552 -> 82480.86 | I21: =H21/F21*100 -> 8345.8155 | J21: =H21/G21*100 -> 8345.8155
B22: 32 | D22: Materijalni rashodi | E22: =E23+E29+E44+E62+E66 -> 0 | F22: =F23+F29+F44+F62+F66 -> 474125.01 | G22: =G23+G29+G44+G62+G66 -> 597000 | H22: =H23+H29+H44+H62+H66 -> 65624.1 | I22: =H22/F22*100 -> 13.841096 | J22: =H22/G22*100 -> 10.992312
B23: 321 | D23: Naknade troškova zaposlenima | E23: =E24+E27 -> 0 | F23: =F24+F27 -> 4200 | G23: =G24+G27 -> 4200 | H23: =H24+H27 -> 0 | I23: =H23/F23*100 -> 0 | J23: =H23/G23*100 -> 0
B24: 3211 | D24: Službena putovanja | E24: =E25+E26 -> 0 | F24: =F25+F26 -> 470 | G24: =G25+G26 -> 470 | H24: =H25+H26 -> 0 | I24: =H24/F24*100 -> 0 | J24: =H24/G24*100 -> 0
B25: 32111 | D25: Dnevnice za službeni put u zemlji | E25: ='Rekapitulacija Posebni dio'!C556 -> 0 | F25: ='Rekapitulacija Posebni dio'!D556 -> 400 | G25: ='Rekapitulacija Posebni dio'!E556 -> 400 | H25: ='Rekapitulacija Posebni dio'!F556 -> 0 | I25: =H25/F25*100 -> 0 | J25: =H25/G25*100 -> 0
B26: 32119 | D26: Ostali rashodi za sl. putovanje (cestarine, trošak parkiranja) | E26: ='Rekapitulacija Posebni dio'!C557 -> 0 | F26: ='Rekapitulacija Posebni dio'!D557 -> 70 | G26: ='Rekapitulacija Posebni dio'!E557 -> 70 | H26: ='Rekapitulacija Posebni dio'!F557 -> 0 | I26: =H26/F26*100 -> 0 | J26: =H26/G26*100 -> 0
B27: 3213 | D27: Stručno usavršavanje zaposlenih | E27: =E28 -> 0 | F27: =F28 -> 3730 | G27: =G28 -> 3730 | H27: =H28 -> 0 | I27: =H27/F27*100 -> 0 | J27: =H27/G27*100 -> 0
B28: 32131 | D28: Seminari, savjetovanja i simpoziji | E28: ='Rekapitulacija Posebni dio'!C560 -> 0 | F28: ='Rekapitulacija Posebni dio'!D560 -> 3730 | G28: ='Rekapitulacija Posebni dio'!E560 -> 3730 | H28: ='Rekapitulacija Posebni dio'!F560 -> 0 | I28: =H28/F28*100 -> 0 | J28: =H28/G28*100 -> 0
B29: 322 | D29: Rashodi za materijal i energiju | E29: =E30+E33+E36+E40 -> 0 | F29: =F30+F33+F36+F40 -> 154892.1 | G29: =G30+G33+G36+G40 -> 165200 | H29: =H30+H33+H36+H40 -> 896.59 | I29: =H29/F29*100 -> 0.57884811 | J29: =H29/G29*100 -> 0.54273002
B30: 3221 | D30: Uredski materijal i ostali materijalni rashodi | E30: =E31+E32 -> 0 | F30: =F31+F32 -> 0 | G30: =G31+G32 -> 0 | H30: =H31+H32 -> 0 | I30: =H30/F30*100 -> #DIV/0! | J30: =H30/G30*100 -> #DIV/0!
B31: 32211 | D31: Uredski materijal | E31: 0 | F31: 0 | G31: 0 | H31: 0 | I31: =H31/F31*100 -> #DIV/0! | J31: =H31/G31*100 -> #DIV/0!
B32: 32214 | D32: Materijal i sredstva za čišćenje | E32: 0 | F32: 0 | G32: 0 | H32: 0 | I32: =H32/F32*100 -> #DIV/0! | J32: =H32/G32*100 -> #DIV/0!
B33: 3222 | D33: Materijal i sirovine | E33: =SUM(E34:E35) -> 0 | F33: =SUM(F34:F35) -> 150000 | G33: =SUM(G34:G35) -> 150000 | H33: =SUM(H34:H35) -> 0 | I33: =H33/F33*100 -> 0 | J33: =H33/G33*100 -> 0
B34: 32221 | D34: Potrošni medicinski materijal | E34: 0 | F34: 0 | G34: 0 | H34: 0 | I34: =H34/F34*100 -> #DIV/0! | J34: =H34/G34*100 -> #DIV/0!
B35: 32225 | D35: Roba | E35: ='Rekapitulacija Posebni dio'!C455 -> 0 | F35: ='Rekapitulacija Posebni dio'!D455 -> 150000 | G35: ='Rekapitulacija Posebni dio'!E455 -> 150000 | H35: ='Rekapitulacija Posebni dio'!F455 -> 0 | I35: =H35/F35*100 -> 0 | J35: =H35/G35*100 -> 0
B36: 3223 | D36: Energija | E36: =E37+E38+E39 -> 0 | F36: =F37+F38+F39 -> 200 | G36: =G37+G38+G39 -> 200 | H36: =H37+H38+H39 -> 0 | I36: =H36/F36*100 -> 0 | J36: =H36/G36*100 -> 0
B37: 32231 | D37: Električna energija | E37: 0 | F37: 0 | G37: 0 | H37: 0 | I37: =H37/F37*100 -> #DIV/0! | J37: =H37/G37*100 -> #DIV/0!
B38: 32233 | D38: Plin | E38: 0 | F38: 0 | G38: 0 | H38: 0 | I38: =H38/F38*100 -> #DIV/0! | J38: =H38/G38*100 -> #DIV/0!
B39: 32234 | D39: Motorni benzin i dizel gorivo | E39: ='Rekapitulacija Posebni dio'!C563 -> 0 | F39: ='Rekapitulacija Posebni dio'!D563 -> 200 | G39: ='Rekapitulacija Posebni dio'!E563 -> 200 | H39: ='Rekapitulacija Posebni dio'!F563 -> 0 | I39: =H39/F39*100 -> 0 | J39: =H39/G39*100 -> 0
B40: 3224 | D40: Materijal i dijelovi za tekuće i investicijsko održavanje | E40: =SUM(E41:E43) -> 0 | F40: =SUM(F41:F43) -> 4692.1 | G40: =SUM(G41:G43) -> 15000 | H40: =SUM(H41:H43) -> 896.59 | I40: =H40/F40*100 -> 19.108502 | J40: =H40/G40*100 -> 5.9772667
B41: 32241 | D41: Materijal i dijelovi za tekuće i invest. održavanje građevinskih objekata | E41: ='Rekapitulacija Posebni dio'!C476 -> 0 | F41: ='Rekapitulacija Posebni dio'!D476 -> 4692.1 | G41: ='Rekapitulacija Posebni dio'!E476 -> 15000 | H41: ='Rekapitulacija Posebni dio'!F476 -> 896.59 | I41: =H41/F41*100 -> 19.108502 | J41: =H41/G41*100 -> 5.9772667
...

Sheet Prih.i rash.
B2: PRIHODI I RASHODI PREMA IZVORIMA FINANCIRANJA
B4: BROJČANA OZNAKA I NAZIV | C4: OSTVARENJE/ IZVRŠENJE 1.-3.2025. | D4: IZVORNI PLAN ZA 2026. | E4: TEKUĆI PLAN ZA 2026. | F4: OSTVARENJE/ IZVRŠENJE 1.-6.2026.
B5: UKUPNO PRIHODI | C5: =C6+C8+C10+C15+C21+C23 -> #REF! | D5: =D6+D8+D10+D15+D21+D23 -> 27400996 | E5: =E6+E8+E10+E15+E21+E23 -> 27029768 | F5: =F6+F8+F10+F15+F21+F23 -> 12342056
B6: 1 Opći prihodi i primici | C6: =C7 -> 0 | D6: =D7 -> 1250606 | E6: =E7 -> 879378.02 | F6: =F7 -> 274213.08
B7: 11 Opći prihodi i primici | C7: ='Prihodi po ek klas i izvorima'!E15 -> 0 | D7: ='Prihodi po ek klas i izvorima'!F15 -> 1250606 | E7: ='Prihodi po ek klas i izvorima'!G15 -> 879378.02 | F7: ='Prihodi po ek klas i izvorima'!H15 -> 274213.08
B8: 3 Vlastiti prihodi | C8: =C9 -> 0 | D8: =D9 -> 3805116.3 | E8: =E9 -> 3805116.3 | F8: =F9 -> 1551329.2
B9: 31 Vlastiti prihodi | C9: ='Prihodi po ek klas i izvorima'!E43 -> 0 | D9: ='Prihodi po ek klas i izvorima'!F43 -> 3805116.3 | E9: ='Prihodi po ek klas i izvorima'!G43 -> 3805116.3 | F9: ='Prihodi po ek klas i izvorima'!H43 -> 1551329.2
B10: 4 Prihodi za posebne namjene | C10: =SUM(C11:C14) -> 0 | D10: =SUM(D11:D14) -> 21155050 | E10: =SUM(E11:E14) -> 21155050 | F10: =SUM(F11:F14) -> 10419222
B11: 43 Prihodi od financijske imovine | C11: ='Prihodi po ek klas i izvorima'!E45 -> 0 | D11: ='Prihodi po ek klas i izvorima'!F45 -> 100000 | E11: ='Prihodi po ek klas i izvorima'!G45 -> 100000 | F11: ='Prihodi po ek klas i izvorima'!H45 -> 0
B12: 43 Prihodi za posebne namjene (HZZO) | C12: ='Prihodi po ek klas i izvorima'!E61 -> 0 | D12: ='Prihodi po ek klas i izvorima'!F61 -> 20119750 | E12: ='Prihodi po ek klas i izvorima'!G61 -> 20119750 | F12: ='Prihodi po ek klas i izvorima'!H61 -> 10194771
B13: 43 Prihodi za posebne namjene (dopunsko osiguranje, participacija,…) | C13: ='Prihodi po ek klas i izvorima'!E49 -> 0 | D13: ='Prihodi po ek klas i izvorima'!F49 -> 932300 | E13: ='Prihodi po ek klas i izvorima'!G49 -> 932300 | F13: ='Prihodi po ek klas i izvorima'!H49 -> 224451.64
B14: 43 Ostali prihodi | C14: ='Prihodi po ek klas i izvorima'!E65 -> 0 | D14: ='Prihodi po ek klas i izvorima'!F65 -> 3000 | E14: ='Prihodi po ek klas i izvorima'!G65 -> 3000 | F14: ='Prihodi po ek klas i izvorima'!H65 -> 0
B15: 5 Pomoći | C15: =#REF!+C16+C17+C19 -> #REF! | D15: =D16+D17+D19 -> 1176423.8 | E15: =E16+E17+E19 -> 1176423.8 | F15: =F16+F17+F19 -> 95063.32
B16: 52 Ostale pomoći | C16: ='Prihodi po ek klas i izvorima'!E69+'Prihodi po ek klas i izvorima'!E73+'Prihodi po ek klas i izvorima'!E76+'Prihodi po ek klas i izvorima'!E81 -> 0 | D16: ='Prihodi po ek klas i izvorima'!F69+'Prihodi po ek klas i izvorima'!F73+'Prihodi po ek klas i izvorima'!F76+'Prihodi po ek klas i izvorima'!F81 -> 582814.61 | E16: ='Prihodi po ek klas i izvorima'!G69+'Prihodi po ek klas i izvorima'!G73+'Prihodi po ek klas i izvorima'!G76+'Prihodi po ek klas i izvorima'!G81 -> 582814.61 | F16: ='Prihodi po ek klas i izvorima'!H69+'Prihodi po ek klas i izvorima'!H73+'Prihodi po ek klas i izvorima'!H76+'Prihodi po ek klas i izvorima'!H81 -> 0
B17: 56 Fondovi EU | C17: =C18 -> 0 | D17: =D18 -> 156200 | E17: =E18 -> 156200 | F17: =F18 -> 0
B18: 563 Europski fond za regionalni razvoj | C18: ='Prihodi po ek klas i izvorima'!E89 -> 0 | D18: ='Prihodi po ek klas i izvorima'!F89 -> 156200 | E18: ='Prihodi po ek klas i izvorima'!G89 -> 156200 | F18: ='Prihodi po ek klas i izvorima'!H89 -> 0
B19: 58 Instrumenti EU nove generacije | C19: =C20 -> 0 | D19: =D20 -> 437409.22 | E19: =E20 -> 437409.22 | F19: =F20 -> 95063.32
B20: 581 Mehanizam za oporavak i otpornost - bespovratna sredstva | C20: ='Prihodi po ek klas i izvorima'!E95 -> 0 | D20: ='Prihodi po ek klas i izvorima'!F95 -> 437409.22 | E20: ='Prihodi po ek klas i izvorima'!G95 -> 437409.22 | F20: ='Prihodi po ek klas i izvorima'!H95 -> 95063.32
B21: 6 Donacije | C21: =C22 -> 0 | D21: =D22 -> 2000 | E21: =E22 -> 2000 | F21: =F22 -> 0
B22: 61 Donacije | C22: ='Prihodi po ek klas i izvorima'!E105 -> 0 | D22: ='Prihodi po ek klas i izvorima'!F105 -> 2000 | E22: ='Prihodi po ek klas i izvorima'!G105 -> 2000 | F22: ='Prihodi po ek klas i izvorima'!H105 -> 0
B23: 7 Prihodi od nefinancijske imovine i naknade štete s naslova osiguranja | C23: =C24 -> 0 | D23: =D24 -> 11800 | E23: =E24 -> 11800 | F23: =F24 -> 2227.7
B24: 71 Prihodi od nefinancijske imovine i naknade štete s naslova osiguranja | C24: ='Prihodi po ek klas i izvorima'!E111+'Prihodi po ek klas i izvorima'!E120 -> 0 | D24: ='Prihodi po ek klas i izvorima'!F111+'Prihodi po ek klas i izvorima'!F120 -> 11800 | E24: ='Prihodi po ek klas i izvorima'!G111+'Prihodi po ek klas i izvorima'!G120 -> 11800 | F24: ='Prihodi po ek klas i izvorima'!H111+'Prihodi po ek klas i izvorima'!H120 -> 2227.7
B27: UKUPNO RASHODI | C27: =C28+C30+C32+C34+C40+C42 -> #REF! | D27: =D28+D30+D32+D34+D40+D42 -> 27155403 | E27: =E28+E30+E32+E34+E40+E42 -> 26784175 | F27: =F28+F30+F32+F34+F40+F42 -> 12805809
B28: 1 Opći prihodi i primici | C28: =C29 -> 0 | D28: =D29 -> 1250606 | E28: =E29 -> 879378.02 | F28: =F29 -> 168588.08
B29: 11 Opći prihodi i primici | C29: =' PRIHODI I RASHODI-izvori'!E107 -> 0 | D29: =' PRIHODI I RASHODI-izvori'!F107 -> 1250606 | E29: =' PRIHODI I RASHODI-izvori'!G107 -> 879378.02 | F29: =' PRIHODI I RASHODI-izvori'!H107 -> 168588.08
B30: 3 Vlastiti prihodi | C30: =C31 -> 0 | D30: =D31 -> 3804916.3 | E30: =E31 -> 3804916.3 | F30: =F31 -> 1551329.2
B31: 31 Vlastiti prihodi | C31: =' PRIHODI I RASHODI-izvori'!E244 -> 0 | D31: =' PRIHODI I RASHODI-izvori'!F244 -> 3804916.3 | E31: =' PRIHODI I RASHODI-izvori'!G244 -> 3804916.3 | F31: =' PRIHODI I RASHODI-izvori'!H244 -> 1551329.2
B32: 4 Prihodi za posebne namjene | C32: =C33 -> 0 | D32: =D33 -> 21410157 | E32: =E33 -> 21410157 | F32: =F33 -> 10932150
B33: 43 Prihodi za posebne namjene | C33: =' PRIHODI I RASHODI-izvori'!E461 -> 0 | D33: =' PRIHODI I RASHODI-izvori'!F461 -> 21410157 | E33: =' PRIHODI I RASHODI-izvori'!G461 -> 21410157 | F33: =' PRIHODI I RASHODI-izvori'!H461 -> 10932150
B34: 5 Pomoći | C34: =#REF!+C35+C36+C38 -> #REF! | D34: =D35+D36+D38 -> 675923.83 | E34: =E35+E36+E38 -> 675923.83 | F34: =F35+F36+F38 -> 151514.42
B35: 52 Ostale pomoći | C35: =' PRIHODI I RASHODI-izvori'!E506 -> 0 | D35: =' PRIHODI I RASHODI-izvori'!F506 -> 82314.61 | E35: =' PRIHODI I RASHODI-izvori'!G506 -> 82314.61 | F35: =' PRIHODI I RASHODI-izvori'!H506 -> 4661.04
B36: 56 Fondovi EU | C36: =C37 -> 0 | D36: =D37 -> 156200 | E36: =E37 -> 156200 | F36: =F37 -> 30798.89
B37: 563 Europski fond za regionalni razvoj | C37: =' PRIHODI I RASHODI-izvori'!E534 -> 0 | D37: =' PRIHODI I RASHODI-izvori'!F534 -> 156200 | E37: =' PRIHODI I RASHODI-izvori'!G534 -> 156200 | F37: =' PRIHODI I RASHODI-izvori'!H534 -> 30798.89
B38: 58 Instrumenti EU nove generacije | C38: =C39 -> 0 | D38: =D39 -> 437409.22 | E38: =E39 -> 437409.22 | F38: =F39 -> 116054.49
B39: 581 Mehanizam za oporavak i otpornost - bespovratna sredstva | C39: =' PRIHODI I RASHODI-izvori'!E569 -> 0 | D39: =' PRIHODI I RASHODI-izvori'!F569 -> 437409.22 | E39: =' PRIHODI I RASHODI-izvori'!G569 -> 437409.22 | F39: =' PRIHODI I RASHODI-izvori'!H569 -> 116054.49
B40: 6 Donacije | C40: =C41 -> 0 | D40: =D41 -> 2000 | E40: =E41 -> 2000 | F40: =F41 -> 0
B41: 61 Donacije | C41: =' PRIHODI I RASHODI-izvori'!E601 -> 0 | D41: =' PRIHODI I RASHODI-izvori'!F601 -> 2000 | E41: =' PRIHODI I RASHODI-izvori'!G601 -> 2000 | F41: =' PRIHODI I RASHODI-izvori'!H601 -> 0
B42: 7 Prihodi od nefinancijske imovine i naknade štete s naslova osiguranja | C42: =C43 -> 0 | D42: =D43 -> 11800 | E42: =E43 -> 11800 | F42: =F43 -> 2227.7
B43: 71 Prihodi od nefinancijske imovine i naknade štete s naslova osiguranja | C43: =' PRIHODI I RASHODI-izvori'!E624 -> 0 | D43: =' PRIHODI I RASHODI-izvori'!F624 -> 11800 | E43: =' PRIHODI I RASHODI-izvori'!G624 -> 11800 | F43: =' PRIHODI I RASHODI-izvori'!H624 -> 2227.7

Sheet RASHODI-funkcijska
A2: I. OPĆI DIO
A4: A. RAČUN PRIHODA I RASHODA
A6: IZVJEŠTAJ O RASHODIMA PREMA FUNKCIJSKOJ KLASIFIKACIJI
A8: BROJČANA OZNAKA I NAZIV | B8: OSTVARENJE/ IZVRŠENJE 1.-3.2025. | C8: IZVORNI PLAN ZA 2026. | D8: TEKUĆI PLAN ZA 2026. | E8: OSTVARENJE/ IZVRŠENJE 1.-6.2026. | F8: Indeks | G8: Indeks
A9: 1 | B9: 2 | C9: 3 | D9: 4 | E9: 5 | F9: 6=5/3*100 | G9: 7=5/4*100
A10: UKUPNO RASHODI | B10: ='RASHODI-ek.kl.'!D279 -> #REF! | C10: ='RASHODI-ek.kl.'!E279 -> 27155403 | D10: ='RASHODI-ek.kl.'!F279 -> 26784175 | E10: ='RASHODI-ek.kl.'!G279 -> 12805809 | F10: =E10/C10*100 -> 47.157499 | G10: =E10/D10*100 -> 47.811101
A11: 07 Zdravstvo | B11: =B12 -> #REF! | C11: =C12 -> 27155403 | D11: =D12 -> 26784175 | E11: =E12 -> 12805809 | F11: =E11/C11*100 -> 47.157499 | G11: =E11/D11*100 -> 47.811101
A12: 072 Služba za vanjske pacijente | B12: =B13+B14+B15 -> #REF! | C12: =C13+C14+C15 -> 27155403 | D12: =D13+D14+D15 -> 26784175 | E12: =E13+E14+E15 -> 12805809 | F12: =E12/C12*100 -> 47.157499 | G12: =E12/D12*100 -> 47.811101
A13: 0721 Opće medicinske usluge | B13: =ROUND(B10*0.6,2) -> #REF! | C13: =ROUND(C10*0.6,2) -> 16293242 | D13: =ROUND(D10*0.6,2) -> 16070505 | E13: =ROUND(E10*0.6,2) -> 7683485.4 | F13: =E13/C13*100 -> 47.157499 | G13: =E13/D13*100 -> 47.811101
A14: 0722 Specijalističke med. usluge | B14: =ROUND(B10*0.15,2) -> #REF! | C14: =ROUND(C10*0.15,2) -> 4073310.5 | D14: =ROUND(D10*0.15,2) -> 4017626.3 | E14: =ROUND(E10*0.15,2) -> 1920871.4 | F14: =E14/C14*100 -> 47.157499 | G14: =E14/D14*100 -> 47.811101
A15: 0723 Zubarske usluge | B15: =ROUND(B10*0.25,2) -> #REF! | C15: =ROUND(C10*0.25,2) -> 6788850.8 | D15: =ROUND(D10*0.25,2) -> 6696043.8 | E15: =ROUND(E10*0.25,2) -> 3201452.2 | F15: =E15/C15*100 -> 47.157499 | G15: =E15/D15*100 -> 47.811101
A16: 073 Bolničke službe | C16: =C17 -> 0 | D16: =D17 -> 0 | E16: =E17 -> 0 | F16: =IFERROR(E16/C16*100,E16) -> 0 | G16: =IFERROR(E16/D16*100,E16) -> 0
A17: 0731 Usluge općih bolnica | F17: =IFERROR(E17/C17*100,E17) -> 0 | G17: =IFERROR(E17/D17*100,E17) -> 0
A18: 074 Službe javnog zdravstva | C18: 0 | D18: 0 | E18: 0 | F18: =IFERROR(E18/C18*100,E18) -> 0 | G18: =IFERROR(E18/D18*100,E18) -> 0

Sheet Rekapitulacija Posebni dio
A1: II. POSEBNI DIO
A2: Rashodi i izdaci po izvorima financiranja i ekonomskoj klasifikaciji raspoređenih u programe, aktivnosti i projekte
A4: Šifra | B4: Naziv | C4: OSTVARENJE/ IZVRŠENJE 1.-3.2025. | D4: IZVORNI PLAN ZA 2026. | E4: TEKUĆI PLAN ZA 2026. | F4: OSTVARENJE/ IZVRŠENJE 1.-6.2026. | G4: Indeks | H4: Indeks
A5: 1 | C5: 2 | D5: 3 | E5: 4 | F5: 5 | G5: 6=5/3*100 | H5: 7=5/4*100
A6: PROGRAM | B6: RAD I RAZVOJ USTANOVE | C6: =C8+C225+C358+C401+C421+C443+C457+#REF!+C523+C572+C542+C579+C616+C660+C699+C742 -> #REF! | D6: =D8+D225+D358+D401+D421+D443+D457+D523+D572+D542+D579+D616+D660+D699+D742 -> 27155403 | E6: =E8+E225+E358+E401+E421+E443+E457+E523+E572+E542+E579+E616+E660+E699+E742 -> 26784175 | F6: =F8+F225+F358+F401+F421+F443+F457+F523+F572+F542+F579+F616+F660+F699+F742 -> 12805809 | G6: =F6/D6*100 -> 47.157499 | H6: =F6/E6*100 -> 47.811101
A7: AKTIVNOST | B7: Redovna djelatnost | C7: =C8+C225+C358+C401+C421+C443 -> 0 | D7: =D8+D225+D358+D401+D421+D443 -> 25447188 | E7: =E8+E225+E358+E401+E421+E443 -> 25447188 | F7: =F8+F225+F358+F401+F421+F443 -> 12573311 | G7: =F7/D7*100 -> 49.409431 | H7: =F7/E7*100 -> 49.409431
A8: 43 | B8: Ostali prihodi za posebne namjene | C8: =C9+C189 -> 0 | D8: =D9+D189 -> 21410157 | E8: =E9+E189 -> 21410157 | F8: =F9+F189 -> 10932150 | G8: =F8/D8*100 -> 51.060576 | H8: =F8/E8*100 -> 51.060576
A9: 3 | B9: Rashodi poslovanja | C9: =C10+C34+C157+C170+C173+C178 -> 0 | D9: =D10+D34+D157+D170+D173+D178 -> 21324785 | E9: =E10+E34+E157+E170+E173+E178 -> 21324785 | F9: =F10+F34+F157+F170+F173+F178 -> 10893079 | G9: =F9/D9*100 -> 51.081778 | H9: =F9/E9*100 -> 51.081778
A10: 31 | B10: Rashodi za zaposlene | C10: =C11+C20+C28 -> 0 | D10: =D11+D20+D28 -> 13895551 | E10: =E11+E20+E28 -> 13895551 | F10: =F11+F20+F28 -> 7388495.9 | G10: =F10/D10*100 -> 53.171665 | H10: =F10/E10*100 -> 53.171665
A11: 311 | B11: Plaće | C11: =C12+C15+C16+C18 -> 0 | D11: =D12+D15+D16+D18 -> 11748762 | E11: =E12+E15+E16+E18 -> 11748762 | F11: =F12+F15+F16+F18 -> 6218019.2 | G11: =F11/D11*100 -> 52.924887 | H11: =F11/E11*100 -> 52.924887
A12: 3111 | B12: Plaće za redovan rad | C12: =SUM(C13:C14) -> 0 | D12: =SUM(D13:D14) -> 11578762 | E12: =SUM(E13:E14) -> 11578762 | F12: =SUM(F13:F14) -> 6004596.1 | G12: =F12/D12*100 -> 51.858704 | H12: =F12/E12*100 -> 51.858704
A13: 31111 | B13: Plaće za redovan rad | D13: =3370067.31+4865000+3341895 -> 11576962 | E13: 11576962 | F13: =6592115.78-F230-F363-F528-F547-F584-F621-F665 -> 6004157.1 | G13: =F13/D13*100 -> 51.862975 | H13: =F13/E13*100 -> 51.862975
A14: 31113 | B14: Plaće po sudskim presudama | D14: 1800 | E14: 1800 | F14: 438.96 | G14: =F14/D14*100 -> 24.386667 | H14: =F14/E14*100 -> 24.386667
A15: 3112 | B15: Plaće u naravi | G15: =F15/D15*100 -> #DIV/0! | H15: =F15/E15*100 -> #DIV/0!
A16: 3113 | B16: Plaće za prekovremeni rad | C16: =SUM(C17) -> 0 | D16: =SUM(D17) -> 170000 | E16: =SUM(E17) -> 170000 | F16: =SUM(F17) -> 213423.12 | G16: =F16/D16*100 -> 125.54301 | H16: =F16/E16*100 -> 125.54301
A17: 31131 | B17: Plaće za prekovremeni rad | D17: =80000+90000 -> 170000 | E17: 170000 | F17: =213423.12 -> 213423.12 | G17: =F17/D17*100 -> 125.54301 | H17: =F17/E17*100 -> 125.54301
A18: 3114 | B18: Plaće za posebne uvjete rada | C18: =SUM(C19) -> 0 | D18: =SUM(D19) -> 0 | E18: =SUM(E19) -> 0 | F18: =SUM(F19) -> 0 | G18: =F18/D18*100 -> #DIV/0! | H18: =F18/E18*100 -> #DIV/0!
A19: 31141 | B19: Plaće za posebne uvjete rada | C19: 0 | D19: 0 | E19: 0 | F19: 0 | G19: =F19/D19*100 -> #DIV/0! | H19: =F19/E19*100 -> #DIV/0!
A20: 312 | B20: Ostali rashodi za zaposlene | C20: =C21 -> 0 | D20: =D21 -> 350300 | E20: =E21 -> 350300 | F20: =F21 -> 293293.55 | G20: =F20/D20*100 -> 83.726392 | H20: =F20/E20*100 -> 83.726392
A21: 3121 | B21: Ostali rashodi za zaposlene | C21: =SUM(C22:C27) -> 0 | D21: =SUM(D22:D27) -> 350300 | E21: =SUM(E22:E27) -> 350300 | F21: =SUM(F22:F27) -> 293293.55 | G21: =F21/D21*100 -> 83.726392 | H21: =F21/E21*100 -> 83.726392
A22: 31212 | B22: Ostali rashodi za zaposlene-nagrade | D22: =28000+96500 -> 124500 | E22: 124500 | F22: =37294.14+48100+39900 -> 125294.14 | G22: =F22/D22*100 -> 100.63786 | H22: =F22/E22*100 -> 100.63786
A23: 31213 | B23: Darovi | D23: 26000 | E23: 26000 | G23: =F23/D23*100 -> 0 | H23: =F23/E23*100 -> 0
A24: 31214 | B24: Otpremnine | D24: =25000+2000 -> 27000 | E24: 27000 | F24: =19898.73-F238 -> 19898.73 | G24: =F24/D24*100 -> 73.699 | H24: =F24/E24*100 -> 73.699
A25: 31215 | B25: Naknade za bolest, invalidnost i smrt | D25: =10000+3800 -> 13800 | E25: 13800 | F25: =13463.92-F239 -> 13463.92 | G25: =F25/D25*100 -> 97.564638 | H25: =F25/E25*100 -> 97.564638
A26: 31216 | B26: Regres za godišnji odmor | D26: =57000+35000 -> 92000 | E26: 92000 | F26: =135000-F240-F588 -> 133200 | G26: =F26/D26*100 -> 144.78261 | H26: =F26/E26*100 -> 144.78261
A27: 31219 | B27: Ostali nenavedeni rashodi za zaposlene | D27: =32000+35000 -> 67000 | E27: 67000 | F27: =8733.35-F242-F448-F590-F669 -> 1436.76 | G27: =F27/D27*100 -> 2.1444179 | H27: =F27/E27*100 -> 2.1444179
A28: 313 | B28: Doprinosi na plaće | C28: =C29+C32 -> 0 | D28: =D29+D32 -> 1796488.8 | E28: =E29+E32 -> 1796488.8 | F28: =F29+F32 -> 877183.17 | G28: =F28/D28*100 -> 48.827644 | H28: =F28/E28*100 -> 48.827644
A29: 3132 | B29: Doprinosi za obvezno zdravstveno osiguranje | C29: =SUM(C30) -> 0 | D29: =SUM(D30:D31) -> 1796488.8 | E29: =SUM(E30:E31) -> 1796488.8 | F29: =SUM(F30:F31) -> 877176.42 | G29: =F29/D29*100 -> 48.827268 | H29: =F29/E29*100 -> 48.827268
A30: 31321 | B30: Doprinosi za obvezno zdravstveno osiguranje | D30: =760000+536488.84+500000 -> 1796488.8 | E30: 1796488.8 | F30: =1038456.11-F245-F370-F451-F533-F552-F593-F674 -> 877174.45 | G30: =F30/D30*100 -> 48.827158 | H30: =F30/E30*100 -> 48.827158
A31: 31322 | B31: Doprinosi za zaštitu zdravlja na radu | F31: 1.97 | G31: =IFERROR(F31/D31*100,F31) -> 1.97 | H31: =IFERROR(F31/E31*100,F31) -> 1.97
A32: 3133 | B32: Doprinosi za zapošljavanje | C32: =C33 -> 0 | D32: =D33 -> 0 | E32: =E33 -> 0 | F32: =F33 -> 6.75 | G32: =IFERROR(F32/D32*100,F32) -> 6.75 | H32: =IFERROR(F32/E32*100,F32) -> 6.75
A33: 31332 | B33: Doprinosi u slučaju nezaposlenosti | C33: 0 | F33: 6.75 | G33: =IFERROR(F33/D33*100,F33) -> 6.75 | H33: =IFERROR(F33/E33*100,F33) -> 6.75
A34: 32 | B34: Materijalni rashodi | C34: =C35+C49+C79+C124+C127+C135 -> 0 | D34: =D35+D49+D79+D124+D127+D135 -> 7400658.6 | E34: =E35+E49+E79+E124+E127+E135 -> 7400658.6 | F34: =F35+F49+F79+F124+F127+F135 -> 3486826.5 | G34: =F34/D34*100 -> 47.115083 | H34: =F34/E34*100 -> 47.115083
A35: 321 | B35: Naknade troškova zaposlenima | C35: =C36+C42+C44+C47 -> 0 | D35: =D36+D42+D44+D47 -> 250944.29 | E35: =E36+E42+E44+E47 -> 250944.29 | F35: =F36+F42+F44+F47 -> 153216.04 | G35: =F35/D35*100 -> 61.055798 | H35: =F35/E35*100 -> 61.055798
A36: 3211 | B36: Službena putovanja | C36: =SUM(C37:C41) -> 0 | D36: =SUM(D37:D41) -> 6380 | E36: =SUM(E37:E41) -> 6380 | F36: =SUM(F37:F41) -> 1880.63 | G36: =F36/D36*100 -> 29.476959 | H36: =F36/E36*100 -> 29.476959
A37: 32111 | B37: Dnevnice za službeni put u zemlji | D37: =3000+600 -> 3600 | E37: 3600 | G37: =F37/D37*100 -> 0 | H37: =F37/E37*100 -> 0
A38: 32113 | B38: Naknade za smještaj na službenom putu u zemlji | D38: =500+1000 -> 1500 | E38: 1500 | F38: =952.52 -> 952.52 | G38: =F38/D38*100 -> 63.501333 | H38: =F38/E38*100 -> 63.501333
A39: 32114 | B39: Naknade za smještaj na službenom putu u inozemstvu | F39: =75.71 -> 75.71
A40: 32115 | B40: Naknade za prijevoz na službenom putu u zemlji | D40: =500+700 -> 1200 | E40: 1200 | F40: =33-F251-F407-F599-F634 -> 33 | G40: =F40/D40*100 -> 2.75 | H40: =F40/E40*100 -> 2.75
A41: 32119 | B41: Ostali rashodi za sl. putovanje (cestarine, trošak parkiranja) | D41: 80 | E41: 80 | F41: =264+555.4-F252-F557-F590 -> 819.4 | G41: =F41/D41*100 -> 1024.25 | H41: =F41/E41*100 -> 1024.25
...
