Workbook

Sheet SAŽETAK
B1: IZVJEŠTAJ O IZVRŠENJU FINANCIJSKOG PLANA DOMA ZDRAVLJA VUKOVARSKO - SRIJEMSKE ŽUPANIJE OD 01.01.2026. DO 30.06.2026. GODINE
B4: I. OPĆI DIO
F6: A) SAŽETAK RAČUNA PRIHODA I RASHODA
K7: EUR | L7: EUR
B8: BROJČANA OZNAKA I NAZIV | G8: OSTVARENJE/ IZVRŠENJE 1.-3.2025. | H8: IZVORNI PLAN ZA 2026. | I8: TEKUĆI PLAN ZA 2026. | J8: OSTVARENJE/ IZVRŠENJE 1.-6.2026. | K8: Indeks | L8: Indeks
B9: 1 | G9: 2 | H9: 3 | I9: 4 | J9: 5 | K9: 6=5/3*100 | L9: 7=5/4*100
B10: PRIHODI UKUPNO | G10: =G11+G12 -> 0 | H10: =H11+H12 -> 27400996 | I10: =I11+I12 -> 27029768 | J10: =J11+J12 -> 12342056 | K10: =J10/H10*100 -> 45.042362 | L10: =J10/I10*100 -> 45.660975
B11: 6 PRIHODI POSLOVANJA | G11: ='Prihodi po ekonomskoj klas'!D9 -> 0 | H11: ='Prihodi po ekonomskoj klas'!E9 -> 27399696 | I11: ='Prihodi po ekonomskoj klas'!F9 -> 27028468 | J11: ='Prihodi po ekonomskoj klas'!G9 -> 12341724 | K11: =J11/H11*100 -> 45.043289 | L11: =J11/I11*100 -> 45.661945
B12: 7 PRIHODI OD PRODAJE NEFINANCIJSKE IMOVINE | G12: ='Prihodi po ekonomskoj klas'!D80 -> 0 | H12: ='Prihodi po ekonomskoj klas'!E80 -> 1300 | I12: ='Prihodi po ekonomskoj klas'!F80 -> 1300 | J12: ='Prihodi po ekonomskoj klas'!G80 -> 331.59 | K12: =J12/H12*100 -> 25.506923 | L12: =J12/I12*100 -> 25.506923
B13: RASHODI UKUPNO | G13: =G14+G15 -> #REF! | H13: =H14+H15 -> 27155403 | I13: =I14+I15 -> 26784175 | J13: =J14+J15 -> 12805809 | K13: =J13/H13*100 -> 47.157499 | L13: =J13/I13*100 -> 47.811101
B14: 3 RASHODI POSLOVANJA | G14: ='RASHODI-ek.kl.'!D57 -> 0 | H14: ='RASHODI-ek.kl.'!E57 -> 26300528 | I14: ='RASHODI-ek.kl.'!F57 -> 26423403 | J14: ='RASHODI-ek.kl.'!G57 -> 12760368 | K14: =J14/H14*100 -> 48.517535 | L14: =J14/I14*100 -> 48.291917
B15: 4 RASHODI ZA NABAVU NEFINANCIJSKE IMOVINE | G15: ='RASHODI-ek.kl.'!D239 -> #REF! | H15: ='RASHODI-ek.kl.'!E239 -> 854875.27 | I15: ='RASHODI-ek.kl.'!F239 -> 360772.28 | J15: ='RASHODI-ek.kl.'!G239 -> 45441.15 | K15: =J15/H15*100 -> 5.3155298 | L15: =J15/I15*100 -> 12.595521
B16: RAZLIKA - VIŠAK MANJAK | G16: =G10-G13 -> #REF! | H16: =H10-H13 -> 245592.85 | I16: =I10-I13 -> 245592.85 | J16: =J10-J13 -> -463753.2 | K16: =J16/H16*100 -> -188.83009 | L16: =J16/I16*100 -> -188.83009
F18: B) SAŽETAK RAČUNA FINANCIRANJA
B20: BROJČANA OZNAKA I NAZIV | G20: OSTVARENJE/ IZVRŠENJE 1.-3.2025. | H20: IZVORNI PLAN ZA 2026. | I20: TEKUĆI PLAN ZA 2026. | J20: OSTVARENJE/ IZVRŠENJE 1.-6.2026. | K20: Indeks | L20: Indeks
B21: 1 | G21: 2 | H21: 3 | I21: 4 | J21: 5 | K21: 6 | L21: 7
B22: 8 PRIMICI OD FINANCIJSKE IMOVINE I ZADUŽIVANJA
B23: 5 IZDACI ZA FINANCIJSKU IMOVINU I OTPLATE ZAJMOVA
B24: RAZLIKA PRIMITAKA I IZDATAKA
F26: C) PRENESENI VIŠAK ILI PRENESENI MANJAK
B28: BROJČANA OZNAKA I NAZIV | G28: OSTVARENJE/ IZVRŠENJE 1.-3.2025. | H28: IZVORNI PLAN ZA 2026. | I28: TEKUĆI PLAN ZA 2026. | J28: OSTVARENJE/ IZVRŠENJE 1.-6.2026. | K28: Indeks | L28: Indeks
B29: 1 | G29: 2 | H29: 3 | I29: 4 | J29: 5 | K29: 6 | L29: 7
B30: PRENESENI VIŠAK / MANJAK IZ PRETHODNE(IH) GODINE | H30: =G31 -> -1778132.8 | I30: -4599353.7 | J30: -4599353.7 | K30: =J30/H30*100 -> 258.662 | L30: =J30/I30*100 -> 100
B31: VIŠAK / MANJAK + NETO FINANCIRANJE + PRIJENOS VIŠKA / MANJKA IZ PRETHODNE(IH) GODINE - PRIJENOS VIŠKA / MANJKA U SLJEDEĆE RAZDOBLJE | G31: -1778132.8 | H31: =H16+H24+H30 -> -1532539.9 | I31: =I16+I24+I30 -> -4353760.8 | J31: =J16+J24+J30 -> -5063106.9 | K31: =J31/H31*100 -> 330.37358 | L31: =J31/I31*100 -> 116.29272

Sheet Prihodi po ekonomskoj klas
A1: I. OPĆI DIO
A3: A. RAČUN PRIHODA
A5: PRIHODI PREMA EKONOMSKOJ KLASIFIKACIJI
A7: PRIHODI POSLOVANJA
A8: Razred | B8: Skupina/podskupina/odjeljak | C8: Naziv | D8: OSTVARENJE/ IZVRŠENJE 1.-3.2025. | E8: IZVORNI PLAN ZA 2026. | F8: TEKUĆI PLAN ZA 2026. | G8: OSTVARENJE/ IZVRŠENJE 1.-6.2026.
A9: 6 | C9: Prihodi poslovanja | D9: =D10+D33+D44+D50+D65+D74 -> 0 | E9: =E10+E33+E44+E50+E65+E74 -> 27399696 | F9: =F10+F33+F44+F50+F65+F74 -> 27028468 | G9: =G10+G33+G44+G50+G65+G74 -> 12341724
B10: 63 | C10: Pomoći | D10: =D11+D13+D17+D20+D25+D30 -> 0 | E10: =E11+E13+E17+E20+E25+E30 -> 1176423.8 | F10: =F11+F13+F17+F20+F25+F30 -> 1176423.8 | G10: =G11+G13+G17+G20+G25+G30 -> 95063.32
B11: 632 | C11: Pomoći od međunaodnih organizacija te institucija i tijela EU | D11: =SUM(D12) -> 0 | E11: =SUM(E12) -> 0 | F11: =SUM(F12) -> 0 | G11: =SUM(G12) -> 0
B12: 6324 | C12: Kapitalne pomoći od instucija i tijela EU | D12: 0 | E12: 0 | F12: 0 | G12: 0
B13: 633 | C13: Pomoć proračunu iz drugih proračuna | D13: =SUM(D14,D16) -> 0 | E13: =SUM(E14,E16) -> 500 | F13: =SUM(F14,F16) -> 500 | G13: =SUM(G14,G16) -> 0
B14: 6331 | C14: Tekuća pomoć proračunu iz drugih proračuna | D14: =D15 -> 0 | E14: =E15 -> 500 | F14: =F15 -> 500 | G14: =G15 -> 0
B15: 63313 | C15: Tekuće potpore iz gradskog proračuna | D15: ='Prihodi po ek klas i izvorima'!E71 -> 0 | E15: ='Prihodi po ek klas i izvorima'!F71 -> 500 | F15: ='Prihodi po ek klas i izvorima'!G71 -> 500 | G15: ='Prihodi po ek klas i izvorima'!H71 -> 0
B16: 6332 | C16: Kapitalna pomoć proračunu iz drugih proračuna | D16: 0 | E16: 0 | F16: 0 | G16: 0
B17: 634 | C17: Pomoći od izvanproračunskih korisnika | D17: =SUM(D18) -> 0 | E17: =SUM(E18) -> 68314.61 | F17: =SUM(F18) -> 68314.61 | G17: =SUM(G18) -> 0
B18: 6341 | C18: Tekuće pomoći od izvanproračunskih korisnika | D18: =D19 -> 0 | E18: =E19 -> 68314.61 | F18: =F19 -> 68314.61 | G18: =G19 -> 0
B19: 63414 | C19: Tekuće pomoći od izvanproračunskih korisnika | D19: ='Prihodi po ek klas i izvorima'!E75 -> 0 | E19: ='Prihodi po ek klas i izvorima'!F75 -> 68314.61 | F19: ='Prihodi po ek klas i izvorima'!G75 -> 68314.61 | G19: ='Prihodi po ek klas i izvorima'!H75 -> 0
B20: 636 | C20: Pomoć proračunskim korisnicima iz prorač.koji im nije nadležan | D20: =SUM(D21,D23) -> 0 | E20: =SUM(E21,E23) -> 14000 | F20: =SUM(F21,F23) -> 14000 | G20: =SUM(G21,G23) -> 0
B21: 6361 | C21: Tekuće pomoći iz državnog prorač. prorač.korisnicima JLP(R)S | D21: =D22 -> 0 | E21: =E22 -> 14000 | F21: =F22 -> 14000 | G21: =G22 -> 0
B22: 63612 | C22: Tekuće pomoći iz državnog prorač. prorač.korisnicima JLP(R)S | D22: ='Prihodi po ek klas i izvorima'!E78 -> 0 | E22: ='Prihodi po ek klas i izvorima'!F78 -> 14000 | F22: ='Prihodi po ek klas i izvorima'!G78 -> 14000 | G22: ='Prihodi po ek klas i izvorima'!H78 -> 0
B23: 6362 | C23: Kapitalne pomoći iz državnog prorač. prorač.korisnicima JLP(R)S | D23: =D24 -> 0 | E23: =E24 -> 0 | F23: =F24 -> 0 | G23: =G24 -> 0
B24: 63622 | C24: Kapitalne pomoći iz državnog prorač. prorač.korisnicima JLP(R)S | D24: ='Prihodi po ek klas i izvorima'!E80 -> 0 | E24: ='Prihodi po ek klas i izvorima'!F80 -> 0 | F24: ='Prihodi po ek klas i izvorima'!G80 -> 0 | G24: ='Prihodi po ek klas i izvorima'!H80 -> 0
B25: 638 | C25: Pomoć temeljem prijenosa EU | D25: =D26+D28 -> 0 | E25: =E26+E28 -> 593609.22 | F25: =F26+F28 -> 593609.22 | G25: =G26+G28 -> 95063.32
B26: 6381 | C26: Tekuće pomoći temeljem prijenosa EU sredstava | D26: =SUM(D27:D27) -> 0 | E26: =SUM(E27:E27) -> 437409.22 | F26: =SUM(F27:F27) -> 437409.22 | G26: =SUM(G27:G27) -> 95063.32
B27: 63811 | C27: Tekuće pomoći iz državnog proračuna temeljem EU prijenosa | D27: ='Prihodi po ek klas i izvorima'!E94 -> 0 | E27: ='Prihodi po ek klas i izvorima'!F94 -> 437409.22 | F27: ='Prihodi po ek klas i izvorima'!G94 -> 437409.22 | G27: ='Prihodi po ek klas i izvorima'!H94 -> 95063.32
B28: 6382 | C28: Kapitalna pomoć temeljem prijenosa EU | D28: =D29 -> 0 | E28: =E29 -> 156200 | F28: =F29 -> 156200 | G28: =G29 -> 0
B29: 63821 | C29: Pomoći temeljem EU prijenosa | D29: ='Prihodi po ek klas i izvorima'!E88 -> 0 | E29: ='Prihodi po ek klas i izvorima'!F88 -> 156200 | F29: ='Prihodi po ek klas i izvorima'!G88 -> 156200 | G29: ='Prihodi po ek klas i izvorima'!H88 -> 0
B30: 639 | C30: Prijenosi između proračunskih korisnika | D30: =SUM(D31) -> 0 | E30: =SUM(E31) -> 500000 | F30: =SUM(F31) -> 500000 | G30: =SUM(G31) -> 0
B31: 6391 | C31: Tekući prijenosi između proračunskih korisnika | D31: =D32 -> 0 | E31: =E32 -> 500000 | F31: =F32 -> 500000 | G31: =G32 -> 0
B32: 63911 | C32: Tekući prijenosi između proračunskih korisnika istog proračuna | D32: ='Prihodi po ek klas i izvorima'!E83 -> 0 | E32: ='Prihodi po ek klas i izvorima'!F83 -> 500000 | F32: ='Prihodi po ek klas i izvorima'!G83 -> 500000 | G32: ='Prihodi po ek klas i izvorima'!H83 -> 0
B33: 64 | C33: Prihodi od imovine | D33: =D34+D41 -> 0 | E33: =E34+E41 -> 101000 | F33: =F34+F41 -> 101000 | G33: =G34+G41 -> 47.37
B34: 641 | C34: Prihodi od financijske imovine | D34: =D35+D37+D39 -> 0 | E34: =E35+E37+E39 -> 100600 | F34: =F35+F37+F39 -> 100600 | G34: =G35+G37+G39 -> 47.37
B35: 6413 | C35: Kamate na oročena sredstva i depozite po viđenju | D35: =SUM(D36) -> 0 | E35: =SUM(E36) -> 550 | F35: =SUM(F36) -> 550 | G35: =SUM(G36) -> 47.37
B36: 64132 | C36: Kamate na oročena sredstva i depozite po viđenju | D36: ='Prihodi po ek klas i izvorima'!E20 -> 0 | E36: ='Prihodi po ek klas i izvorima'!F20 -> 550 | F36: ='Prihodi po ek klas i izvorima'!G20 -> 550 | G36: ='Prihodi po ek klas i izvorima'!H20 -> 47.37
B37: 6414 | C37: Prihodi od zateznih kamata | D37: =D38 -> 0 | E37: =E38 -> 50 | F37: =F38 -> 50 | G37: =G38 -> 0
B38: 64143 | C38: Prihodi od zateznih kamata | D38: ='Prihodi po ek klas i izvorima'!E22 -> 0 | E38: ='Prihodi po ek klas i izvorima'!F22 -> 50 | F38: ='Prihodi po ek klas i izvorima'!G22 -> 50 | G38: ='Prihodi po ek klas i izvorima'!H22 -> 0
B39: 6419 | C39: Ostali prihodi od financijske imovine | D39: =D40 -> 0 | E39: =E40 -> 100000 | F39: =F40 -> 100000 | G39: =G40 -> 0
B40: 64199 | C40: Ostali prihodi od financijske imovine | D40: ='Prihodi po ek klas i izvorima'!E24+'Prihodi po ek klas i izvorima'!E48 -> 0 | E40: ='Prihodi po ek klas i izvorima'!F24+'Prihodi po ek klas i izvorima'!F48 -> 100000 | F40: ='Prihodi po ek klas i izvorima'!G24+'Prihodi po ek klas i izvorima'!G48 -> 100000 | G40: ='Prihodi po ek klas i izvorima'!H24+'Prihodi po ek klas i izvorima'!H48 -> 0
B41: 642 | C41: Prihodi od nefinancijske imovine | D41: =D42 -> 0 | E41: =E42 -> 400 | F41: =F42 -> 400 | G41: =G42 -> 0
B42: 6429 | C42: Ostali prihodi od nefinancijske imovine | D42: =D43 -> 0 | E42: =E43 -> 400 | F42: =F43 -> 400 | G42: =G43 -> 0
B43: 64299 | C43: Ostali prihodi od nefinancijske imovine | D43: ='Prihodi po ek klas i izvorima'!E27 -> 0 | E43: ='Prihodi po ek klas i izvorima'!F27 -> 400 | F43: ='Prihodi po ek klas i izvorima'!G27 -> 400 | G43: ='Prihodi po ek klas i izvorima'!H27 -> 0
B44: 65 | C44: Prihodi po posebnim propisima | D44: =D45 -> 0 | E44: =E45 -> 942800 | F44: =F45 -> 942800 | G44: =G45 -> 226347.75
B45: 652 | C45: Prihodi po posebnim propisima | D45: =SUM(D46) -> 0 | E45: =SUM(E46) -> 942800 | F45: =SUM(F46) -> 942800 | G45: =SUM(G46) -> 226347.75
B46: 6526 | C46: Ostali nespomenuti prihodi (participacija) | D46: =SUM(D47:D49) -> 0 | E46: =SUM(E47:E49) -> 942800 | F46: =SUM(F47:F49) -> 942800 | G46: =SUM(G47:G49) -> 226347.75
B47: 65264 | C47: Sufinanciranje cijene usluge, participacija | D47: ='Prihodi po ek klas i izvorima'!E52 -> 0 | E47: ='Prihodi po ek klas i izvorima'!F52 -> 902800 | F47: ='Prihodi po ek klas i izvorima'!G52 -> 902800 | G47: ='Prihodi po ek klas i izvorima'!H52 -> 224451.64
B48: 65267 | C48: Prihodi od osiguranja i refundacije štete | D48: ='Prihodi po ek klas i izvorima'!E53+'Prihodi po ek klas i izvorima'!E110 -> 0 | E48: ='Prihodi po ek klas i izvorima'!F53+'Prihodi po ek klas i izvorima'!F110 -> 11500 | F48: ='Prihodi po ek klas i izvorima'!G53+'Prihodi po ek klas i izvorima'!G110 -> 11500 | G48: ='Prihodi po ek klas i izvorima'!H53+'Prihodi po ek klas i izvorima'!H110 -> 1896.11
B49: 65269 | C49: Refundacija plaća specijalizanata | D49: ='Prihodi po ek klas i izvorima'!E54 -> 0 | E49: ='Prihodi po ek klas i izvorima'!F54 -> 28500 | F49: ='Prihodi po ek klas i izvorima'!G54 -> 28500 | G49: ='Prihodi po ek klas i izvorima'!H54 -> 0
B50: 66 | C50: Prihodi od prodaje i donacija | D50: =D51+D59 -> 0 | E50: =E51+E59 -> 3645116.3 | F50: =F51+F59 -> 3645116.3 | G50: =G51+G59 -> 1457596.6
B51: 661 | C51: Prihodi od prodaje roba i pruženih usluga (vlastiti prihodi) | D51: =SUM(D52,D55) -> 0 | E51: =SUM(E52,E55) -> 3643116.3 | F51: =SUM(F52,F55) -> 3643116.3 | G51: =SUM(G52,G55) -> 1457596.6
B52: 6614 | C52: Prihodi od prodaje proizvoda i robe | D52: =D53+D54 -> 0 | E52: =E53+E54 -> 2625000 | F52: =F53+F54 -> 2625000 | G52: =G53+G54 -> 1109038.4
B53: 66141 | C53: Prihodi od prodaje proizvoda i robe - ljekarne | D53: ='Prihodi po ek klas i izvorima'!E31 -> 0 | E53: ='Prihodi po ek klas i izvorima'!F31 -> 25000 | F53: ='Prihodi po ek klas i izvorima'!G31 -> 25000 | G53: ='Prihodi po ek klas i izvorima'!H31 -> 0
B54: 66142 | C54: Prihodi od prodaje robe | D54: ='Prihodi po ek klas i izvorima'!E32 -> 0 | E54: ='Prihodi po ek klas i izvorima'!F32 -> 2600000 | F54: ='Prihodi po ek klas i izvorima'!G32 -> 2600000 | G54: ='Prihodi po ek klas i izvorima'!H32 -> 1109038.4
B55: 6615 | C55: Prihodi od pruženih usluga | D55: =SUM(D56:D58) -> 0 | E55: =SUM(E56:E58) -> 1018116.3 | F55: =SUM(F56:F58) -> 1018116.3 | G55: =SUM(G56:G58) -> 348558.2
B56: 66151 | C56: Prihodi od pruženih usluga | D56: ='Prihodi po ek klas i izvorima'!E34 -> 0 | E56: ='Prihodi po ek klas i izvorima'!F34 -> 1013116.3 | F56: ='Prihodi po ek klas i izvorima'!G34 -> 1013116.3 | G56: ='Prihodi po ek klas i izvorima'!H34 -> 348558.2
B57: 66153 | C57: Prihodi za udio troškova u zakupu | D57: ='Prihodi po ek klas i izvorima'!E35 -> 0 | E57: ='Prihodi po ek klas i izvorima'!F35 -> 0 | F57: ='Prihodi po ek klas i izvorima'!G35 -> 0 | G57: ='Prihodi po ek klas i izvorima'!H35 -> 0
B58: 66157 | C58: Prihod od usluga ref. dežurstva specijalizanti | D58: ='Prihodi po ek klas i izvorima'!E36 -> 0 | E58: ='Prihodi po ek klas i izvorima'!F36 -> 5000 | F58: ='Prihodi po ek klas i izvorima'!G36 -> 5000 | G58: ='Prihodi po ek klas i izvorima'!H36 -> 0
B59: 663 | C59: Donacije od pravnih i fizičkih osoba izvan proračuna | D59: =D60+D63 -> 0 | E59: =E60+E63 -> 2000 | F59: =F60+F63 -> 2000 | G59: =G60+G63 -> 0
B60: 6631 | C60: Tekuće donacije | D60: =SUM(D61:D62) -> 0 | E60: =SUM(E61:E62) -> 1500 | F60: =SUM(F61:F62) -> 1500 | G60: =SUM(G61:G62) -> 0
B61: 66312 | C61: Tekuće donacije od neprofitnih organizacija | D61: ='Prihodi po ek klas i izvorima'!E101 -> 0 | E61: ='Prihodi po ek klas i izvorima'!F101 -> 500 | F61: ='Prihodi po ek klas i izvorima'!G101 -> 500 | G61: ='Prihodi po ek klas i izvorima'!H101 -> 0
B62: 66313 | C62: Tekuće donacije | D62: ='Prihodi po ek klas i izvorima'!E102 -> 0 | E62: ='Prihodi po ek klas i izvorima'!F102 -> 1000 | F62: ='Prihodi po ek klas i izvorima'!G102 -> 1000 | G62: ='Prihodi po ek klas i izvorima'!H102 -> 0
B63: 6632 | C63: Kapitalne donacije | D63: =D64 -> 0 | E63: =E64 -> 500 | F63: =F64 -> 500 | G63: =G64 -> 0
B64: 66323 | C64: Kapitalne donacije od trgovačkih društava | D64: ='Prihodi po ek klas i izvorima'!E104 -> 0 | E64: ='Prihodi po ek klas i izvorima'!F104 -> 500 | F64: ='Prihodi po ek klas i izvorima'!G104 -> 500 | G64: ='Prihodi po ek klas i izvorima'!H104 -> 0
B65: 67 | C65: Prihodi iz nadležnog proračuna i HZZOa | D65: =SUM(D66,D71) -> 0 | E65: =SUM(E66,E71) -> 21370356 | F65: =SUM(F66,F71) -> 20999128 | G65: =SUM(G66,G71) -> 10468984
B66: 671 | C66: Prihodi iz nadležnog proračuna za financiranje redovne djelatnosti proračunskih korisnika | D66: =D67+D69 -> 0 | E66: =E67+E69 -> 1250606 | F66: =F67+F69 -> 879378.02 | G66: =G67+G69 -> 274213.08
B67: 6711 | C67: Prihodi iz nadležnog proračuna za financiranje rashoda poslovanja | D67: =SUM(D68) -> 0 | E67: =SUM(E68) -> 481103.03 | F67: =SUM(F68) -> 603978.02 | G67: =SUM(G68) -> 162217.39
B68: 67111 | C68: Prihodi iz nadležnog proračuna za financiranje rashoda poslovanja | D68: ='Prihodi po ek klas i izvorima'!E12 -> 0 | E68: ='Prihodi po ek klas i izvorima'!F12 -> 481103.03 | F68: ='Prihodi po ek klas i izvorima'!G12 -> 603978.02 | G68: ='Prihodi po ek klas i izvorima'!H12 -> 162217.39
B69: 6712 | C69: Prihodi iz nadležnog proračuna za nabavu nefinancijske imovine | D69: =SUM(D70) -> 0 | E69: =SUM(E70) -> 769502.99 | F69: =SUM(F70) -> 275400 | G69: =SUM(G70) -> 111995.69
B70: 67121 | C70: Prihodi iz nadležnog proračuna za nabavu nefinancijske imovine | D70: ='Prihodi po ek klas i izvorima'!E14 -> 0 | E70: ='Prihodi po ek klas i izvorima'!F14 -> 769502.99 | F70: ='Prihodi po ek klas i izvorima'!G14 -> 275400 | G70: ='Prihodi po ek klas i izvorima'!H14 -> 111995.69
B71: 673 | C71: Prihodi od HZZO-a | D71: =SUM(D72) -> 0 | E71: =SUM(E72) -> 20119750 | F71: =SUM(F72) -> 20119750 | G71: =SUM(G72) -> 10194771
B72: 6731 | C72: Prihodi od HZZO-a temeljem ugovora | D72: =D73 -> 0 | E72: =E73 -> 20119750 | F72: =F73 -> 20119750 | G72: =G73 -> 10194771
B73: 67311 | C73: Prihodi od HZZO-a temeljem ugovora | D73: ='Prihodi po ek klas i izvorima'!E61 -> 0 | E73: ='Prihodi po ek klas i izvorima'!F61 -> 20119750 | F73: ='Prihodi po ek klas i izvorima'!G61 -> 20119750 | G73: ='Prihodi po ek klas i izvorima'!H61 -> 10194771
B74: 68 | C74: Kazne, upravne mjere i ostali prihodi | D74: =SUM(D75) -> 0 | E74: =SUM(E75) -> 164000 | F74: =SUM(F75) -> 164000 | G74: =SUM(G75) -> 93685.16
B75: 683 | C75: Ostali prihodi | D75: =D76 -> 0 | E75: =E76 -> 164000 | F75: =F76 -> 164000 | G75: =G76 -> 93685.16
B76: 6831 | C76: Ostali prihodi | D76: =D77+D78+D79 -> 0 | E76: =E77+E78+E79 -> 164000 | F76: =F77+F78+F79 -> 164000 | G76: =G77+G78+G79 -> 93685.16
B77: 68311 | C77: Ostali prihodi | D77: ='Prihodi po ek klas i izvorima'!E40+'Prihodi po ek klas i izvorima'!E65 -> 0 | E77: ='Prihodi po ek klas i izvorima'!F40+'Prihodi po ek klas i izvorima'!F65 -> 136000 | F77: ='Prihodi po ek klas i izvorima'!G40+'Prihodi po ek klas i izvorima'!G65 -> 136000 | G77: ='Prihodi po ek klas i izvorima'!H40+'Prihodi po ek klas i izvorima'!H65 -> 93685.16
B78: 68312 | C78: Ostali prihodi-od inventurnih viškova | D78: ='Prihodi po ek klas i izvorima'!E41 -> 0 | E78: ='Prihodi po ek klas i izvorima'!F41 -> 3000 | F78: ='Prihodi po ek klas i izvorima'!G41 -> 3000 | G78: ='Prihodi po ek klas i izvorima'!H41 -> 0
B79: 68313 | C79: Ostali prihodi od veleprodajnih i akcijskih rabata | D79: ='Prihodi po ek klas i izvorima'!E42 -> 0 | E79: ='Prihodi po ek klas i izvorima'!F42 -> 25000 | F79: ='Prihodi po ek klas i izvorima'!G42 -> 25000 | G79: ='Prihodi po ek klas i izvorima'!H42 -> 0
A80: 7 | C80: Prihodi od prodaje nefinancijske imovine | D80: =SUM(D81) -> 0 | E80: =SUM(E81) -> 1300 | F80: =SUM(F81) -> 1300 | G80: =SUM(G81) -> 331.59
B81: 72 | C81: Prihodi od prodaje proizvedene dugotrajne imovine | D81: =SUM(D82,D85) -> 0 | E81: =SUM(E82,E85) -> 1300 | F81: =SUM(F82,F85) -> 1300 | G81: =SUM(G82,G85) -> 331.59
B82: 721 | C82: Prihodi od prodaje građevinskih objekata | D82: =D83 -> 0 | E82: =E83 -> 1300 | F82: =F83 -> 1300 | G82: =G83 -> 331.59
B83: 7211 | C83: Stambeni objekti | D83: =D84 -> 0 | E83: =E84 -> 1300 | F83: =F84 -> 1300 | G83: =G84 -> 331.59
B84: 72111 | C84: Stambeni objekti za zaposlene | D84: ='Prihodi po ek klas i izvorima'!E116 -> 0 | E84: ='Prihodi po ek klas i izvorima'!F116 -> 1300 | F84: ='Prihodi po ek klas i izvorima'!G116 -> 1300 | G84: ='Prihodi po ek klas i izvorima'!H116 -> 331.59
B85: 723 | C85: Prihodi od prodaje prijevoznih sredstava | D85: =D86 -> 0 | E85: =E86 -> 0 | F85: =F86 -> 0 | G85: =G86 -> 0
B86: 7231 | C86: Prijevozna sredstva u cestovnom prometu | D86: ='Prihodi po ek klas i izvorima'!E118 -> 0 | E86: ='Prihodi po ek klas i izvorima'!F118 -> 0 | F86: ='Prihodi po ek klas i izvorima'!G118 -> 0 | G86: ='Prihodi po ek klas i izvorima'!H118 -> 0
A87: UKUPNO PRIHODI I PRIMICI: | D87: =D9+D80 -> 0 | E87: =E9+E80 -> 27400996 | F87: =F9+F80 -> 27029768 | G87: =G9+G80 -> 12342056

Sheet RASHODI-ek.kl.
A1: I. OPĆI DIO
A2: A. RAČUN PRIHODA I RASHODA
A4: RASHODI PREMA EKONOMSKOJ KLASIFIKACIJI
A7: PRIHODI POSLOVANJA
A8: Razred | B8: Skupina/podskupina/odjeljak | C8: Naziv | E8: Izvršenje prethodne godine I.-VI. 2022. | F8: REBALANS 2023. | G8: Izvršenje tekuće godine I.-VI. 2023
A9: 1 | E9: 2 | F9: 3 | G9: 4
A10: 6 | E10: =E11+E26+E30+E33+E40+E43 -> 24659146 | F10: =F11+F26+F30+F33+F40+F43 -> 63888652 | G10: =G11+G26+G30+G33+G40+G43 -> 30834919
B11: 63 | C11: Pomoći | E11: =E12+E14+E17+E19+E21+E24 -> 324811.47 | F11: =SUM(F12,F14,F17,F19,F21,F24) -> 639378.86 | G11: =SUM(G12,G14,G17,G19,G21,G24) -> 1892796.8
B12: 632 | C12: Pomoći od međunaodnih organizacija te institucija i tijela EU | E12: =SUM(E13) -> 0 | F12: =SUM(F13) -> 0 | G12: =SUM(G13) -> 0
B13: 6324 | C13: Kapitalne pomoći od instucija i tijela EU | E13: 0 | F13: 0 | G13: 0
B14: 633 | C14: Pomoć proračunu iz drugih proračuna | E14: =SUM(E15:E16) -> 50556.109 | F14: =SUM(F15:F16) -> 0 | G14: =SUM(G15:G16) -> 0
B15: 6331 | C15: Tekuća pomoć proračunu iz drugih proračuna | E15: =380915/7.5345 -> 50556.109 | F15: 0 | G15: 0
B16: 6332 | C16: Kapitalna pomoć proračunu iz drugih proračuna | E16: 0 | F16: 0 | G16: 0
B17: 634 | C17: Pomoći od izvanproračunskih korisnika | E17: =SUM(E18) -> 111981.95 | F17: =SUM(F18) -> 366500.76 | G17: =SUM(G18) -> 1829292.8
B18: 6341 | C18: Tekuće pomoći od HZZ-a, HZZO-a | E18: =843728/7.5345 -> 111981.95 | F18: 366500.76 | G18: 1829292.8
B19: 636 | C19: Pomoć proračunskim korisnicima iz prorač.koji im nije nadležan | E19: =SUM(E20) -> 54857.124 | F19: =SUM(F20) -> 796.34 | G19: =SUM(G20) -> 45490.31
B20: 6361 | C20: Tekuće pomoći iz državnog prorač. prorač.korisnicima JLP(R)S | E20: =413321/7.5345 -> 54857.124 | F20: =796.34 -> 796.34 | G20: 45490.31
B21: 638 | C21: Pomoć temeljem prijenosa EU | E21: =SUM(E22:E23) -> 107244.81 | F21: =SUM(F23) -> 272081.76 | G21: =SUM(G23) -> 18013.71
B22: 6381 | C22: Tekuće pomoći temeljem prijenosa EU sredstava | E22: =493624/7.5345 -> 65515.164 | F22: 0 | G22: 0
B23: 6382 | C23: kapitalna pomoć temeljem prijenosa EU | E23: =314412/7.5345 -> 41729.644 | F23: 272081.76 | G23: 18013.71
B24: 639 | C24: Prijenosi između proračunskih korisnika | E24: =SUM(E25) -> 171.47787 | F24: =SUM(F25) -> 0 | G24: =SUM(G25) -> 0
B25: 6391 | C25: Tekući prijenosi između proračunskih korisnika | E25: =1292/7.5345 -> 171.47787 | F25: 0 | G25: 0
B26: 64 | C26: Prihodi od imovine | E26: =SUM(E27:E29) -> 50144.535 | F26: =SUM(F27:F29) -> 120462.42 | G26: =SUM(G27:G29) -> 55180.92
B27: 6413 | C27: Kamate na oročena sredstva i depozite po viđenju | E27: =439/7.5345 -> 58.265313 | F27: 746.44 | G27: 204.07
B28: 6419 | C28: Ostali prihode o financijske imovine | E28: =376342/7.5345 -> 49949.167 | F28: 119450.53 | G28: 54839.75
B29: 6429 | C29: Ostali prihodi od nefinancijske imovine | E29: =1033/7.5345 -> 137.10266 | F29: =265.45 -> 265.45 | G29: 137.1
B30: 65 | C30: Prihodi po posebnim propisima | E30: =E31 -> 1523828.4 | F30: =SUM(F31) -> 6950029.9 | G30: =SUM(G31) -> 1963072.3
B31: 652 | C31: Prihodi po posebnim propisima | E31: =SUM(E32) -> 1523828.4 | F31: =SUM(F32) -> 6950029.9 | G31: =SUM(G32) -> 1963072.3
B32: 6526 | C32: Ostali nespomenuti prihodi (participacija) | E32: =11481285/7.5345 -> 1523828.4 | F32: =6950029.86 -> 6950029.9 | G32: 1963072.3
B33: 66 | C33: Prihodi od prodaje i donacija | E33: =E34+E37 -> 1701559.2 | F33: =SUM(F34,F37) -> 3641484.9 | G33: =SUM(G34,G37) -> 1739052
B34: 661 | C34: Prihodi od prodaje roba i pruženih usluga (vlastiti prihodi) | E34: =SUM(E35:E36) -> 1677912 | F34: =SUM(F36,F35) -> 3521370.8 | G34: =SUM(G36,G35) -> 1704828
B35: 6614 | C35: Prihodi od prodaje proizvoda i robe | E35: =6216809/7.5345 -> 825112.35 | F35: 1725396.5 | G35: 916985.05
B36: 6615 | C36: Prihodi od pruženih usluga | E36: =6425419/7.5345 -> 852799.65 | F36: 1795974.2 | G36: 787842.97
B37: 663 | C37: Donacije od pravnih i fizičkih osoba izvan proračuna | E37: =SUM(E38:E39) -> 23647.223 | F37: =SUM(F38:F39) -> 120114.13 | G37: =SUM(G38:G39) -> 34224
B38: 6631 | C38: Tekuće donacije | E38: =5000/7.5345 -> 663.61404 | F38: 53752.73 | G38: =5600+1310 -> 6910
B39: 6632 | C39: Kapitalne donacije | E39: =173170/7.5345 -> 22983.609 | F39: 66361.4 | G39: 27314
B40: 67 | C40: Prihodi iz nadležnog proračuna i HZZOa | E40: =SUM(E41) -> 20985600 | F40: =SUM(F41) -> 52367289 | G40: =SUM(G41) -> 24656056
B41: 673 | C41: Prihodi od HZZO-a | E41: =SUM(E42) -> 20985600 | F41: =SUM(F42) -> 52367289 | G41: =SUM(G42) -> 24656056
B42: 6731 | C42: Prihodi od HZZO-a temeljem ugovora | E42: =158116000/7.5345 -> 20985600 | F42: 52367289 | G42: 24656056
B43: 68 | C43: Kazne, upravne mjere i ostali prihodi | E43: =SUM(E44) -> 73202.601 | F43: =SUM(F44) -> 170007.44 | G43: =SUM(G44) -> 528760.56
B44: 683 | C44: Ostali prihodi | E44: =SUM(E45) -> 73202.601 | F44: =SUM(F45) -> 170007.44 | G44: =SUM(G45) -> 528760.56
B45: 6831 | C45: Ostali prihodi | E45: =551545/7.5345 -> 73202.601 | F45: 170007.44 | G45: 528760.56
A46: 7 | C46: Prihodi od prodaje nefinancijske imovine | E46: =E48 -> 206.78214 | F46: =SUM(F47) -> 7432.48 | G46: =SUM(G47) -> 18031
B47: 72 | C47: Prihodi od prodaje proizvedene dugotrajne imovine | E47: =SUM(E48) -> 206.78214 | F47: =SUM(F48) -> 7432.48 | G47: =SUM(G48) -> 18031
B48: 721 | C48: Prihodi od prodaje građevinskih objekata | E48: =SUM(E49) -> 206.78214 | F48: =SUM(F49,F50) -> 7432.48 | G48: =SUM(G49,G50) -> 18031
B49: 7211 | C49: Stambeni objekti | E49: =1558/7.5345 -> 206.78214 | F49: 796.34 | G49: 18031
B50: 7231 | C50: Prijevozna sredstva u cestovnom prometu | E50: 0 | F50: 6636.14 | G50: 0
A51: UKUPNO PRIHODI I PRIMICI: | E51: =E10+E46 -> 24659353 | F51: =F10+F46 -> 63896085 | G51: =G10+G46 -> 30852950
A54: RASHODI POSLOVANJA
A55: Razred | B55: Skupina/podskupina/odjeljak | C55: Naziv | D55: OSTVARENJE/ IZVRŠENJE 1.-3.2025. | E55: IZVORNI PLAN ZA 2026. | F55: TEKUĆI PLAN ZA 2026. | G55: OSTVARENJE/ IZVRŠENJE 1.-6.2026.
A56: 1 | E56: 2 | F56: 3 | G56: 4
A57: 3 | C57: RASHODI POSLOVANJA | D57: =D58+D82+D207+D220+D224+D229 -> 0 | E57: =E58+E82+E207+E220+E224+E229 -> 26300528 | F57: =F58+F82+F207+F220+F224+F229 -> 26423403 | G57: =G58+G82+G207+G220+G224+G229 -> 12760368
B58: 31 | C58: Rashodi za zaposlene | D58: =SUM(D59,D66,D75) -> 0 | E58: =SUM(E59,E66,E75) -> 15852232 | F58: =SUM(F59,F66,F75) -> 15852232 | G58: =SUM(G59,G66,G75) -> 8146832.8
B59: 311 | C59: Plaće (Bruto) | D59: =D60+D64 -> 0 | E59: =E60+E64 -> 13264985 | F59: =F60+F64 -> 13264985 | G59: =G60+G64 -> 6805977.9
B60: 3111 | C60: Plaće za redovan rad | D60: =D61+D62 -> 0 | E60: =E61+E62 -> 13094985 | F60: =F61+F62 -> 13094985 | G60: =G61+G62 -> 6592554.7
B61: 31111 | C61: Plaće za redovan rad | D61: =' PRIHODI I RASHODI-izvori'!E15+' PRIHODI I RASHODI-izvori'!E113+' PRIHODI I RASHODI-izvori'!E250+' PRIHODI I RASHODI-izvori'!E467+' PRIHODI I RASHODI-izvori'!E511+' PRIHODI I RASHODI-izvori'!E540 -> 0 | E61: =' PRIHODI I RASHODI-izvori'!F15+' PRIHODI I RASHODI-izvori'!F113+' PRIHODI I RASHODI-izvori'!F250+' PRIHODI I RASHODI-izvori'!F467+' PRIHODI I RASHODI-izvori'!F511+' PRIHODI I RASHODI-izvori'!F540 -> 13093185 | F61: =' PRIHODI I RASHODI-izvori'!G15+' PRIHODI I RASHODI-izvori'!G113+' PRIHODI I RASHODI-izvori'!G250+' PRIHODI I RASHODI-izvori'!G467+' PRIHODI I RASHODI-izvori'!G511+' PRIHODI I RASHODI-izvori'!G540 -> 13093185 | G61: =' PRIHODI I RASHODI-izvori'!H15+' PRIHODI I RASHODI-izvori'!H113+' PRIHODI I RASHODI-izvori'!H250+' PRIHODI I RASHODI-izvori'!H467+' PRIHODI I RASHODI-izvori'!H511+' PRIHODI I RASHODI-izvori'!H540 -> 6592115.8
B62: 31113 | C62: Plaće po sudskim presudama | D62: =' PRIHODI I RASHODI-izvori'!E251 -> 0 | E62: =' PRIHODI I RASHODI-izvori'!F251 -> 1800 | F62: =' PRIHODI I RASHODI-izvori'!G251 -> 1800 | G62: =' PRIHODI I RASHODI-izvori'!H251 -> 438.96
B63: 3112 | C63: Plaće u naravi
B64: 3113 | C64: Plaće za prekovremeni rad | D64: =D65 -> 0 | E64: =E65 -> 170000 | F64: =F65 -> 170000 | G64: =G65 -> 213423.12
B65: 31131 | C65: Plaće za prekovremeni rad | D65: =' PRIHODI I RASHODI-izvori'!E254 -> 0 | E65: =' PRIHODI I RASHODI-izvori'!F254 -> 170000 | F65: =' PRIHODI I RASHODI-izvori'!G254 -> 170000 | G65: =' PRIHODI I RASHODI-izvori'!H254 -> 213423.12
B66: 312 | C66: Ostali rashodi za zaposlene | D66: =SUM(D67) -> 0 | E66: =SUM(E67) -> 514027.1 | F66: =SUM(F67) -> 514027.1 | G66: =SUM(G67) -> 302390.14
B67: 3121 | C67: Ostali rashodi za zaposlene | D67: =SUM(D68:D74) -> 0 | E67: =SUM(E68:E74) -> 514027.1 | F67: =SUM(F68:F74) -> 514027.1 | G67: =SUM(G68:G74) -> 302390.14
B68: 31212 | C68: Ostali rashodi za zaposlene-nagrade | D68: =' PRIHODI I RASHODI-izvori'!E259 -> 0 | E68: =' PRIHODI I RASHODI-izvori'!F259 -> 124500 | F68: =' PRIHODI I RASHODI-izvori'!G259 -> 124500 | G68: =' PRIHODI I RASHODI-izvori'!H259 -> 125294.14
B69: 31213 | C69: Darovi | D69: =' PRIHODI I RASHODI-izvori'!E120+' PRIHODI I RASHODI-izvori'!E260+' PRIHODI I RASHODI-izvori'!E543 -> 0 | E69: =' PRIHODI I RASHODI-izvori'!F120+' PRIHODI I RASHODI-izvori'!F260+' PRIHODI I RASHODI-izvori'!F543 -> 36000 | F69: =' PRIHODI I RASHODI-izvori'!G120+' PRIHODI I RASHODI-izvori'!G260+' PRIHODI I RASHODI-izvori'!G543 -> 36000 | G69: =' PRIHODI I RASHODI-izvori'!H120+' PRIHODI I RASHODI-izvori'!H260+' PRIHODI I RASHODI-izvori'!H543 -> 0
B70: 31214 | C70: Otpremnine | D70: =' PRIHODI I RASHODI-izvori'!E261+' PRIHODI I RASHODI-izvori'!E121 -> 0 | E70: =' PRIHODI I RASHODI-izvori'!F261+' PRIHODI I RASHODI-izvori'!F121 -> 43000 | F70: =' PRIHODI I RASHODI-izvori'!G261+' PRIHODI I RASHODI-izvori'!G121 -> 43000 | G70: =' PRIHODI I RASHODI-izvori'!H261+' PRIHODI I RASHODI-izvori'!H121 -> 19898.73
B71: 31215 | C71: Naknade za bolest, invalidnost i smrt | D71: =' PRIHODI I RASHODI-izvori'!E262+' PRIHODI I RASHODI-izvori'!E122 -> 0 | E71: =' PRIHODI I RASHODI-izvori'!F262+' PRIHODI I RASHODI-izvori'!F122 -> 23800 | F71: =' PRIHODI I RASHODI-izvori'!G262+' PRIHODI I RASHODI-izvori'!G122 -> 23800 | G71: =' PRIHODI I RASHODI-izvori'!H262+' PRIHODI I RASHODI-izvori'!H122 -> 13463.92
B72: 31216 | C72: Regres za godišnji odmor | D72: =' PRIHODI I RASHODI-izvori'!E123+' PRIHODI I RASHODI-izvori'!E263+' PRIHODI I RASHODI-izvori'!E544 -> 0 | E72: =' PRIHODI I RASHODI-izvori'!F123+' PRIHODI I RASHODI-izvori'!F263+' PRIHODI I RASHODI-izvori'!F514+' PRIHODI I RASHODI-izvori'!F544 -> 139250 | F72: =' PRIHODI I RASHODI-izvori'!G123+' PRIHODI I RASHODI-izvori'!G263+' PRIHODI I RASHODI-izvori'!G514+' PRIHODI I RASHODI-izvori'!G544 -> 139250 | G72: =' PRIHODI I RASHODI-izvori'!H123+' PRIHODI I RASHODI-izvori'!H263+' PRIHODI I RASHODI-izvori'!H514+' PRIHODI I RASHODI-izvori'!H544 -> 135900
B73: 31217 | C73: Božićnica, uskrsnica | D73: =' PRIHODI I RASHODI-izvori'!E124+' PRIHODI I RASHODI-izvori'!E545 -> 0 | E73: =' PRIHODI I RASHODI-izvori'!F124+' PRIHODI I RASHODI-izvori'!F545 -> 65000 | F73: =' PRIHODI I RASHODI-izvori'!G124+' PRIHODI I RASHODI-izvori'!G545 -> 65000 | G73: =' PRIHODI I RASHODI-izvori'!H124+' PRIHODI I RASHODI-izvori'!H545 -> 0
B74: 31219 | C74: Ostali nenavedeni rashodi za zaposlene | D74: =' PRIHODI I RASHODI-izvori'!E18+' PRIHODI I RASHODI-izvori'!E125+' PRIHODI I RASHODI-izvori'!E264+' PRIHODI I RASHODI-izvori'!E546 -> 0 | E74: =' PRIHODI I RASHODI-izvori'!F18+' PRIHODI I RASHODI-izvori'!F125+' PRIHODI I RASHODI-izvori'!F264+' PRIHODI I RASHODI-izvori'!F546 -> 82477.1 | F74: =' PRIHODI I RASHODI-izvori'!G18+' PRIHODI I RASHODI-izvori'!G125+' PRIHODI I RASHODI-izvori'!G264+' PRIHODI I RASHODI-izvori'!G546 -> 82477.1 | G74: =' PRIHODI I RASHODI-izvori'!H18+' PRIHODI I RASHODI-izvori'!H125+' PRIHODI I RASHODI-izvori'!H264+' PRIHODI I RASHODI-izvori'!H546 -> 7833.35
B75: 313 | C75: Doprinosi na plaće | D75: =D76+D77+D80 -> 0 | E75: =E76+E77+E80 -> 2073219.9 | F75: =F76+F77+F80 -> 2073219.9 | G75: =G76+G77+G80 -> 1038464.8
B76: 3131 | C76: Doprinosi za mirovinsko osiguranje
B77: 3132 | C77: Doprinosi za obavezno zdravst.osig. | D77: =D78 -> 0 | E77: =SUM(E78:E79) -> 2073219.9 | F77: =SUM(F78:F79) -> 2073219.9 | G77: =SUM(G78:G79) -> 1038458.1
B78: 31321 | C78: Doprinosi za obavezno zdravst.osig. | D78: =' PRIHODI I RASHODI-izvori'!E21+' PRIHODI I RASHODI-izvori'!E128+' PRIHODI I RASHODI-izvori'!E267+' PRIHODI I RASHODI-izvori'!E470+' PRIHODI I RASHODI-izvori'!E549 -> 0 | E78: =' PRIHODI I RASHODI-izvori'!F21+' PRIHODI I RASHODI-izvori'!F128+' PRIHODI I RASHODI-izvori'!F267+' PRIHODI I RASHODI-izvori'!F470+' PRIHODI I RASHODI-izvori'!F517+' PRIHODI I RASHODI-izvori'!F549 -> 2073219.9 | F78: =' PRIHODI I RASHODI-izvori'!G21+' PRIHODI I RASHODI-izvori'!G128+' PRIHODI I RASHODI-izvori'!G267+' PRIHODI I RASHODI-izvori'!G470+' PRIHODI I RASHODI-izvori'!G517+' PRIHODI I RASHODI-izvori'!G549 -> 2073219.9 | G78: =' PRIHODI I RASHODI-izvori'!H21+' PRIHODI I RASHODI-izvori'!H128+' PRIHODI I RASHODI-izvori'!H267+' PRIHODI I RASHODI-izvori'!H470+' PRIHODI I RASHODI-izvori'!H517+' PRIHODI I RASHODI-izvori'!H549 -> 1038456.1
B79: 31322 | C79: Doprinosi za zaštitu zdravlja na radu | E79: =' PRIHODI I RASHODI-izvori'!F268 -> 0 | F79: =' PRIHODI I RASHODI-izvori'!G268 -> 0 | G79: =' PRIHODI I RASHODI-izvori'!H268 -> 1.97
B80: 3133 | C80: Doprinosi za zapošljavanje | D80: =D81 -> 0 | E80: =E81 -> 0 | F80: =F81 -> 0 | G80: =G81 -> 6.75
B81: 31332 | C81: Doprinosi u slučaju nezaposlenosti | D81: =' PRIHODI I RASHODI-izvori'!E270 -> 0 | E81: =' PRIHODI I RASHODI-izvori'!F270 -> 0 | F81: =' PRIHODI I RASHODI-izvori'!G270 -> 0 | G81: =' PRIHODI I RASHODI-izvori'!H270 -> 6.75
B82: 32 | C82: Materijalni rashodi | D82: =D83+D98+D128+D174+D177+D185 -> 0 | E82: =E83+E98+E128+E174+E177+E185 -> 10408621 | F82: =F83+F98+F128+F174+F177+F185 -> 10531496 | G82: =G83+G98+G128+G174+G177+G185 -> 4595778.2
B83: 321 | C83: Naknade troškova zaposlenima | D83: =D84+D90+D93+D96 -> 0 | E83: =E84+E90+E93+E96 -> 440172.59 | F83: =F84+F90+F93+F96 -> 440172.59 | G83: =G84+G90+G93+G96 -> 220860.64
B84: 3211 | C84: Službena putovanja | D84: =SUM(D85:D89) -> 0 | E84: =SUM(E85:E89) -> 32935.94 | F84: =SUM(F85:F89) -> 32935.94 | G84: =SUM(G85:G89) -> 1880.63
B85: 32111 | C85: Dnevnice za službeni put u zemlji | D85: =' PRIHODI I RASHODI-izvori'!E25+' PRIHODI I RASHODI-izvori'!E132+' PRIHODI I RASHODI-izvori'!E274+' PRIHODI I RASHODI-izvori'!E474+' PRIHODI I RASHODI-izvori'!E521+' PRIHODI I RASHODI-izvori'!E553+' PRIHODI I RASHODI-izvori'!E576 -> 0 | E85: =' PRIHODI I RASHODI-izvori'!F25+' PRIHODI I RASHODI-izvori'!F132+' PRIHODI I RASHODI-izvori'!F274+' PRIHODI I RASHODI-izvori'!F474+' PRIHODI I RASHODI-izvori'!F521+' PRIHODI I RASHODI-izvori'!F553+' PRIHODI I RASHODI-izvori'!F576 -> 19322.33 | F85: =' PRIHODI I RASHODI-izvori'!G25+' PRIHODI I RASHODI-izvori'!G132+' PRIHODI I RASHODI-izvori'!G274+' PRIHODI I RASHODI-izvori'!G474+' PRIHODI I RASHODI-izvori'!G521+' PRIHODI I RASHODI-izvori'!G553+' PRIHODI I RASHODI-izvori'!G576 -> 19322.33 | G85: =' PRIHODI I RASHODI-izvori'!H25+' PRIHODI I RASHODI-izvori'!H132+' PRIHODI I RASHODI-izvori'!H274+' PRIHODI I RASHODI-izvori'!H474+' PRIHODI I RASHODI-izvori'!H521+' PRIHODI I RASHODI-izvori'!H553+' PRIHODI I RASHODI-izvori'!H576 -> 0
B86: 32113 | C86: Naknade za smještaj na službenom putu u zemlji | D86: =' PRIHODI I RASHODI-izvori'!E133+' PRIHODI I RASHODI-izvori'!E275+' PRIHODI I RASHODI-izvori'!E475+' PRIHODI I RASHODI-izvori'!E554 -> 0 | E86: =' PRIHODI I RASHODI-izvori'!F133+' PRIHODI I RASHODI-izvori'!F275+' PRIHODI I RASHODI-izvori'!F475+' PRIHODI I RASHODI-izvori'!F554 -> 7600 | F86: =' PRIHODI I RASHODI-izvori'!G133+' PRIHODI I RASHODI-izvori'!G275+' PRIHODI I RASHODI-izvori'!G475+' PRIHODI I RASHODI-izvori'!G554 -> 7600 | G86: =' PRIHODI I RASHODI-izvori'!H133+' PRIHODI I RASHODI-izvori'!H275+' PRIHODI I RASHODI-izvori'!H475+' PRIHODI I RASHODI-izvori'!H554 -> 952.52
B87: 32114 | C87: Naknade za smještaj na službenom putu u inozemstvu | E87: =' PRIHODI I RASHODI-izvori'!F276 -> 0 | F87: =' PRIHODI I RASHODI-izvori'!G276 -> 0 | G87: =' PRIHODI I RASHODI-izvori'!H276 -> 75.71
B88: 32115 | C88: Naknade za prijevoz na službenom putu u zemlji | D88: =' PRIHODI I RASHODI-izvori'!E134+' PRIHODI I RASHODI-izvori'!E277+' PRIHODI I RASHODI-izvori'!E476+' PRIHODI I RASHODI-izvori'!E555+' PRIHODI I RASHODI-izvori'!E577 -> 0 | E88: =' PRIHODI I RASHODI-izvori'!F134+' PRIHODI I RASHODI-izvori'!F277+' PRIHODI I RASHODI-izvori'!F476+' PRIHODI I RASHODI-izvori'!F555+' PRIHODI I RASHODI-izvori'!F577 -> 4863.61 | F88: =' PRIHODI I RASHODI-izvori'!G134+' PRIHODI I RASHODI-izvori'!G277+' PRIHODI I RASHODI-izvori'!G476+' PRIHODI I RASHODI-izvori'!G555+' PRIHODI I RASHODI-izvori'!G577 -> 4863.61 | G88: =' PRIHODI I RASHODI-izvori'!H134+' PRIHODI I RASHODI-izvori'!H277+' PRIHODI I RASHODI-izvori'!H476+' PRIHODI I RASHODI-izvori'!H555+' PRIHODI I RASHODI-izvori'!H577 -> 33
B89: 32119 | C89: Ostali rashodi za sl. putovanje (cestarine, trošak parkiranja) | D89: =' PRIHODI I RASHODI-izvori'!E26+' PRIHODI I RASHODI-izvori'!E135+' PRIHODI I RASHODI-izvori'!E278 -> 0 | E89: =' PRIHODI I RASHODI-izvori'!F26+' PRIHODI I RASHODI-izvori'!F135+' PRIHODI I RASHODI-izvori'!F278 -> 1150 | F89: =' PRIHODI I RASHODI-izvori'!G26+' PRIHODI I RASHODI-izvori'!G135+' PRIHODI I RASHODI-izvori'!G278 -> 1150 | G89: =' PRIHODI I RASHODI-izvori'!H26+' PRIHODI I RASHODI-izvori'!H135+' PRIHODI I RASHODI-izvori'!H278 -> 819.4
B90: 3212 | C90: Naknade za prijevoz, odvojeni život | D90: =SUM(D91:D92) -> 0 | E90: =SUM(E91:E92) -> 383293.98 | F90: =SUM(F91:F92) -> 383293.98 | G90: =SUM(G91:G92) -> 206283.08
B91: 32121 | C91: Naknade za prijevoz | D91: =' PRIHODI I RASHODI-izvori'!E137+' PRIHODI I RASHODI-izvori'!E280+' PRIHODI I RASHODI-izvori'!E478+' PRIHODI I RASHODI-izvori'!E557 -> 0 | E91: =' PRIHODI I RASHODI-izvori'!F137+' PRIHODI I RASHODI-izvori'!F280+' PRIHODI I RASHODI-izvori'!F478+' PRIHODI I RASHODI-izvori'!F523+' PRIHODI I RASHODI-izvori'!F557 -> 379293.98 | F91: =' PRIHODI I RASHODI-izvori'!G137+' PRIHODI I RASHODI-izvori'!G280+' PRIHODI I RASHODI-izvori'!G478+' PRIHODI I RASHODI-izvori'!G523+' PRIHODI I RASHODI-izvori'!G557 -> 379293.98 | G91: =' PRIHODI I RASHODI-izvori'!H137+' PRIHODI I RASHODI-izvori'!H280+' PRIHODI I RASHODI-izvori'!H478+' PRIHODI I RASHODI-izvori'!H523+' PRIHODI I RASHODI-izvori'!H557 -> 206283.08
B92: 32123 | C92: Naknada za odvojeni život | D92: =' PRIHODI I RASHODI-izvori'!E138 -> 0 | E92: =' PRIHODI I RASHODI-izvori'!F138 -> 4000 | F92: =' PRIHODI I RASHODI-izvori'!G138 -> 4000 | G92: =' PRIHODI I RASHODI-izvori'!H138 -> 0
B93: 3213 | C93: Stručno usavršavanje zaposlenih | D93: =SUM(D94:D95) -> 0 | E93: =SUM(E94:E95) -> 23742.67 | F93: =SUM(F94:F95) -> 23742.67 | G93: =SUM(G94:G95) -> 12696.93
B94: 32131 | C94: Seminari, savjetovanja i simpoziji | D94: =' PRIHODI I RASHODI-izvori'!E28+' PRIHODI I RASHODI-izvori'!E140+' PRIHODI I RASHODI-izvori'!E282+' PRIHODI I RASHODI-izvori'!E525+' PRIHODI I RASHODI-izvori'!E579 -> 0 | E94: =' PRIHODI I RASHODI-izvori'!F28+' PRIHODI I RASHODI-izvori'!F140+' PRIHODI I RASHODI-izvori'!F282+' PRIHODI I RASHODI-izvori'!F525+' PRIHODI I RASHODI-izvori'!F579 -> 13100 | F94: =' PRIHODI I RASHODI-izvori'!G28+' PRIHODI I RASHODI-izvori'!G140+' PRIHODI I RASHODI-izvori'!G282+' PRIHODI I RASHODI-izvori'!G525+' PRIHODI I RASHODI-izvori'!G579 -> 13100 | G94: =' PRIHODI I RASHODI-izvori'!H28+' PRIHODI I RASHODI-izvori'!H140+' PRIHODI I RASHODI-izvori'!H282+' PRIHODI I RASHODI-izvori'!H525+' PRIHODI I RASHODI-izvori'!H579 -> 11862.93
B95: 32132 | C95: Tečajevi i stručni ispiti | D95: =' PRIHODI I RASHODI-izvori'!E141+' PRIHODI I RASHODI-izvori'!E283+' PRIHODI I RASHODI-izvori'!E480+' PRIHODI I RASHODI-izvori'!E559 -> 0 | E95: =' PRIHODI I RASHODI-izvori'!F141+' PRIHODI I RASHODI-izvori'!F283+' PRIHODI I RASHODI-izvori'!F480+' PRIHODI I RASHODI-izvori'!F559 -> 10642.67 | F95: =' PRIHODI I RASHODI-izvori'!G141+' PRIHODI I RASHODI-izvori'!G283+' PRIHODI I RASHODI-izvori'!G480+' PRIHODI I RASHODI-izvori'!G559 -> 10642.67 | G95: =' PRIHODI I RASHODI-izvori'!H141+' PRIHODI I RASHODI-izvori'!H283+' PRIHODI I RASHODI-izvori'!H480+' PRIHODI I RASHODI-izvori'!H559 -> 834
B96: 3214 | C96: Ostale naknade troškova zaposlenima | D96: =D97 -> 0 | E96: =E97 -> 200 | F96: =F97 -> 200 | G96: =G97 -> 0
B97: 32141 | C97: Naknada za korištenje privatnog automobila u službene svrhe | D97: =' PRIHODI I RASHODI-izvori'!E285 -> 0 | E97: =' PRIHODI I RASHODI-izvori'!F285 -> 200 | F97: =' PRIHODI I RASHODI-izvori'!G285 -> 200 | G97: =' PRIHODI I RASHODI-izvori'!H285 -> 0
B98: 322 | C98: Rashodi za materijal i energiju | D98: =D99+D106+D113+D118+D123+D126 -> 0 | E98: =E99+E106+E113+E118+E123+E126 -> 3476735.5 | F98: =F99+F106+F113+F118+F123+F126 -> 3487043.4 | G98: =G99+G106+G113+G118+G123+G126 -> 289192.57
B99: 3221 | C99: Uredski materijal i ostali materijalni rashodi | D99: =SUM(D100:D105) -> 0 | E99: =SUM(E100:E105) -> 138033.03 | F99: =SUM(F100:F105) -> 138033.03 | G99: =SUM(G100:G105) -> 61078.6
B100: 32211 | C100: Uredski materijal | D100: =' PRIHODI I RASHODI-izvori'!E288+' PRIHODI I RASHODI-izvori'!E145+' PRIHODI I RASHODI-izvori'!E31+' PRIHODI I RASHODI-izvori'!E483 -> 0 | E100: =' PRIHODI I RASHODI-izvori'!F288+' PRIHODI I RASHODI-izvori'!F145+' PRIHODI I RASHODI-izvori'!F31+' PRIHODI I RASHODI-izvori'!F483 -> 49833.03 | F100: =' PRIHODI I RASHODI-izvori'!G288+' PRIHODI I RASHODI-izvori'!G145+' PRIHODI I RASHODI-izvori'!G31+' PRIHODI I RASHODI-izvori'!G483 -> 49833.03 | G100: =' PRIHODI I RASHODI-izvori'!H288+' PRIHODI I RASHODI-izvori'!H145+' PRIHODI I RASHODI-izvori'!H31+' PRIHODI I RASHODI-izvori'!H483 -> 32590.38
B101: 32212 | C101: Literatura | D101: =' PRIHODI I RASHODI-izvori'!E289 -> 0 | E101: =' PRIHODI I RASHODI-izvori'!F289 -> 1500 | F101: =' PRIHODI I RASHODI-izvori'!G289 -> 1500 | G101: =' PRIHODI I RASHODI-izvori'!H289 -> 867.58
B102: 32214 | C102: Materijal i sredstva za čišćenje i održavanje | D102: =' PRIHODI I RASHODI-izvori'!E290+' PRIHODI I RASHODI-izvori'!E32 -> 0 | E102: =' PRIHODI I RASHODI-izvori'!F290+' PRIHODI I RASHODI-izvori'!F32 -> 58500 | F102: =' PRIHODI I RASHODI-izvori'!G290+' PRIHODI I RASHODI-izvori'!G32 -> 58500 | G102: =' PRIHODI I RASHODI-izvori'!H290+' PRIHODI I RASHODI-izvori'!H32 -> 13921.35
B103: 32215 | C103: Službena, radna i zaštitna odjeća | D103: =' PRIHODI I RASHODI-izvori'!E291 -> 0 | E103: =' PRIHODI I RASHODI-izvori'!F291 -> 500 | F103: =' PRIHODI I RASHODI-izvori'!G291 -> 500 | G103: =' PRIHODI I RASHODI-izvori'!H291 -> 0
B104: 32216 | C104: Materijal za higijenske potrebe i njegu | D104: =' PRIHODI I RASHODI-izvori'!E292 -> 0 | E104: =' PRIHODI I RASHODI-izvori'!F292 -> 25000 | F104: =' PRIHODI I RASHODI-izvori'!G292 -> 25000 | G104: =' PRIHODI I RASHODI-izvori'!H292 -> 13699.29
B105: 32219 | C105: Ostali materijal za potrebe redovnog poslovanja | D105: =' PRIHODI I RASHODI-izvori'!E293+' PRIHODI I RASHODI-izvori'!E484 -> 0 | E105: =' PRIHODI I RASHODI-izvori'!F293+' PRIHODI I RASHODI-izvori'!F484 -> 2700 | F105: =' PRIHODI I RASHODI-izvori'!G293+' PRIHODI I RASHODI-izvori'!G484 -> 2700 | G105: =' PRIHODI I RASHODI-izvori'!H293+' PRIHODI I RASHODI-izvori'!H484 -> 0
...

Sheet Prihodi po ek klas i izvorima
A1: I. OPĆI DIO
A2: A. RAČUN PRIHODA
A3: PRIHODI PREMA EKONOMSKOJ KLASIFIKACIJI I IZVORIMA FINANCIRANJA
A5: PRIHODI POSLOVANJA
A6: Razred | B6: Skupina/podskupina/odjeljak | C6: Izvor | D6: Naziv | E6: OSTVARENJE/ IZVRŠENJE 1.-3.2025. | F6: IZVORNI PLAN ZA 2026. | G6: TEKUĆI PLAN ZA 2026. | H6: OSTVARENJE/ IZVRŠENJE 1.-6.2026. | I6: Indeks | J6: Indeks
A7: 1 | E7: 2 | F7: 3 | G7: 4 | H7: 5 | I7: 6=5/3*100 | J7: 7=5/4*100
A8: 6 | D8: Prihodi poslovanja | E8: =E9+E17+E28+E37+E45+E49+E55+E62+#REF!+E68+E85+E91+E98+E107 -> #REF! | F8: =F9+F17+F28+F37+F45+F49+F55+F62+F68+F85+F91+F98+F107 -> 27399696 | G8: =G9+G17+G28+G37+G45+G49+G55+G62+G68+G85+G91+G98+G107 -> 27028468 | H8: =H9+H17+H28+H37+H45+H49+H55+H62+H68+H85+H91+H98+H107 -> 12341724 | I8: =H8/F8*100 -> 45.043289 | J8: =H8/G8*100 -> 45.661945
B9: 67 | D9: Prihodi iz nadležnog proračuna i od HZZO-a temeljem ugovornih obveza | E9: =E10 -> 0 | F9: =F10 -> 1250606 | G9: =G10 -> 879378.02 | H9: =H10 -> 274213.08 | I9: =H9/F9*100 -> 21.926416 | J9: =H9/G9*100 -> 31.182617
B10: 671 | D10: Prihodi iz nadležnog proračuna za financiranje redovne djelatnosti proračunskih korisnika | E10: =E11 -> 0 | F10: =F11+F13 -> 1250606 | G10: =G11+G13 -> 879378.02 | H10: =H11+H13 -> 274213.08 | I10: =H10/F10*100 -> 21.926416 | J10: =H10/G10*100 -> 31.182617
B11: 6711 | D11: Prihodi iz nadležnog proračuna za financiranje rashoda poslovanja | E11: =E12 -> 0 | F11: =F12 -> 481103.03 | G11: =G12 -> 603978.02 | H11: =H12 -> 162217.39 | I11: =H11/F11*100 -> 33.717807 | J11: =H11/G11*100 -> 26.858161
B12: 67111 | D12: Prihodi iz nadležnog proračuna za financiranje rashoda poslovanja | E12: 0 | F12: 481103.03 | G12: 603978.02 | H12: 162217.39 | I12: =H12/F12*100 -> 33.717807 | J12: =H12/G12*100 -> 26.858161
B13: 6712 | D13: Prihodi iz nadležnog proračuna za nabavu nefinancijske imovine | E13: =E14 -> 0 | F13: =F14 -> 769502.99 | G13: =G14 -> 275400 | H13: =H14 -> 111995.69 | I13: =H13/F13*100 -> 14.554289 | J13: =H13/G13*100 -> 40.666554
B14: 67121 | D14: Prihodi iz nadležnog proračuna za nabavu nefinancijske imovine | E14: 0 | F14: 769502.99 | G14: 275400 | H14: 111995.69 | I14: =H14/F14*100 -> 14.554289 | J14: =H14/G14*100 -> 40.666554
C15: 11 | D15: Opći prihodi i primici | E15: =E9 -> 0 | F15: =F9 -> 1250606 | G15: =G9 -> 879378.02 | H15: =H9 -> 274213.08 | I15: =H15/F15*100 -> 21.926416 | J15: =H15/G15*100 -> 31.182617
C16: 1 | D16: OPĆI PRIHODI I PRIMICI | E16: =E15 -> 0 | F16: =F15 -> 1250606 | G16: =G15 -> 879378.02 | H16: =H15 -> 274213.08 | I16: =H16/F16*100 -> 21.926416 | J16: =H16/G16*100 -> 31.182617
B17: 64 | D17: Prihodi od imovine | E17: =SUM(E18,E25) -> 0 | F17: =SUM(F18,F25) -> 1000 | G17: =SUM(G18,G25) -> 1000 | H17: =SUM(H18,H25) -> 47.37 | I17: =H17/F17*100 -> 4.737 | J17: =H17/G17*100 -> 4.737
B18: 641 | D18: Prihodi od financijske imovine | E18: =SUM(E19,E21,E23) -> 0 | F18: =SUM(F19,F21,F23) -> 600 | G18: =SUM(G19,G21,G23) -> 600 | H18: =SUM(H19,H21,H23) -> 47.37 | I18: =H18/F18*100 -> 7.895 | J18: =H18/G18*100 -> 7.895
B19: 6413 | D19: Kamate na oročena sredstva i depozite po viđenju | E19: =SUM(E20) -> 0 | F19: =SUM(F20) -> 550 | G19: =SUM(G20) -> 550 | H19: =SUM(H20) -> 47.37 | I19: =H19/F19*100 -> 8.6127273 | J19: =H19/G19*100 -> 8.6127273
B20: 64132 | D20: Kamate na oročena sredstva i depozite po viđenju | E20: 0 | F20: =200+150+200 -> 550 | G20: 550 | H20: 47.37 | I20: =H20/F20*100 -> 8.6127273 | J20: =H20/G20*100 -> 8.6127273
B21: 6414 | D21: Prihodi od zateznih kamata | E21: =E22 -> 0 | F21: =F22 -> 50 | G21: =G22 -> 50 | H21: =H22 -> 0 | I21: =H21/F21*100 -> 0 | J21: =H21/G21*100 -> 0
B22: 64143 | D22: Prihodi od zateznih kamata | F22: 50 | G22: 50 | I22: =H22/F22*100 -> 0 | J22: =H22/G22*100 -> 0
B23: 6419 | D23: Ostali prihodi od financijske imovine | E23: =E24 -> 0 | F23: =F24 -> 0 | G23: =G24 -> 0 | H23: =H24 -> 0 | I23: =H23/F23*100 -> #DIV/0! | J23: =H23/G23*100 -> #DIV/0!
B24: 64199 | D24: Ostali prihodi od financijske imovine | F24: 0 | G24: 0 | H24: 0 | I24: =H24/F24*100 -> #DIV/0! | J24: =H24/G24*100 -> #DIV/0!
B25: 642 | D25: Prihodi od nefinancijske imovine | E25: =E26 -> 0 | F25: =F26 -> 400 | G25: =G26 -> 400 | H25: =H26 -> 0 | I25: =H25/F25*100 -> 0 | J25: =H25/G25*100 -> 0
B26: 6429 | D26: Ostali prihodi od nefinancijske imovine | E26: =E27 -> 0 | F26: =F27 -> 400 | G26: =G27 -> 400 | H26: =H27 -> 0 | I26: =H26/F26*100 -> 0 | J26: =H26/G26*100 -> 0
B27: 64299 | D27: Ostali prihodi od nefinancijske imovine | F27: 400 | G27: 400 | H27: 0 | I27: =H27/F27*100 -> 0 | J27: =H27/G27*100 -> 0
B28: 66 | D28: Prihodi od prodaje proizvoda i robe te pruženih usluga i prihodi od donacija | E28: =SUM(E29) -> 0 | F28: =SUM(F29) -> 3643116.3 | G28: =SUM(G29) -> 3643116.3 | H28: =SUM(H29) -> 1457596.6 | I28: =H28/F28*100 -> 40.00961 | J28: =H28/G28*100 -> 40.00961
B29: 661 | D29: Prihodi od prodaje proizvoda i robe te pruženih usluga | E29: =SUM(E30,E33) -> 0 | F29: =SUM(F30,F33) -> 3643116.3 | G29: =SUM(G30,G33) -> 3643116.3 | H29: =SUM(H30,H33) -> 1457596.6 | I29: =H29/F29*100 -> 40.00961 | J29: =H29/G29*100 -> 40.00961
B30: 6614 | D30: Prihod od prodaje proizvoda i usluga | E30: =E31+E32 -> 0 | F30: =F31+F32 -> 2625000 | G30: =G31+G32 -> 2625000 | H30: =H31+H32 -> 1109038.4 | I30: =H30/F30*100 -> 42.249083 | J30: =H30/G30*100 -> 42.249083
B31: 66141 | D31: Prihodi od prodaje proizvoda i robe - ljekarne | E31: 0 | F31: 25000 | G31: 25000 | I31: =H31/F31*100 -> 0 | J31: =H31/G31*100 -> 0
B32: 66142 | D32: Prihodi od prodaje robe | F32: =1000000+1600000 -> 2600000 | G32: 2600000 | H32: 1109038.4 | I32: =H32/F32*100 -> 42.655325 | J32: =H32/G32*100 -> 42.655325
B33: 6615 | D33: Prihodi od pruženih usluga | E33: =SUM(E34:E36) -> 0 | F33: =SUM(F34:F36) -> 1018116.3 | G33: =SUM(G34:G36) -> 1018116.3 | H33: =SUM(H34:H36) -> 348558.2 | I33: =H33/F33*100 -> 34.235597 | J33: =H33/G33*100 -> 34.235597
B34: 66151 | D34: Prihodi od pruženih usluga | E34: 0 | F34: =350000+163116.33+500000 -> 1013116.3 | G34: 1013116.3 | H34: 348558.2 | I34: =H34/F34*100 -> 34.404558 | J34: =H34/G34*100 -> 34.404558
B35: 66153 | D35: Prihodi za udio troškova u zakupu | E35: 0 | I35: =H35/F35*100 -> #DIV/0! | J35: =H35/G35*100 -> #DIV/0!
B36: 66157 | D36: Prihod od usluga ref. dežurstva specijalizanti | E36: 0 | F36: 5000 | G36: 5000 | I36: =H36/F36*100 -> 0 | J36: =H36/G36*100 -> 0
B37: 68 | D37: Kazne, upravne mjere i ostali prihodi | E37: =SUM(E38) -> 0 | F37: =SUM(F38) -> 161000 | G37: =SUM(G38) -> 161000 | H37: =SUM(H38) -> 93685.16 | I37: =H37/F37*100 -> 58.18954 | J37: =H37/G37*100 -> 58.18954
B38: 683 | D38: Ostali prihodi | E38: =SUM(E39) -> 0 | F38: =SUM(F39) -> 161000 | G38: =SUM(G39) -> 161000 | H38: =SUM(H39) -> 93685.16 | I38: =H38/F38*100 -> 58.18954 | J38: =H38/G38*100 -> 58.18954
B39: 6831 | D39: Ostali prihodi | E39: =E40+E41+E42 -> 0 | F39: =F40+F41+F42 -> 161000 | G39: =G40+G41+G42 -> 161000 | H39: =H40+H41+H42 -> 93685.16 | I39: =H39/F39*100 -> 58.18954 | J39: =H39/G39*100 -> 58.18954
B40: 68311 | D40: Ostali prihodi | E40: 0 | F40: =3000+130000 -> 133000 | G40: 133000 | H40: 93685.16 | I40: =H40/F40*100 -> 70.43997 | J40: =H40/G40*100 -> 70.43997
B41: 68312 | D41: Ostali prihodi-od inventurnih viškova | E41: 0 | F41: 3000 | G41: 3000 | I41: =H41/F41*100 -> 0 | J41: =H41/G41*100 -> 0
B42: 68313 | D42: Ostali prihodi od veleprodajnih i akcijskih rabata | E42: 0 | F42: 25000 | G42: 25000 | I42: =H42/F42*100 -> 0 | J42: =H42/G42*100 -> 0
C43: 31 | D43: Vlastiti prihodi | E43: =E17+E28+E37 -> 0 | F43: =F17+F28+F37 -> 3805116.3 | G43: =G17+G28+G37 -> 3805116.3 | H43: =H17+H28+H37 -> 1551329.2 | I43: =H43/F43*100 -> 40.76956 | J43: =H43/G43*100 -> 40.76956
C44: 3 | D44: VLASTITI PRIHODI | F44: =F43 -> 3805116.3 | G44: =G43 -> 3805116.3 | H44: =H43 -> 1551329.2 | I44: =H44/F44*100 -> 40.76956 | J44: =H44/G44*100 -> 40.76956
B45: 64 | D45: Prihodi od imovine | E45: =SUM(E46) -> 0 | F45: =SUM(F46) -> 100000 | G45: =SUM(G46) -> 100000 | H45: =SUM(H46) -> 0 | I45: =H45/F45*100 -> 0 | J45: =H45/G45*100 -> 0
B46: 641 | D46: Prihodi od financijske imovine | E46: =SUM(E47:E47) -> 0 | F46: =SUM(F47:F47) -> 100000 | G46: =SUM(G47:G47) -> 100000 | H46: =SUM(H47:H47) -> 0 | I46: =H46/F46*100 -> 0 | J46: =H46/G46*100 -> 0
B47: 6419 | D47: Ostali prihodi od financijske imovine | E47: =E48 -> 0 | F47: =F48 -> 100000 | G47: =G48 -> 100000 | H47: =H48 -> 0 | I47: =H47/F47*100 -> 0 | J47: =H47/G47*100 -> 0
B48: 64199 | D48: Ostali prihodi od financijske imovine | F48: 100000 | G48: 100000 | I48: =H48/F48*100 -> 0 | J48: =H48/G48*100 -> 0
B49: 65 | D49: Prihodi od upravnih i administrativnih pristojbi, pristojbi po posebnim propisima i naknada | E49: =SUM(E50) -> 0 | F49: =SUM(F50) -> 932300 | G49: =SUM(G50) -> 932300 | H49: =SUM(H50) -> 224451.64 | I49: =H49/F49*100 -> 24.075045 | J49: =H49/G49*100 -> 24.075045
B50: 652 | D50: Prihodi po posebnim propisima | E50: =SUM(E51) -> 0 | F50: =SUM(F51) -> 932300 | G50: =SUM(G51) -> 932300 | H50: =SUM(H51) -> 224451.64 | I50: =H50/F50*100 -> 24.075045 | J50: =H50/G50*100 -> 24.075045
B51: 6526 | D51: Ostali nespomenuti prihodi (participacija) | E51: =SUM(E52:E54) -> 0 | F51: =SUM(F52:F54) -> 932300 | G51: =SUM(G52:G54) -> 932300 | H51: =SUM(H52:H54) -> 224451.64 | I51: =H51/F51*100 -> 24.075045 | J51: =H51/G51*100 -> 24.075045
B52: 65264 | D52: Sufinanciranje cijene usluge, participacija | E52: 0 | F52: =497800+55000+350000 -> 902800 | G52: 902800 | H52: 224451.64 | I52: =H52/F52*100 -> 24.861724 | J52: =H52/G52*100 -> 24.861724
B53: 65267 | D53: Prihodi od osiguranja i refundacije štete | F53: 1000 | G53: 1000 | I53: =H53/F53*100 -> 0 | J53: =H53/G53*100 -> 0
B54: 65269 | D54: Refundacija plaća specijalizanata | E54: 0 | F54: =25000+3500 -> 28500 | G54: 28500 | I54: =H54/F54*100 -> 0 | J54: =H54/G54*100 -> 0
B55: 67 | D55: Prihodi iz nadležnog proračuna i od HZZO-a temeljem ugovornih obveza | E55: =SUM(E56,E59) -> 0 | F55: =SUM(F56,F59) -> 20119750 | G55: =SUM(G56,G59) -> 20119750 | H55: =SUM(H56,H59) -> 10194771 | I55: =H55/F55*100 -> 50.670465 | J55: =H55/G55*100 -> 50.670465
B56: 671 | D56: Prihodi iz nadležnog proračuna za financiranje redovne djelatnosti proračunskih korisnika | E56: =SUM(E57:E58) -> 0 | F56: =SUM(F57:F58) -> 0 | G56: =SUM(G57:G58) -> 0 | H56: =SUM(H57:H58) -> 0 | I56: =H56/F56*100 -> #DIV/0! | J56: =H56/G56*100 -> #DIV/0!
B57: 6711 | D57: Prihodi iz nadležnog proračuna za financiranje rashoda poslovanja | E57: 0 | F57: 0 | G57: 0 | H57: 0 | I57: =H57/F57*100 -> #DIV/0! | J57: =H57/G57*100 -> #DIV/0!
B58: 6712 | D58: Prihodi iz nadležnog proračuna za nabavu nefinancijske imovine | E58: 0 | F58: 0 | G58: 0 | H58: 0 | I58: =H58/F58*100 -> #DIV/0! | J58: =H58/G58*100 -> #DIV/0!
B59: 673 | D59: Prihodi od HZZO-a temeljem ugovora | E59: =SUM(E60) -> 0 | F59: =SUM(F60) -> 20119750 | G59: =SUM(G60) -> 20119750 | H59: =SUM(H60) -> 10194771 | I59: =H59/F59*100 -> 50.670465 | J59: =H59/G59*100 -> 50.670465
B60: 6731 | D60: Prihodi od HZZO-a temeljem ugovora | E60: =SUM(E61) -> 0 | F60: =SUM(F61) -> 20119750 | G60: =SUM(G61) -> 20119750 | H60: =SUM(H61) -> 10194771 | I60: =H60/F60*100 -> 50.670465 | J60: =H60/G60*100 -> 50.670465
B61: 67311 | D61: Prihodi od HZZO-a temeljem ugovora | E61: 0 | F61: =8100663+4599086.9+7420000 -> 20119750 | G61: 20119750 | H61: 10194771 | I61: =H61/F61*100 -> 50.670465 | J61: =H61/G61*100 -> 50.670465
B62: 68 | D62: Kazne, upravne mjere i ostali prihodi | E62: =SUM(E63) -> 0 | F62: =SUM(F63) -> 3000 | G62: =SUM(G63) -> 3000 | H62: =SUM(H63) -> 0 | I62: =H62/F62*100 -> 0 | J62: =H62/G62*100 -> 0
B63: 683 | D63: Ostali prihodi | E63: =SUM(E64) -> 0 | F63: =SUM(F64) -> 3000 | G63: =SUM(G64) -> 3000 | H63: =SUM(H64) -> 0 | I63: =H63/F63*100 -> 0 | J63: =H63/G63*100 -> 0
B64: 6831 | D64: Ostali prihodi | E64: =SUM(E65) -> 0 | F64: =SUM(F65) -> 3000 | G64: =SUM(G65) -> 3000 | H64: =SUM(H65) -> 0 | I64: =H64/F64*100 -> 0 | J64: =H64/G64*100 -> 0
B65: 68311 | D65: Ostali prihodi | E65: 0 | F65: 3000 | G65: 3000 | I65: =H65/F65*100 -> 0 | J65: =H65/G65*100 -> 0
C66: 43 | D66: Ostali prihodi za posebne namjene | E66: =SUM(E45,E49,E55,E62) -> 0 | F66: =SUM(F45,F49,F55,F62) -> 21155050 | G66: =SUM(G45,G49,G55,G62) -> 21155050 | H66: =SUM(H45,H49,H55,H62) -> 10419222 | I66: =H66/F66*100 -> 49.251704 | J66: =H66/G66*100 -> 49.251704
C67: 4 | D67: PRIHODI ZA POSEBNE NAMJENE | F67: =F66 -> 21155050 | G67: =G66 -> 21155050 | H67: =H66 -> 10419222 | I67: =H67/F67*100 -> 49.251704 | J67: =H67/G67*100 -> 49.251704
B68: 63 | D68: Pomoći iz inozemstva i od subjekata unutar općeg proračuna | E68: =SUM(E69,E73,E76,E92,E81) -> 0 | F68: =SUM(F69,F73,F76,F81) -> 582814.61 | G68: =SUM(G69,G73,G76,G81) -> 582814.61 | H68: =SUM(H69,H73,H76,H81) -> 0 | I68: =H68/F68*100 -> 0 | J68: =H68/G68*100 -> 0
B69: 633 | D69: Pomoći proračunu iz drugih proračuna | E69: =E70 -> 0 | F69: =F70 -> 500 | G69: =G70 -> 500 | H69: =H70 -> 0 | I69: =H69/F69*100 -> 0 | J69: =H69/G69*100 -> 0
B70: 6331 | D70: Tekuće pomoći proračunu iz drugih proračuna | E70: =E71 -> 0 | F70: =F71 -> 500 | G70: =G71 -> 500 | H70: =H71 -> 0 | I70: =H70/F70*100 -> 0 | J70: =H70/G70*100 -> 0
B71: 63313 | D71: Tekuće potpore iz gradskog proračuna | F71: 500 | G71: 500 | I71: =H71/F71*100 -> 0 | J71: =H71/G71*100 -> 0
B72: 6332 | D72: Kapitalne pomoći proračunu iz drugih proračuna | I72: =H72/F72*100 -> #DIV/0! | J72: =H72/G72*100 -> #DIV/0!
B73: 634 | D73: Pomoći od izvanproračunskih korisnika | E73: =SUM(E74) -> 0 | F73: =SUM(F74) -> 68314.61 | G73: =SUM(G74) -> 68314.61 | H73: =SUM(H74) -> 0 | I73: =H73/F73*100 -> 0 | J73: =H73/G73*100 -> 0
B74: 6341 | D74: Tekuće pomoći od HZZ-a, HZZO-a | E74: =SUM(E75) -> 0 | F74: =SUM(F75) -> 68314.61 | G74: =SUM(G75) -> 68314.61 | H74: =SUM(H75) -> 0 | I74: =H74/F74*100 -> 0 | J74: =H74/G74*100 -> 0
B75: 63414 | D75: Tekuće pomoći od HZZ-a, HZZO-a | E75: 0 | F75: 68314.61 | G75: 68314.61 | I75: =H75/F75*100 -> 0 | J75: =H75/G75*100 -> 0
B76: 636 | D76: Pomoći proračunskim korisnicima iz proračuna koji im nije nadležan | E76: =SUM(E77,E79) -> 0 | F76: =SUM(F77,F79) -> 14000 | G76: =SUM(G77,G79) -> 14000 | H76: =SUM(H77,H79) -> 0 | I76: =H76/F76*100 -> 0 | J76: =H76/G76*100 -> 0
B77: 6361 | D77: Tekuće pomoći iz državnog proračuna proračunskim korisnicma JLP(R)S | E77: =SUM(E78) -> 0 | F77: =SUM(F78) -> 14000 | G77: =SUM(G78) -> 14000 | H77: =SUM(H78) -> 0 | I77: =H77/F77*100 -> 0 | J77: =H77/G77*100 -> 0
B78: 63612 | D78: Tekuće pomoći iz državnog proračuna proračunskim korisnicma JLP(R)S | E78: 0 | F78: 14000 | G78: 14000 | H78: 0 | I78: =H78/F78*100 -> 0 | J78: =H78/G78*100 -> 0
B79: 6362 | D79: Kapitalne pomoći iz državnog proračuna proračunskim korisnicima JLP(R)S | E79: =E80 -> 0 | F79: =F80 -> 0 | G79: =G80 -> 0 | H79: =H80 -> 0 | I79: =H79/F79*100 -> #DIV/0! | J79: =H79/G79*100 -> #DIV/0!
B80: 63622 | D80: Kapitalne pomoći iz državnog proračuna proračunskim korisnicima JLP(R)S | E80: 0 | I80: =H80/F80*100 -> #DIV/0! | J80: =H80/G80*100 -> #DIV/0!
B81: 639 | D81: Prijenosi između proračunskih korisnika istog proračuna | E81: =E82 -> 0 | F81: =F82 -> 500000 | G81: =G82 -> 500000 | H81: =H82 -> 0 | I81: =H81/F81*100 -> 0 | J81: =H81/G81*100 -> 0
B82: 6391 | D82: Tekući prijenosi između proračunskih korisnika istog proračuna | E82: =E83 -> 0 | F82: =F83 -> 500000 | G82: =G83 -> 500000 | H82: =H83 -> 0 | I82: =H82/F82*100 -> 0 | J82: =H82/G82*100 -> 0
B83: 63911 | D83: Tekući prijenosi između proračunskih korisnika istog proračuna | F83: 500000 | G83: 500000 | I83: =H83/F83*100 -> 0 | J83: =H83/G83*100 -> 0
C84: 52 | D84: Ostale pomoći | E84: =SUM(E68) -> 0 | F84: =SUM(F68) -> 582814.61 | G84: =SUM(G68) -> 582814.61 | H84: =SUM(H68) -> 0 | I84: =H84/F84*100 -> 0 | J84: =H84/G84*100 -> 0
B85: 63 | D85: Pomoći iz inozemstva i od subjekata unutar općeg proračuna | E85: =E86 -> 0 | F85: =F86 -> 156200 | G85: =G86 -> 156200 | H85: =H86 -> 0 | I85: =H85/F85*100 -> 0 | J85: =H85/G85*100 -> 0
B86: 638 | D86: Pomoć temeljem prijenosa EU sredstava | E86: =E87 -> 0 | F86: =F87 -> 156200 | G86: =G87 -> 156200 | H86: =H87 -> 0 | I86: =H86/F86*100 -> 0 | J86: =H86/G86*100 -> 0
B87: 6382 | D87: Kapitalna pomoć temeljem prijenosa EU sredstava | E87: =E88 -> 0 | F87: =F88 -> 156200 | G87: =G88 -> 156200 | H87: =H88 -> 0 | I87: =H87/F87*100 -> 0 | J87: =H87/G87*100 -> 0
B88: 63821 | D88: Pomoći temeljem EU prijenosa | F88: 156200 | G88: 156200 | I88: =H88/F88*100 -> 0 | J88: =H88/G88*100 -> 0
C89: 563 | D89: Europski fond za regionalni razvoj | E89: =E85 -> 0 | F89: =F85 -> 156200 | G89: =G85 -> 156200 | H89: =H85 -> 0 | I89: =H89/F89*100 -> 0 | J89: =H89/G89*100 -> 0
C90: 56 | D90: Fondovi EU | E90: =E89 -> 0 | F90: =F89 -> 156200 | G90: =G89 -> 156200 | H90: =H89 -> 0 | I90: =H90/F90*100 -> 0 | J90: =H90/G90*100 -> 0
B91: 63 | D91: Pomoći iz inozemstva i od subjekata unutar općeg proračuna | E91: =E92 -> 0 | F91: =F92 -> 437409.22 | G91: =G92 -> 437409.22 | H91: =H92 -> 95063.32 | I91: =H91/F91*100 -> 21.733268 | J91: =H91/G91*100 -> 21.733268
B92: 638 | D92: Pomoć temeljem prijenosa EU sredstava | E92: =E93 -> 0 | F92: =F93 -> 437409.22 | G92: =G93 -> 437409.22 | H92: =H93 -> 95063.32 | I92: =H92/F92*100 -> 21.733268 | J92: =H92/G92*100 -> 21.733268
B93: 6381 | D93: Tekuće pomoći temeljem prijenosa EU sredstava | E93: =SUM(E94:E94) -> 0 | F93: =SUM(F94:F94) -> 437409.22 | G93: =SUM(G94:G94) -> 437409.22 | H93: =SUM(H94:H94) -> 95063.32 | I93: =H93/F93*100 -> 21.733268 | J93: =H93/G93*100 -> 21.733268
B94: 63811 | D94: Tekuće pomoći iz državnog proračuna temeljem EU prijenosa | E94: 0 | F94: =135000+148609.22+153800 -> 437409.22 | G94: 437409.22 | H94: 95063.32 | I94: =H94/F94*100 -> 21.733268 | J94: =H94/G94*100 -> 21.733268
C95: 581 | D95: Mehanizam za oporavak i otpornost | E95: =E91 -> 0 | F95: =F91 -> 437409.22 | G95: =G91 -> 437409.22 | H95: =H91 -> 95063.32 | I95: =H95/F95*100 -> 21.733268 | J95: =H95/G95*100 -> 21.733268
C96: 58 | D96: Instrumenti EU nove generacije | E96: =E95 -> 0 | F96: =F95 -> 437409.22 | G96: =G95 -> 437409.22 | H96: =H95 -> 95063.32 | I96: =H96/F96*100 -> 21.733268 | J96: =H96/G96*100 -> 21.733268
C97: 5 | D97: POMOĆI | E97: =#REF!+E84+E90+E96 -> #REF! | F97: =F84+F90+F96 -> 1176423.8 | G97: =G84+G90+G96 -> 1176423.8 | H97: =H84+H90+H96 -> 95063.32 | I97: =H97/F97*100 -> 8.0807034 | J97: =H97/G97*100 -> 8.0807034
B98: 66 | D98: Prihodi od prodaje proizvoda i robe te pruženih usluga i prihodi od donacija | E98: =E99 -> 0 | F98: =F99 -> 2000 | G98: =G99 -> 2000 | H98: =H99 -> 0 | I98: =H98/F98*100 -> 0 | J98: =H98/G98*100 -> 0
B99: 663 | D99: Donacije od pravnih i fizičkih osoba izvan općeg proračuna i povrat donacija po protestiranim jamstvima | E99: =SUM(E100,E103) -> 0 | F99: =SUM(F100,F103) -> 2000 | G99: =SUM(G100,G103) -> 2000 | H99: =SUM(H100,H103) -> 0 | I99: =H99/F99*100 -> 0 | J99: =H99/G99*100 -> 0
B100: 6631 | D100: Tekuće donacije | E100: =SUM(E101:E102) -> 0 | F100: =SUM(F101:F102) -> 1500 | G100: =SUM(G101:G102) -> 1500 | H100: =SUM(H101:H102) -> 0 | I100: =H100/F100*100 -> 0 | J100: =H100/G100*100 -> 0
B101: 66312 | D101: Tekuće donacije od neprofitnih organizacija | E101: 0 | F101: 500 | G101: 500 | I101: =H101/F101*100 -> 0 | J101: =H101/G101*100 -> 0
...

Sheet  PRIHODI I RASHODI-izvori
A1: I. OPĆI DIO
A2: A. RAČUN PRIHODA I RASHODA
A3: RASHODI PREMA EKONOMSKOJ KLASIFIKACIJI I IZVORIMA FINANCIRANJA
A5: RASHODI POSLOVANJA
A6: Razred | B6: Skupina/podskupina/odjeljak | C6: Izvor | D6: Naziv | E6: OSTVARENJE/ IZVRŠENJE 1.-3.2025. | F6: IZVORNI PLAN ZA 2026. | G6: TEKUĆI PLAN ZA 2026. | H6: OSTVARENJE/ IZVRŠENJE 1.-6.2026. | I6: Indeks | J6: Indeks
A7: 1 | E7: 2 | F7: 3 | G7: 4 | H7: 5 | I7: 6=5/3*100 | J7: 7=5/4*100
A8: 3 | D8: Rashodi poslovanja | E8: =E11+E246+E109+E463+E507+E536+E572+E603 -> 0 | F8: =F11+F246+F109+F463+F507+F536+F572+F603 -> 26300528 | G8: =G11+G246+G109+G463+G507+G536+G572+G603 -> 26423403 | H8: =H11+H246+H109+H463+H507+H536+H572+H603 -> 12760368 | I8: =H8/F8*100 -> 48.517535 | J8: =H8/G8*100 -> 48.291917
A9: 4 | D9: Rashodi za nabavu nefinancijske imovine | E9: =E73+E426+E223+#REF!+E500+E590+E615 -> #REF! | F9: =F73+F426+F223+F500+F590+F615 -> 854875.27 | G9: =G73+G426+G223+G500+G590+G615 -> 360772.28 | H9: =H73+H426+H223+H500+H590+H615 -> 45441.15 | I9: =H9/F9*100 -> 5.3155298 | J9: =H9/G9*100 -> 12.595521
D10: KORIŠTENJE DEC-a SREDSTAVA ŽUPANIJE
A11: 3 | D11: Rashodi poslovanja | E11: =E12+E22 -> 0 | F11: =F12+F22 -> 481103.03 | G11: =G12+G22 -> 603978.02 | H11: =H12+H22 -> 162217.39 | I11: =H11/F11*100 -> 33.717807 | J11: =H11/G11*100 -> 26.858161
B12: 31 | D12: Rashodi za zaposlene | E12: =E13+E16+E19 -> 0 | F12: =F13+F16+F19 -> 6978.02 | G12: =G13+G16+G19 -> 6978.02 | H12: =H13+H16+H19 -> 96593.29 | I12: =H12/F12*100 -> 1384.2507 | J12: =H12/G12*100 -> 1384.2507
B13: 311 | D13: Plaće | E13: =SUM(E14) -> 0 | F13: =SUM(F14) -> 5989.73 | G13: =SUM(G14) -> 5989.73 | H13: =SUM(H14) -> 7715.84 | I13: =H13/F13*100 -> 128.81783 | J13: =H13/G13*100 -> 128.81783
B14: 3111 | D14: Plaće za redovan rad | E14: =SUM(E15) -> 0 | F14: =SUM(F15) -> 5989.73 | G14: =SUM(G15) -> 5989.73 | H14: =SUM(H15) -> 7715.84 | I14: =H14/F14*100 -> 128.81783 | J14: =H14/G14*100 -> 128.81783
B15: 31111 | D15: Plaće za redovan rad | E15: ='Rekapitulacija Posebni dio'!C528+'Rekapitulacija Posebni dio'!C547 -> 0 | F15: ='Rekapitulacija Posebni dio'!D528+'Rekapitulacija Posebni dio'!D547 -> 5989.73 | G15: ='Rekapitulacija Posebni dio'!E528+'Rekapitulacija Posebni dio'!E547 -> 5989.73 | H15: ='Rekapitulacija Posebni dio'!F528+'Rekapitulacija Posebni dio'!F547 -> 7715.84 | I15: =H15/F15*100 -> 128.81783 | J15: =H15/G15*100 -> 128.81783
B16: 312 | D16: Ostali rashodi za zaposlene | E16: =E17 -> 0 | F16: =F17 -> 0 | G16: =G17 -> 0 | H16: =H17 -> 6396.59 | I16: =IFERROR(H16/F16*100,H16) -> 6396.59 | J16: =IFERROR(H16/G16*100,H16) -> 6396.59
B17: 3121 | D17: Ostali rashodi za zaposlene | E17: =E18 -> 0 | F17: =F18 -> 0 | G17: =G18 -> 0 | H17: =H18 -> 6396.59 | I17: =IFERROR(H17/F17*100,H17) -> 6396.59 | J17: =IFERROR(H17/G17*100,H17) -> 6396.59
B18: 31219 | D18: Ostali nenavedeni rashodi za zaposlene | E18: ='Rekapitulacija Posebni dio'!C448 -> 0 | F18: ='Rekapitulacija Posebni dio'!D448 -> 0 | G18: ='Rekapitulacija Posebni dio'!E448 -> 0 | H18: ='Rekapitulacija Posebni dio'!F448 -> 6396.59 | I18: =IFERROR(H18/F18*100,H18) -> 6396.59 | J18: =IFERROR(H18/G18*100,H18) -> 6396.59
B19: 313 | D19: Doprinosi na plaće | E19: =SUM(E20) -> 0 | F19: =SUM(F20) -> 988.29 | G19: =SUM(G20) -> 988.29 | H19: =SUM(H20) -> 82480.86 | I19: =H19/F19*100 -> 8345.8155 | J19: =H19/G19*100 -> 8345.8155
B20: 3132 | D20: Doprinosi za obvezno zdravstveno osiguranje | E20: =SUM(E21) -> 0 | F20: =SUM(F21) -> 988.29 | G20: =SUM(G21) -> 988.29 | H20: =SUM(H21) -> 82480.86 | I20: =H20/F20*100 -> 8345.8155 | J20: =H20/G20*100 -> 8345.8155
B21: 31321 | D21: Doprinosi za obvezno zdravstveno osiguranje | E21: ='Rekapitulacija Posebni dio'!C533+'Rekapitulacija Posebni dio'!C552 -> 0 | F21: ='Rekapitulacija Posebni dio'!D533+'Rekapitulacija Posebni dio'!D552 -> 988.29 | G21: ='Rekapitulacija Posebni dio'!E533+'Rekapitulacija Posebni dio'!E552 -> 988.29 | H21: ='Rekapitulacija Posebni dio'!F451+'Rekapitulacija Posebni dio'!F533+'Rekapitulacija Posebni dio'!F552 -> 82480.86 | I21: =H21/F21*100 -> 8345.8155 | J21: =H21/G21*100 -> 8345.8155
B22: 32 | D22: Materijalni rashodi | E22: =E23+E29+E44+E62+E66 -> 0 | F22: =F23+F29+F44+F62+F66 -> 474125.01 | G22: =G23+G29+G44+G62+G66 -> 597000 | H22: =H23+H29+H44+H62+H66 -> 65624.1 | I22: =H22/F22*100 -> 13.841096 | J22: =H22/G22*100 -> 10.992312
B23: 321 | D23: Naknade troškova zaposlenima | E23: =E24+E27 -> 0 | F23: =F24+F27 -> 4200 | G23: =G24+G27 -> 4200 | H23: =H24+H27 -> 0 | I23: =H23/F23*100 -> 0 | J23: =H23/G23*100 -> 0
B24: 3211 | D24: Službena putovanja | E24: =E25+E26 -> 0 | F24: =F25+F26 -> 470 | G24: =G25+G26 -> 470 | H24: =H25+H26 -> 0 | I24: =H24/F24*100 -> 0 | J24: =H24/G24*100 -> 0
B25: 32111 | D25: Dnevnice za službeni put u zemlji | E25: ='Rekapitulacija Posebni dio'!C556 -> 0 | F25: ='Rekapitulacija Posebni dio'!D556 -> 400 | G25: ='Rekapitulacija Posebni dio'!E556 -> 400 | H25: ='Rekapitulacija Posebni dio'!F556 -> 0 | I25: =H25/F25*100 -> 0 | J25: =H25/G25*100 -> 0
B26: 32119 | D26: Ostali rashodi za sl. putovanje (cestarine, trošak parkiranja) | E26: ='Rekapitulacija Posebni dio'!C557 -> 0 | F26: ='Rekapitulacija Posebni dio'!D557 -> 70 | G26: ='Rekapitulacija Posebni dio'!E557 -> 70 | H26: ='Rekapitulacija Posebni dio'!F557 -> 0 | I26: =H26/F26*100 -> 0 | J26: =H26/G26*100 -> 0
B27: 3213 | D27: Stručno usavršavanje zaposlenih | E27: =E28 -> 0 | F27: =F28 -> 3730 | G27: =G28 -> 3730 | H27: =H28 -> 0 | I27: =H27/F27*100 -> 0 | J27: =H27/G27*100 -> 0
B28: 32131 | D28: Seminari, savjetovanja i simpoziji | E28: ='Rekapitulacija Posebni dio'!C560 -> 0 | F28: ='Rekapitulacija Posebni dio'!D560 -> 3730 | G28: ='Rekapitulacija Posebni dio'!E560 -> 3730 | H28: ='Rekapitulacija Posebni dio'!F560 -> 0 | I28: =H28/F28*100 -> 0 | J28: =H28/G28*100 -> 0
B29: 322 | D29: Rashodi za materijal i energiju | E29: =E30+E33+E36+E40 -> 0 | F29: =F30+F33+F36+F40 -> 154892.1 | G29: =G30+G33+G36+G40 -> 165200 | H29: =H30+H33+H36+H40 -> 896.59 | I29: =H29/F29*100 -> 0.57884811 | J29: =H29/G29*100 -> 0.54273002
B30: 3221 | D30: Uredski materijal i ostali materijalni rashodi | E30: =E31+E32 -> 0 | F30: =F31+F32 -> 0 | G30: =G31+G32 -> 0 | H30: =H31+H32 -> 0 | I30: =H30/F30*100 -> #DIV/0! | J30: =H30/G30*100 -> #DIV/0!
B31: 32211 | D31: Uredski materijal | E31: 0 | F31: 0 | G31: 0 | H31: 0 | I31: =H31/F31*100 -> #DIV/0! | J31: =H31/G31*100 -> #DIV/0!
B32: 32214 | D32: Materijal i sredstva za čišćenje | E32: 0 | F32: 0 | G32: 0 | H32: 0 | I32: =H32/F32*100 -> #DIV/0! | J32: =H32/G32*100 -> #DIV/0!
B33: 3222 | D33: Materijal i sirovine | E33: =SUM(E34:E35) -> 0 | F33: =SUM(F34:F35) -> 150000 | G33: =SUM(G34:G35) -> 150000 | H33: =SUM(H34:H35) -> 0 | I33: =H33/F33*100 -> 0 | J33: =H33/G33*100 -> 0
B34: 32221 | D34: Potrošni medicinski materijal | E34: 0 | F34: 0 | G34: 0 | H34: 0 | I34: =H34/F34*100 -> #DIV/0! | J34: =H34/G34*100 -> #DIV/0!
B35: 32225 | D35: Roba | E35: ='Rekapitulacija Posebni dio'!C455 -> 0 | F35: ='Rekapitulacija Posebni dio'!D455 -> 150000 | G35: ='Rekapitulacija Posebni dio'!E455 -> 150000 | H35: ='Rekapitulacija Posebni dio'!F455 -> 0 | I35: =H35/F35*100 -> 0 | J35: =H35/G35*100 -> 0
B36: 3223 | D36: Energija | E36: =E37+E38+E39 -> 0 | F36: =F37+F38+F39 -> 200 | G36: =G37+G38+G39 -> 200 | H36: =H37+H38+H39 -> 0 | I36: =H36/F36*100 -> 0 | J36: =H36/G36*100 -> 0
B37: 32231 | D37: Električna energija | E37: 0 | F37: 0 | G37: 0 | H37: 0 | I37: =H37/F37*100 -> #DIV/0! | J37: =H37/G37*100 -> #DIV/0!
B38: 32233 | D38: Plin | E38: 0 | F38: 0 | G38: 0 | H38: 0 | I38: =H38/F38*100 -> #DIV/0! | J38: =H38/G38*100 -> #DIV/0!
B39: 32234 | D39: Motorni benzin i dizel gorivo | E39: ='Rekapitulacija Posebni dio'!C563 -> 0 | F39: ='Rekapitulacija Posebni dio'!D563 -> 200 | G39: ='Rekapitulacija Posebni dio'!E563 -> 200 | H39: ='Rekapitulacija Posebni dio'!F563 -> 0 | I39: =H39/F39*100 -> 0 | J39: =H39/G39*100 -> 0
B40: 3224 | D40: Materijal i dijelovi za tekuće i investicijsko održavanje | E40: =SUM(E41:E43) -> 0 | F40: =SUM(F41:F43) -> 4692.1 | G40: =SUM(G41:G43) -> 15000 | H40: =SUM(H41:H43) -> 896.59 | I40: =H40/F40*100 -> 19.108502 | J40: =H40/G40*100 -> 5.9772667
B41: 32241 | D41: Materijal i dijelovi za tekuće i invest. održavanje građevinskih objekata | E41: ='Rekapitulacija Posebni dio'!C476 -> 0 | F41: ='Rekapitulacija Posebni dio'!D476 -> 4692.1 | G41: ='Rekapitulacija Posebni dio'!E476 -> 15000 | H41: ='Rekapitulacija Posebni dio'!F476 -> 896.59 | I41: =H41/F41*100 -> 19.108502 | J41: =H41/G41*100 -> 5.9772667
B42: 32242 | D42: Materijal i dijelovi za tekuće i invest. održavanje postrojenja i opreme | I42: =H42/F42*100 -> #DIV/0! | J42: =H42/G42*100 -> #DIV/0!
B43: 32244 | D43: Ostali materijal i dijelovi za tekuće i invest. održavanje | I43: =H43/F43*100 -> #DIV/0! | J43: =H43/G43*100 -> #DIV/0!
B44: 323 | D44: Rashodi za usluge | E44: =E45+E47+E52+E54+E56+E59 -> 0 | F44: =F45+F47+F52+F54+F56+F59 -> 297032.91 | G44: =G45+G47+G52+G54+G56+G59 -> 409600 | H44: =H45+H47+H52+H54+H56+H59 -> 64727.51 | I44: =H44/F44*100 -> 21.79136 | J44: =H44/G44*100 -> 15.802615
B45: 3231 | D45: Usluge telefona i pošte | E45: =E46 -> 0 | F45: =F46 -> 0 | G45: =G46 -> 0 | H45: =H46 -> 0 | I45: =H45/F45*100 -> #DIV/0! | J45: =H45/G45*100 -> #DIV/0!
B46: 32311 | D46: Usluge telefona, telefaksa | E46: 0 | F46: 0 | G46: 0 | H46: 0 | I46: =H46/F46*100 -> #DIV/0! | J46: =H46/G46*100 -> #DIV/0!
B47: 3232 | D47: Usluge tekućeg i investicijskog održavanja | E47: =SUM(E48:E51) -> 0 | F47: =SUM(F48:F51) -> 224043.74 | G47: =SUM(G48:G51) -> 315175 | H47: =SUM(H48:H51) -> 43325.33 | I47: =H47/F47*100 -> 19.337889 | J47: =H47/G47*100 -> 13.746436
B48: 32321 | D48: Usluge tekućeg i investicijskog održavanja građevinskih objekata | E48: ='Rekapitulacija Posebni dio'!C479 -> 0 | F48: ='Rekapitulacija Posebni dio'!D479 -> 224043.74 | G48: ='Rekapitulacija Posebni dio'!E479 -> 87500 | H48: ='Rekapitulacija Posebni dio'!F479 -> 1100 | I48: =H48/F48*100 -> 0.49097556 | J48: =H48/G48*100 -> 1.2571429
B49: 32322 | D49: Usluge tekućeg i investicijskog održavanja postrojenja i opreme | E49: ='Rekapitulacija Posebni dio'!C480 -> 0 | F49: ='Rekapitulacija Posebni dio'!D480 -> 0 | G49: ='Rekapitulacija Posebni dio'!E480 -> 177675 | H49: ='Rekapitulacija Posebni dio'!F480 -> 33942.59 | I49: =IFERROR(H49/F49*100,H49) -> 33942.59 | J49: =H49/G49*100 -> 19.103751
B50: 32323 | D50: Usluge tekućeg i investicijskog održavanja prijevoznih sredstava | E50: ='Rekapitulacija Posebni dio'!C481 -> 0 | F50: ='Rekapitulacija Posebni dio'!D481 -> 0 | G50: ='Rekapitulacija Posebni dio'!E481 -> 30000 | H50: ='Rekapitulacija Posebni dio'!F481 -> 6787.38 | I50: =IFERROR(H50/F50*100,H50) -> 6787.38 | J50: =H50/G50*100 -> 22.6246
B51: 32329 | D51: Ostale usluge tekućeg i investicijskog održavanja | E51: 0 | F51: ='Rekapitulacija Posebni dio'!D482 -> 0 | G51: ='Rekapitulacija Posebni dio'!E482 -> 20000 | H51: ='Rekapitulacija Posebni dio'!F482 -> 1495.36 | I51: =IFERROR(H51/F51*100,H51) -> 1495.36 | J51: =H51/G51*100 -> 7.4768
B52: 3236 | D52: Zdravstvene i veterinarske usluge | E52: =E53 -> 0 | F52: =F53 -> 0 | G52: =G53 -> 0 | H52: =H53 -> 0 | I52: =IFERROR(H52/F52*100,H52) -> 0 | J52: =IFERROR(I52/G52*100,I52) -> 0
B53: 32369 | D53: Zdravstvene i veterinarske usluge | E53: 0 | F53: 0 | G53: 0 | H53: 0 | I53: =IFERROR(H53/F53*100,H53) -> 0 | J53: =IFERROR(I53/G53*100,I53) -> 0
B54: 3237 | D54: Intelektualne usluge | E54: =E55 -> 0 | F54: =F55 -> 0 | G54: =G55 -> 0 | H54: =H55 -> 0 | I54: =IFERROR(H54/F54*100,H54) -> 0 | J54: =IFERROR(I54/G54*100,I54) -> 0
B55: 32379 | D55: Ostale intelektualne usluge | E55: 0 | F55: 0 | G55: 0 | H55: 0 | I55: =IFERROR(H55/F55*100,H55) -> 0 | J55: =IFERROR(I55/G55*100,I55) -> 0
B56: 3238 | D56: Računalne usluge | E56: =SUM(E57) -> 0 | F56: =SUM(F57:F58) -> 72989.17 | G56: =SUM(G57:G58) -> 94425 | H56: =SUM(H57:H58) -> 21402.18 | I56: =H56/F56*100 -> 29.322405 | J56: =IFERROR(I56/G56*100,I56) -> 0.031053646
B57: 32381 | D57: Usluge ažuriranja računalnih baza | E57: ='Rekapitulacija Posebni dio'!C486 -> 0 | F57: ='Rekapitulacija Posebni dio'!D486 -> 72989.17 | G57: ='Rekapitulacija Posebni dio'!E486 -> 0 | H57: ='Rekapitulacija Posebni dio'!F486 -> 0 | I57: =H57/F57*100 -> 0 | J57: =IFERROR(I57/G57*100,I57) -> 0
B58: 32389 | D58: Ostale računalne usluge | F58: ='Rekapitulacija Posebni dio'!D487 -> 0 | G58: ='Rekapitulacija Posebni dio'!E487 -> 94425 | H58: ='Rekapitulacija Posebni dio'!F487 -> 21402.18
B59: 3239 | D59: Ostale usluge | E59: =E60+E61 -> 0 | F59: =F60+F61 -> 0 | G59: =G60+G61 -> 0 | H59: =H60+H61 -> 0 | I59: =H59/F59*100 -> #DIV/0! | J59: =H59/G59*100 -> #DIV/0!
B60: 32394 | D60: Usluge pri registraciji prijevoznih sredstava | G60: 0 | H60: 0 | I60: =H60/F60*100 -> #DIV/0! | J60: =H60/G60*100 -> #DIV/0!
B61: 32399 | D61: Ostale nespomenute usluge | E61: 0 | F61: 0 | G61: 0 | H61: 0 | I61: =H61/F61*100 -> #DIV/0! | J61: =H61/G61*100 -> #DIV/0!
B62: 325 | D62: Rashodi lijekova i potrošnog materijala | E62: =E63 -> 0 | F62: =F63 -> 0 | G62: =G63 -> 0 | H62: =H63 -> 0 | I62: =H62/F62*100 -> #DIV/0! | J62: =H62/G62*100 -> #DIV/0!
B63: 3251 | D63: Rashodi lijekova i potrošnog materijala | E63: =E64+E65 -> 0 | F63: =F64+F65 -> 0 | G63: =G64+G65 -> 0 | H63: =H64+H65 -> 0 | I63: =H63/F63*100 -> #DIV/0! | J63: =H63/G63*100 -> #DIV/0!
B64: 32511 | D64: Rashodi po osnovi utroška lijekova | E64: 0 | F64: 0 | G64: 0 | H64: 0 | I64: =H64/F64*100 -> #DIV/0! | J64: =H64/G64*100 -> #DIV/0!
B65: 32513 | D65: Rashodi po osnovi utroška potrošnog medicinskog materijala | E65: 0 | F65: 0 | G65: 0 | H65: 0 | I65: =H65/F65*100 -> #DIV/0! | J65: =H65/G65*100 -> #DIV/0!
B66: 329 | D66: Ostali nespomenuti rashodi poslovanja | E66: =E67+E69+E71 -> 0 | F66: =F67+F69+F71 -> 18000 | G66: =G67+G69+G71 -> 18000 | H66: =H67+H69+H71 -> 0 | I66: =H66/F66*100 -> 0 | J66: =H66/G66*100 -> 0
B67: 3292 | D67: Premija osiguranja | E67: =E68 -> 0 | F67: =F68 -> 0 | G67: =G68 -> 0 | H67: =H68 -> 0 | I67: =H67/F67*100 -> #DIV/0! | J67: =H67/G67*100 -> #DIV/0!
B68: 32923 | D68: Premije osiguranja zaposlenih | E68: 0 | F68: 0 | G68: 0 | H68: 0 | I68: =H68/F68*100 -> #DIV/0! | J68: =H68/G68*100 -> #DIV/0!
B69: 3293 | D69: Reprezentacija | E69: =E70 -> 0 | F69: =F70 -> 0 | G69: =G70 -> 0 | H69: =H70 -> 0 | I69: =H69/F69*100 -> #DIV/0! | J69: =H69/G69*100 -> #DIV/0!
B70: 32931 | D70: Reprezentacija | E70: 0 | F70: 0 | G70: 0 | H70: 0 | I70: =H70/F70*100 -> #DIV/0! | J70: =H70/G70*100 -> #DIV/0!
B71: 3299 | D71: Ostali nespomenuti rashodi poslovanja | E71: =E72 -> 0 | F71: =F72 -> 18000 | G71: =G72 -> 18000 | H71: =H72 -> 0 | I71: =H71/F71*100 -> 0 | J71: =H71/G71*100 -> 0
B72: 32999 | D72: Ostali nespomenuti rashodi poslovanja | E72: ='Rekapitulacija Posebni dio'!C577 -> 0 | F72: ='Rekapitulacija Posebni dio'!D577 -> 18000 | G72: ='Rekapitulacija Posebni dio'!E577 -> 18000 | H72: ='Rekapitulacija Posebni dio'!F577 -> 0 | I72: =H72/F72*100 -> 0 | J72: =H72/G72*100 -> 0
A73: 4 | D73: Rashodi za nabavu nefinancijske imovine | E73: =E74+E78+E103 -> 0 | F73: =F74+F78+F103 -> 769502.99 | G73: =G74+G78+G103 -> 275400 | H73: =H74+H78+H103 -> 6370.69 | I73: =H73/F73*100 -> 0.82789672 | J73: =H73/G73*100 -> 2.3132498
B74: 41 | D74: Rashodi za nabavu neproizvedene dugotrajne imovine | E74: =E75 -> 0 | F74: =F75 -> 1300 | G74: =G75 -> 3000 | H74: =H75 -> 2586.04 | I74: =H74/F74*100 -> 198.92615 | J74: =H74/G74*100 -> 86.201333
B75: 412 | D75: Nematerijalna imovina - licence | E75: =E76 -> 0 | F75: =F76 -> 1300 | G75: =G76 -> 3000 | H75: =H76 -> 2586.04 | I75: =H75/F75*100 -> 198.92615 | J75: =H75/G75*100 -> 86.201333
B76: 4123 | D76: Nematerijalna imovina - licence | E76: =E77 -> 0 | F76: =F77 -> 1300 | G76: =G77 -> 3000 | H76: =H77 -> 2586.04 | I76: =H76/F76*100 -> 198.92615 | J76: =H76/G76*100 -> 86.201333
B77: 41231 | D77: Licence | E77: 0 | F77: ='Rekapitulacija Posebni dio'!D492 -> 1300 | G77: ='Rekapitulacija Posebni dio'!E492 -> 3000 | H77: ='Rekapitulacija Posebni dio'!F492 -> 2586.04 | I77: =H77/F77*100 -> 198.92615 | J77: =H77/G77*100 -> 86.201333
B78: 42 | D78: Rashodi za nabavu proizvedene dug. imovine | E78: =SUM(E79,E82,E97,E100) -> 0 | F78: =SUM(F79,F82,F97,F100) -> 592202.99 | G78: =SUM(G79,G82,G97,G100) -> 193400 | H78: =SUM(H79,H82,H97,H100) -> 3784.65 | I78: =H78/F78*100 -> 0.63907985 | J78: =H78/G78*100 -> 1.9569028
B79: 421 | D79: Građevinski objekti | E79: =E80 -> 0 | F79: =F80 -> 3062.5 | G79: =G80 -> 0 | H79: =H80 -> 0 | I79: =H79/F79*100 -> 0 | J79: =IFERROR(H79/G79*100,H79) -> 0
B80: 4212 | D80: Poslovni objekti | E80: =E81 -> 0 | F80: =F81 -> 3062.5 | G80: =G81 -> 0 | H80: =H81 -> 0 | I80: =H80/F80*100 -> 0 | J80: =IFERROR(H80/G80*100,H80) -> 0
B81: 42122 | D81: Bolnice, ostali zdravstveni objekti, laboratoriji, umirovljenički domovi i centri za socijalnu skrb | E81: 0 | F81: ='Rekapitulacija Posebni dio'!D496 -> 3062.5 | G81: ='Rekapitulacija Posebni dio'!E496 -> 0 | H81: ='Rekapitulacija Posebni dio'!F496 -> 0 | I81: =H81/F81*100 -> 0 | J81: =IFERROR(H81/G81*100,H81) -> 0
B82: 422 | D82: Postrojenja i oprema | E82: =E83+E86+E88+E91+E93+E95 -> 0 | F82: =F83+F86+F88+F91+F93+F95 -> 479140.49 | G82: =G83+G86+G88+G91+G93+G95 -> 173400 | H82: =H83+H86+H88+H91+H93+H95 -> 3784.65 | I82: =H82/F82*100 -> 0.78988315 | J82: =IFERROR(H82/G82*100,H82) -> 2.1826125
B83: 4221 | D83: Uredska oprema i namještaj | E83: =SUM(E84:E85) -> 0 | F83: =SUM(F84:F85) -> 74651.66 | G83: =SUM(G84:G85) -> 29600 | H83: =SUM(H84:H85) -> 2609.65 | I83: =H83/F83*100 -> 3.4957696 | J83: =IFERROR(H83/G83*100,H83) -> 8.8163851
B84: 42211 | D84: Računala i računalna oprema | F84: ='Rekapitulacija Posebni dio'!D499 -> 43776.66 | G84: ='Rekapitulacija Posebni dio'!E499 -> 19000 | H84: ='Rekapitulacija Posebni dio'!F499 -> 2609.65 | I84: =H84/F84*100 -> 5.9612817 | J84: =IFERROR(H84/G84*100,H84) -> 13.735
B85: 42212 | D85: Uredski namještaj | F85: ='Rekapitulacija Posebni dio'!D500 -> 30875 | G85: ='Rekapitulacija Posebni dio'!E500 -> 10600 | H85: ='Rekapitulacija Posebni dio'!F500 -> 0 | I85: =H85/F85*100 -> 0 | J85: =IFERROR(H85/G85*100,H85) -> 0
B86: 4222 | D86: Komunikacijska oprema | E86: =E87 -> 0 | F86: =F87 -> 61.19 | G86: =G87 -> 0 | H86: =H87 -> 0 | I86: =H86/F86*100 -> 0 | J86: =IFERROR(H86/G86*100,H86) -> 0
B87: 42222 | D87: Telefoni i ostali komunikacijski uređaji | F87: ='Rekapitulacija Posebni dio'!D502 -> 61.19 | G87: ='Rekapitulacija Posebni dio'!E502 -> 0 | H87: ='Rekapitulacija Posebni dio'!F502 -> 0 | I87: =H87/F87*100 -> 0 | J87: =IFERROR(H87/G87*100,H87) -> 0
B88: 4223 | D88: Oprema za održavanje i zaštitu | E88: =E90 -> 0 | F88: =SUM(F89:F90) -> 9191.75 | G88: =SUM(G89:G90) -> 8000 | H88: =SUM(H89:H90) -> 0 | I88: =H88/F88*100 -> 0 | J88: =H88/G88*100 -> 0
B89: 42231 | D89: Oprema za grijanje, ventilaciju i hlađenje | F89: ='Rekapitulacija Posebni dio'!D504 -> 0 | G89: ='Rekapitulacija Posebni dio'!E504 -> 8000 | H89: ='Rekapitulacija Posebni dio'!F504 -> 0 | I89: =IFERROR(H89/F89*100,H89) -> 0 | J89: =H89/G89*100 -> 0
B90: 42232 | D90: Oprema za održavanje prostorija | F90: ='Rekapitulacija Posebni dio'!D505 -> 9191.75 | G90: ='Rekapitulacija Posebni dio'!E505 -> 0 | H90: ='Rekapitulacija Posebni dio'!F505 -> 0 | I90: =H90/F90*100 -> 0 | J90: =IFERROR(H90/G90*100,H90) -> 0
B91: 4224 | D91: Medicinska i laboratorijska oprema | E91: =SUM(E92) -> 0 | F91: =SUM(F92) -> 376267.39 | G91: =SUM(G92) -> 120800 | H91: =SUM(H92) -> 1175 | I91: =H91/F91*100 -> 0.31227793 | J91: =H91/G91*100 -> 0.97268212
B92: 42241 | D92: Medicinska oprema | F92: ='Rekapitulacija Posebni dio'!D507 -> 376267.39 | G92: ='Rekapitulacija Posebni dio'!E507 -> 120800 | H92: ='Rekapitulacija Posebni dio'!F507 -> 1175 | I92: =H92/F92*100 -> 0.31227793 | J92: =H92/G92*100 -> 0.97268212
B93: 4225 | D93: Instrumenti, uređaji i strojevi | E93: =SUM(E94) -> 0 | F93: =SUM(F94) -> 15000 | G93: =SUM(G94) -> 15000 | H93: =SUM(H94) -> 0 | I93: =H93/F93*100 -> 0 | J93: =H93/G93*100 -> 0
B94: 42251 | D94: Precizni i optički instrumenti | F94: ='Rekapitulacija Posebni dio'!D509 -> 15000 | G94: ='Rekapitulacija Posebni dio'!E509 -> 15000 | H94: ='Rekapitulacija Posebni dio'!F509 -> 0 | I94: =H94/F94*100 -> 0 | J94: =H94/G94*100 -> 0
B95: 4227 | D95: Uređaji, strojevi i oprema za ostale namjene | E95: =E96 -> 0 | F95: =F96 -> 3968.5 | G95: =G96 -> 0 | H95: =H96 -> 0 | I95: =H95/F95*100 -> 0 | J95: =IFERROR(H95/G95*100,H95) -> 0
B96: 42271 | D96: Uređaji | F96: ='Rekapitulacija Posebni dio'!D511 -> 3968.5 | G96: ='Rekapitulacija Posebni dio'!E511 -> 0 | H96: ='Rekapitulacija Posebni dio'!F511 -> 0 | I96: =H96/F96*100 -> 0 | J96: =IFERROR(H96/G96*100,H96) -> 0
B97: 423 | D97: Prijevozna sredstva | E97: =E98 -> 0 | F97: =F98 -> 108000 | G97: =G98 -> 18000 | H97: =H98 -> 0 | I97: =H97/F97*100 -> 0 | J97: =H97/G97*100 -> 0
B98: 4231 | D98: Prijevozna sredstva u cestovnom prometu | E98: =E99 -> 0 | F98: =F99 -> 108000 | G98: =G99 -> 18000 | H98: =H99 -> 0 | I98: =H98/F98*100 -> 0 | J98: =H98/G98*100 -> 0
B99: 42311 | D99: Osobni automobili | F99: ='Rekapitulacija Posebni dio'!D514 -> 108000 | G99: ='Rekapitulacija Posebni dio'!E514 -> 18000 | H99: ='Rekapitulacija Posebni dio'!F514 -> 0 | I99: =H99/F99*100 -> 0 | J99: =H99/G99*100 -> 0
B100: 426 | D100: Nematerijalna proizvedena imovina | E100: =E101 -> 0 | F100: =F101 -> 2000 | G100: =G101 -> 2000 | H100: =H101 -> 0 | I100: =H100/F100*100 -> 0 | J100: =H100/G100*100 -> 0
B101: 4262 | D101: Ulaganja u računalne programe | E101: =E102 -> 0 | F101: =F102 -> 2000 | G101: =G102 -> 2000 | H101: =H102 -> 0 | I101: =H101/F101*100 -> 0 | J101: =H101/G101*100 -> 0
...

Sheet Prih.i rash.
B2: PRIHODI I RASHODI PREMA IZVORIMA FINANCIRANJA
B4: BROJČANA OZNAKA I NAZIV | C4: OSTVARENJE/ IZVRŠENJE 1.-3.2025. | D4: IZVORNI PLAN ZA 2026. | E4: TEKUĆI PLAN ZA 2026. | F4: OSTVARENJE/ IZVRŠENJE 1.-6.2026.
B5: UKUPNO PRIHODI | C5: =C6+C8+C10+C15+C21+C23 -> #REF! | D5: =D6+D8+D10+D15+D21+D23 -> 27400996 | E5: =E6+E8+E10+E15+E21+E23 -> 27029768 | F5: =F6+F8+F10+F15+F21+F23 -> 12342056
B6: 1 Opći prihodi i primici | C6: =C7 -> 0 | D6: =D7 -> 1250606 | E6: =E7 -> 879378.02 | F6: =F7 -> 274213.08
B7: 11 Opći prihodi i primici | C7: ='Prihodi po ek klas i izvorima'!E15 -> 0 | D7: ='Prihodi po ek klas i izvorima'!F15 -> 1250606 | E7: ='Prihodi po ek klas i izvorima'!G15 -> 879378.02 | F7: ='Prihodi po ek klas i izvorima'!H15 -> 274213.08
B8: 3 Vlastiti prihodi | C8: =C9 -> 0 | D8: =D9 -> 3805116.3 | E8: =E9 -> 3805116.3 | F8: =F9 -> 1551329.2
B9: 31 Vlastiti prihodi | C9: ='Prihodi po ek klas i izvorima'!E43 -> 0 | D9: ='Prihodi po ek klas i izvorima'!F43 -> 3805116.3 | E9: ='Prihodi po ek klas i izvorima'!G43 -> 3805116.3 | F9: ='Prihodi po ek klas i izvorima'!H43 -> 1551329.2
B10: 4 Prihodi za posebne namjene | C10: =SUM(C11:C14) -> 0 | D10: =SUM(D11:D14) -> 21155050 | E10: =SUM(E11:E14) -> 21155050 | F10: =SUM(F11:F14) -> 10419222
B11: 43 Prihodi od financijske imovine | C11: ='Prihodi po ek klas i izvorima'!E45 -> 0 | D11: ='Prihodi po ek klas i izvorima'!F45 -> 100000 | E11: ='Prihodi po ek klas i izvorima'!G45 -> 100000 | F11: ='Prihodi po ek klas i izvorima'!H45 -> 0
B12: 43 Prihodi za posebne namjene (HZZO) | C12: ='Prihodi po ek klas i izvorima'!E61 -> 0 | D12: ='Prihodi po ek klas i izvorima'!F61 -> 20119750 | E12: ='Prihodi po ek klas i izvorima'!G61 -> 20119750 | F12: ='Prihodi po ek klas i izvorima'!H61 -> 10194771
B13: 43 Prihodi za posebne namjene (dopunsko osiguranje, participacija,…) | C13: ='Prihodi po ek klas i izvorima'!E49 -> 0 | D13: ='Prihodi po ek klas i izvorima'!F49 -> 932300 | E13: ='Prihodi po ek klas i izvorima'!G49 -> 932300 | F13: ='Prihodi po ek klas i izvorima'!H49 -> 224451.64
B14: 43 Ostali prihodi | C14: ='Prihodi po ek klas i izvorima'!E65 -> 0 | D14: ='Prihodi po ek klas i izvorima'!F65 -> 3000 | E14: ='Prihodi po ek klas i izvorima'!G65 -> 3000 | F14: ='Prihodi po ek klas i izvorima'!H65 -> 0
B15: 5 Pomoći | C15: =#REF!+C16+C17+C19 -> #REF! | D15: =D16+D17+D19 -> 1176423.8 | E15: =E16+E17+E19 -> 1176423.8 | F15: =F16+F17+F19 -> 95063.32
B16: 52 Ostale pomoći | C16: ='Prihodi po ek klas i izvorima'!E69+'Prihodi po ek klas i izvorima'!E73+'Prihodi po ek klas i izvorima'!E76+'Prihodi po ek klas i izvorima'!E81 -> 0 | D16: ='Prihodi po ek klas i izvorima'!F69+'Prihodi po ek klas i izvorima'!F73+'Prihodi po ek klas i izvorima'!F76+'Prihodi po ek klas i izvorima'!F81 -> 582814.61 | E16: ='Prihodi po ek klas i izvorima'!G69+'Prihodi po ek klas i izvorima'!G73+'Prihodi po ek klas i izvorima'!G76+'Prihodi po ek klas i izvorima'!G81 -> 582814.61 | F16: ='Prihodi po ek klas i izvorima'!H69+'Prihodi po ek klas i izvorima'!H73+'Prihodi po ek klas i izvorima'!H76+'Prihodi po ek klas i izvorima'!H81 -> 0
B17: 56 Fondovi EU | C17: =C18 -> 0 | D17: =D18 -> 156200 | E17: =E18 -> 156200 | F17: =F18 -> 0
B18: 563 Europski fond za regionalni razvoj | C18: ='Prihodi po ek klas i izvorima'!E89 -> 0 | D18: ='Prihodi po ek klas i izvorima'!F89 -> 156200 | E18: ='Prihodi po ek klas i izvorima'!G89 -> 156200 | F18: ='Prihodi po ek klas i izvorima'!H89 -> 0
B19: 58 Instrumenti EU nove generacije | C19: =C20 -> 0 | D19: =D20 -> 437409.22 | E19: =E20 -> 437409.22 | F19: =F20 -> 95063.32
B20: 581 Mehanizam za oporavak i otpornost - bespovratna sredstva | C20: ='Prihodi po ek klas i izvorima'!E95 -> 0 | D20: ='Prihodi po ek klas i izvorima'!F95 -> 437409.22 | E20: ='Prihodi po ek klas i izvorima'!G95 -> 437409.22 | F20: ='Prihodi po ek klas i izvorima'!H95 -> 95063.32
B21: 6 Donacije | C21: =C22 -> 0 | D21: =D22 -> 2000 | E21: =E22 -> 2000 | F21: =F22 -> 0
B22: 61 Donacije | C22: ='Prihodi po ek klas i izvorima'!E105 -> 0 | D22: ='Prihodi po ek klas i izvorima'!F105 -> 2000 | E22: ='Prihodi po ek klas i izvorima'!G105 -> 2000 | F22: ='Prihodi po ek klas i izvorima'!H105 -> 0
B23: 7 Prihodi od nefinancijske imovine i naknade štete s naslova osiguranja | C23: =C24 -> 0 | D23: =D24 -> 11800 | E23: =E24 -> 11800 | F23: =F24 -> 2227.7
B24: 71 Prihodi od nefinancijske imovine i naknade štete s naslova osiguranja | C24: ='Prihodi po ek klas i izvorima'!E111+'Prihodi po ek klas i izvorima'!E120 -> 0 | D24: ='Prihodi po ek klas i izvorima'!F111+'Prihodi po ek klas i izvorima'!F120 -> 11800 | E24: ='Prihodi po ek klas i izvorima'!G111+'Prihodi po ek klas i izvorima'!G120 -> 11800 | F24: ='Prihodi po ek klas i izvorima'!H111+'Prihodi po ek klas i izvorima'!H120 -> 2227.7
B27: UKUPNO RASHODI | C27: =C28+C30+C32+C34+C40+C42 -> #REF! | D27: =D28+D30+D32+D34+D40+D42 -> 27155403 | E27: =E28+E30+E32+E34+E40+E42 -> 26784175 | F27: =F28+F30+F32+F34+F40+F42 -> 12805809
B28: 1 Opći prihodi i primici | C28: =C29 -> 0 | D28: =D29 -> 1250606 | E28: =E29 -> 879378.02 | F28: =F29 -> 168588.08
B29: 11 Opći prihodi i primici | C29: =' PRIHODI I RASHODI-izvori'!E107 -> 0 | D29: =' PRIHODI I RASHODI-izvori'!F107 -> 1250606 | E29: =' PRIHODI I RASHODI-izvori'!G107 -> 879378.02 | F29: =' PRIHODI I RASHODI-izvori'!H107 -> 168588.08
B30: 3 Vlastiti prihodi | C30: =C31 -> 0 | D30: =D31 -> 3804916.3 | E30: =E31 -> 3804916.3 | F30: =F31 -> 1551329.2
B31: 31 Vlastiti prihodi | C31: =' PRIHODI I RASHODI-izvori'!E244 -> 0 | D31: =' PRIHODI I RASHODI-izvori'!F244 -> 3804916.3 | E31: =' PRIHODI I RASHODI-izvori'!G244 -> 3804916.3 | F31: =' PRIHODI I RASHODI-izvori'!H244 -> 1551329.2
B32: 4 Prihodi za posebne namjene | C32: =C33 -> 0 | D32: =D33 -> 21410157 | E32: =E33 -> 21410157 | F32: =F33 -> 10932150
B33: 43 Prihodi za posebne namjene | C33: =' PRIHODI I RASHODI-izvori'!E461 -> 0 | D33: =' PRIHODI I RASHODI-izvori'!F461 -> 21410157 | E33: =' PRIHODI I RASHODI-izvori'!G461 -> 21410157 | F33: =' PRIHODI I RASHODI-izvori'!H461 -> 10932150
B34: 5 Pomoći | C34: =#REF!+C35+C36+C38 -> #REF! | D34: =D35+D36+D38 -> 675923.83 | E34: =E35+E36+E38 -> 675923.83 | F34: =F35+F36+F38 -> 151514.42
B35: 52 Ostale pomoći | C35: =' PRIHODI I RASHODI-izvori'!E506 -> 0 | D35: =' PRIHODI I RASHODI-izvori'!F506 -> 82314.61 | E35: =' PRIHODI I RASHODI-izvori'!G506 -> 82314.61 | F35: =' PRIHODI I RASHODI-izvori'!H506 -> 4661.04
B36: 56 Fondovi EU | C36: =C37 -> 0 | D36: =D37 -> 156200 | E36: =E37 -> 156200 | F36: =F37 -> 30798.89
B37: 563 Europski fond za regionalni razvoj | C37: =' PRIHODI I RASHODI-izvori'!E534 -> 0 | D37: =' PRIHODI I RASHODI-izvori'!F534 -> 156200 | E37: =' PRIHODI I RASHODI-izvori'!G534 -> 156200 | F37: =' PRIHODI I RASHODI-izvori'!H534 -> 30798.89
B38: 58 Instrumenti EU nove generacije | C38: =C39 -> 0 | D38: =D39 -> 437409.22 | E38: =E39 -> 437409.22 | F38: =F39 -> 116054.49
B39: 581 Mehanizam za oporavak i otpornost - bespovratna sredstva | C39: =' PRIHODI I RASHODI-izvori'!E569 -> 0 | D39: =' PRIHODI I RASHODI-izvori'!F569 -> 437409.22 | E39: =' PRIHODI I RASHODI-izvori'!G569 -> 437409.22 | F39: =' PRIHODI I RASHODI-izvori'!H569 -> 116054.49
B40: 6 Donacije | C40: =C41 -> 0 | D40: =D41 -> 2000 | E40: =E41 -> 2000 | F40: =F41 -> 0
B41: 61 Donacije | C41: =' PRIHODI I RASHODI-izvori'!E601 -> 0 | D41: =' PRIHODI I RASHODI-izvori'!F601 -> 2000 | E41: =' PRIHODI I RASHODI-izvori'!G601 -> 2000 | F41: =' PRIHODI I RASHODI-izvori'!H601 -> 0
B42: 7 Prihodi od nefinancijske imovine i naknade štete s naslova osiguranja | C42: =C43 -> 0 | D42: =D43 -> 11800 | E42: =E43 -> 11800 | F42: =F43 -> 2227.7
B43: 71 Prihodi od nefinancijske imovine i naknade štete s naslova osiguranja | C43: =' PRIHODI I RASHODI-izvori'!E624 -> 0 | D43: =' PRIHODI I RASHODI-izvori'!F624 -> 11800 | E43: =' PRIHODI I RASHODI-izvori'!G624 -> 11800 | F43: =' PRIHODI I RASHODI-izvori'!H624 -> 2227.7

Sheet RASHODI-funkcijska
A2: I. OPĆI DIO
A4: A. RAČUN PRIHODA I RASHODA
A6: IZVJEŠTAJ O RASHODIMA PREMA FUNKCIJSKOJ KLASIFIKACIJI
A8: BROJČANA OZNAKA I NAZIV | B8: OSTVARENJE/ IZVRŠENJE 1.-3.2025. | C8: IZVORNI PLAN ZA 2026. | D8: TEKUĆI PLAN ZA 2026. | E8: OSTVARENJE/ IZVRŠENJE 1.-6.2026. | F8: Indeks | G8: Indeks
A9: 1 | B9: 2 | C9: 3 | D9: 4 | E9: 5 | F9: 6=5/3*100 | G9: 7=5/4*100
A10: UKUPNO RASHODI | B10: ='RASHODI-ek.kl.'!D279 -> #REF! | C10: ='RASHODI-ek.kl.'!E279 -> 27155403 | D10: ='RASHODI-ek.kl.'!F279 -> 26784175 | E10: ='RASHODI-ek.kl.'!G279 -> 12805809 | F10: =E10/C10*100 -> 47.157499 | G10: =E10/D10*100 -> 47.811101
A11: 07 Zdravstvo | B11: =B12 -> #REF! | C11: =C12 -> 27155403 | D11: =D12 -> 26784175 | E11: =E12 -> 12805809 | F11: =E11/C11*100 -> 47.157499 | G11: =E11/D11*100 -> 47.811101
A12: 072 Služba za vanjske pacijente | B12: =B13+B14+B15 -> #REF! | C12: =C13+C14+C15 -> 27155403 | D12: =D13+D14+D15 -> 26784175 | E12: =E13+E14+E15 -> 12805809 | F12: =E12/C12*100 -> 47.157499 | G12: =E12/D12*100 -> 47.811101
A13: 0721 Opće medicinske usluge | B13: =ROUND(B10*0.6,2) -> #REF! | C13: =ROUND(C10*0.6,2) -> 16293242 | D13: =ROUND(D10*0.6,2) -> 16070505 | E13: =ROUND(E10*0.6,2) -> 7683485.4 | F13: =E13/C13*100 -> 47.157499 | G13: =E13/D13*100 -> 47.811101
A14: 0722 Specijalističke med. usluge | B14: =ROUND(B10*0.15,2) -> #REF! | C14: =ROUND(C10*0.15,2) -> 4073310.5 | D14: =ROUND(D10*0.15,2) -> 4017626.3 | E14: =ROUND(E10*0.15,2) -> 1920871.4 | F14: =E14/C14*100 -> 47.157499 | G14: =E14/D14*100 -> 47.811101
A15: 0723 Zubarske usluge | B15: =ROUND(B10*0.25,2) -> #REF! | C15: =ROUND(C10*0.25,2) -> 6788850.8 | D15: =ROUND(D10*0.25,2) -> 6696043.8 | E15: =ROUND(E10*0.25,2) -> 3201452.2 | F15: =E15/C15*100 -> 47.157499 | G15: =E15/D15*100 -> 47.811101
A16: 073 Bolničke službe | C16: =C17 -> 0 | D16: =D17 -> 0 | E16: =E17 -> 0 | F16: =IFERROR(E16/C16*100,E16) -> 0 | G16: =IFERROR(E16/D16*100,E16) -> 0
A17: 0731 Usluge općih bolnica | F17: =IFERROR(E17/C17*100,E17) -> 0 | G17: =IFERROR(E17/D17*100,E17) -> 0
A18: 074 Službe javnog zdravstva | C18: 0 | D18: 0 | E18: 0 | F18: =IFERROR(E18/C18*100,E18) -> 0 | G18: =IFERROR(E18/D18*100,E18) -> 0

Sheet Rekapitulacija Posebni dio
A1: II. POSEBNI DIO
A2: Rashodi i izdaci po izvorima financiranja i ekonomskoj klasifikaciji raspoređenih u programe, aktivnosti i projekte
A4: Šifra | B4: Naziv | C4: OSTVARENJE/ IZVRŠENJE 1.-3.2025. | D4: IZVORNI PLAN ZA 2026. | E4: TEKUĆI PLAN ZA 2026. | F4: OSTVARENJE/ IZVRŠENJE 1.-6.2026. | G4: Indeks | H4: Indeks
A5: 1 | C5: 2 | D5: 3 | E5: 4 | F5: 5 | G5: 6=5/3*100 | H5: 7=5/4*100
A6: PROGRAM | B6: RAD I RAZVOJ USTANOVE | C6: =C8+C225+C358+C401+C421+C443+C457+#REF!+C523+C572+C542+C579+C616+C660+C699+C742 -> #REF! | D6: =D8+D225+D358+D401+D421+D443+D457+D523+D572+D542+D579+D616+D660+D699+D742 -> 27155403 | E6: =E8+E225+E358+E401+E421+E443+E457+E523+E572+E542+E579+E616+E660+E699+E742 -> 26784175 | F6: =F8+F225+F358+F401+F421+F443+F457+F523+F572+F542+F579+F616+F660+F699+F742 -> 12805809 | G6: =F6/D6*100 -> 47.157499 | H6: =F6/E6*100 -> 47.811101
A7: AKTIVNOST | B7: Redovna djelatnost | C7: =C8+C225+C358+C401+C421+C443 -> 0 | D7: =D8+D225+D358+D401+D421+D443 -> 25447188 | E7: =E8+E225+E358+E401+E421+E443 -> 25447188 | F7: =F8+F225+F358+F401+F421+F443 -> 12573311 | G7: =F7/D7*100 -> 49.409431 | H7: =F7/E7*100 -> 49.409431
A8: 43 | B8: Ostali prihodi za posebne namjene | C8: =C9+C189 -> 0 | D8: =D9+D189 -> 21410157 | E8: =E9+E189 -> 21410157 | F8: =F9+F189 -> 10932150 | G8: =F8/D8*100 -> 51.060576 | H8: =F8/E8*100 -> 51.060576
A9: 3 | B9: Rashodi poslovanja | C9: =C10+C34+C157+C170+C173+C178 -> 0 | D9: =D10+D34+D157+D170+D173+D178 -> 21324785 | E9: =E10+E34+E157+E170+E173+E178 -> 21324785 | F9: =F10+F34+F157+F170+F173+F178 -> 10893079 | G9: =F9/D9*100 -> 51.081778 | H9: =F9/E9*100 -> 51.081778
A10: 31 | B10: Rashodi za zaposlene | C10: =C11+C20+C28 -> 0 | D10: =D11+D20+D28 -> 13895551 | E10: =E11+E20+E28 -> 13895551 | F10: =F11+F20+F28 -> 7388495.9 | G10: =F10/D10*100 -> 53.171665 | H10: =F10/E10*100 -> 53.171665
A11: 311 | B11: Plaće | C11: =C12+C15+C16+C18 -> 0 | D11: =D12+D15+D16+D18 -> 11748762 | E11: =E12+E15+E16+E18 -> 11748762 | F11: =F12+F15+F16+F18 -> 6218019.2 | G11: =F11/D11*100 -> 52.924887 | H11: =F11/E11*100 -> 52.924887
A12: 3111 | B12: Plaće za redovan rad | C12: =SUM(C13:C14) -> 0 | D12: =SUM(D13:D14) -> 11578762 | E12: =SUM(E13:E14) -> 11578762 | F12: =SUM(F13:F14) -> 6004596.1 | G12: =F12/D12*100 -> 51.858704 | H12: =F12/E12*100 -> 51.858704
A13: 31111 | B13: Plaće za redovan rad | D13: =3370067.31+4865000+3341895 -> 11576962 | E13: 11576962 | F13: =6592115.78-F230-F363-F528-F547-F584-F621-F665 -> 6004157.1 | G13: =F13/D13*100 -> 51.862975 | H13: =F13/E13*100 -> 51.862975
A14: 31113 | B14: Plaće po sudskim presudama | D14: 1800 | E14: 1800 | F14: 438.96 | G14: =F14/D14*100 -> 24.386667 | H14: =F14/E14*100 -> 24.386667
A15: 3112 | B15: Plaće u naravi | G15: =F15/D15*100 -> #DIV/0! | H15: =F15/E15*100 -> #DIV/0!
A16: 3113 | B16: Plaće za prekovremeni rad | C16: =SUM(C17) -> 0 | D16: =SUM(D17) -> 170000 | E16: =SUM(E17) -> 170000 | F16: =SUM(F17) -> 213423.12 | G16: =F16/D16*100 -> 125.54301 | H16: =F16/E16*100 -> 125.54301
A17: 31131 | B17: Plaće za prekovremeni rad | D17: =80000+90000 -> 170000 | E17: 170000 | F17: =213423.12 -> 213423.12 | G17: =F17/D17*100 -> 125.54301 | H17: =F17/E17*100 -> 125.54301
A18: 3114 | B18: Plaće za posebne uvjete rada | C18: =SUM(C19) -> 0 | D18: =SUM(D19) -> 0 | E18: =SUM(E19) -> 0 | F18: =SUM(F19) -> 0 | G18: =F18/D18*100 -> #DIV/0! | H18: =F18/E18*100 -> #DIV/0!
A19: 31141 | B19: Plaće za posebne uvjete rada | C19: 0 | D19: 0 | E19: 0 | F19: 0 | G19: =F19/D19*100 -> #DIV/0! | H19: =F19/E19*100 -> #DIV/0!
A20: 312 | B20: Ostali rashodi za zaposlene | C20: =C21 -> 0 | D20: =D21 -> 350300 | E20: =E21 -> 350300 | F20: =F21 -> 293293.55 | G20: =F20/D20*100 -> 83.726392 | H20: =F20/E20*100 -> 83.726392
A21: 3121 | B21: Ostali rashodi za zaposlene | C21: =SUM(C22:C27) -> 0 | D21: =SUM(D22:D27) -> 350300 | E21: =SUM(E22:E27) -> 350300 | F21: =SUM(F22:F27) -> 293293.55 | G21: =F21/D21*100 -> 83.726392 | H21: =F21/E21*100 -> 83.726392
A22: 31212 | B22: Ostali rashodi za zaposlene-nagrade | D22: =28000+96500 -> 124500 | E22: 124500 | F22: =37294.14+48100+39900 -> 125294.14 | G22: =F22/D22*100 -> 100.63786 | H22: =F22/E22*100 -> 100.63786
A23: 31213 | B23: Darovi | D23: 26000 | E23: 26000 | G23: =F23/D23*100 -> 0 | H23: =F23/E23*100 -> 0
A24: 31214 | B24: Otpremnine | D24: =25000+2000 -> 27000 | E24: 27000 | F24: =19898.73-F238 -> 19898.73 | G24: =F24/D24*100 -> 73.699 | H24: =F24/E24*100 -> 73.699
A25: 31215 | B25: Naknade za bolest, invalidnost i smrt | D25: =10000+3800 -> 13800 | E25: 13800 | F25: =13463.92-F239 -> 13463.92 | G25: =F25/D25*100 -> 97.564638 | H25: =F25/E25*100 -> 97.564638
A26: 31216 | B26: Regres za godišnji odmor | D26: =57000+35000 -> 92000 | E26: 92000 | F26: =135000-F240-F588 -> 133200 | G26: =F26/D26*100 -> 144.78261 | H26: =F26/E26*100 -> 144.78261
A27: 31219 | B27: Ostali nenavedeni rashodi za zaposlene | D27: =32000+35000 -> 67000 | E27: 67000 | F27: =8733.35-F242-F448-F590-F669 -> 1436.76 | G27: =F27/D27*100 -> 2.1444179 | H27: =F27/E27*100 -> 2.1444179
A28: 313 | B28: Doprinosi na plaće | C28: =C29+C32 -> 0 | D28: =D29+D32 -> 1796488.8 | E28: =E29+E32 -> 1796488.8 | F28: =F29+F32 -> 877183.17 | G28: =F28/D28*100 -> 48.827644 | H28: =F28/E28*100 -> 48.827644
A29: 3132 | B29: Doprinosi za obvezno zdravstveno osiguranje | C29: =SUM(C30) -> 0 | D29: =SUM(D30:D31) -> 1796488.8 | E29: =SUM(E30:E31) -> 1796488.8 | F29: =SUM(F30:F31) -> 877176.42 | G29: =F29/D29*100 -> 48.827268 | H29: =F29/E29*100 -> 48.827268
A30: 31321 | B30: Doprinosi za obvezno zdravstveno osiguranje | D30: =760000+536488.84+500000 -> 1796488.8 | E30: 1796488.8 | F30: =1038456.11-F245-F370-F451-F533-F552-F593-F674 -> 877174.45 | G30: =F30/D30*100 -> 48.827158 | H30: =F30/E30*100 -> 48.827158
A31: 31322 | B31: Doprinosi za zaštitu zdravlja na radu | F31: 1.97 | G31: =IFERROR(F31/D31*100,F31) -> 1.97 | H31: =IFERROR(F31/E31*100,F31) -> 1.97
A32: 3133 | B32: Doprinosi za zapošljavanje | C32: =C33 -> 0 | D32: =D33 -> 0 | E32: =E33 -> 0 | F32: =F33 -> 6.75 | G32: =IFERROR(F32/D32*100,F32) -> 6.75 | H32: =IFERROR(F32/E32*100,F32) -> 6.75
A33: 31332 | B33: Doprinosi u slučaju nezaposlenosti | C33: 0 | F33: 6.75 | G33: =IFERROR(F33/D33*100,F33) -> 6.75 | H33: =IFERROR(F33/E33*100,F33) -> 6.75
A34: 32 | B34: Materijalni rashodi | C34: =C35+C49+C79+C124+C127+C135 -> 0 | D34: =D35+D49+D79+D124+D127+D135 -> 7400658.6 | E34: =E35+E49+E79+E124+E127+E135 -> 7400658.6 | F34: =F35+F49+F79+F124+F127+F135 -> 3486826.5 | G34: =F34/D34*100 -> 47.115083 | H34: =F34/E34*100 -> 47.115083
A35: 321 | B35: Naknade troškova zaposlenima | C35: =C36+C42+C44+C47 -> 0 | D35: =D36+D42+D44+D47 -> 250944.29 | E35: =E36+E42+E44+E47 -> 250944.29 | F35: =F36+F42+F44+F47 -> 153216.04 | G35: =F35/D35*100 -> 61.055798 | H35: =F35/E35*100 -> 61.055798
A36: 3211 | B36: Službena putovanja | C36: =SUM(C37:C41) -> 0 | D36: =SUM(D37:D41) -> 6380 | E36: =SUM(E37:E41) -> 6380 | F36: =SUM(F37:F41) -> 1880.63 | G36: =F36/D36*100 -> 29.476959 | H36: =F36/E36*100 -> 29.476959
A37: 32111 | B37: Dnevnice za službeni put u zemlji | D37: =3000+600 -> 3600 | E37: 3600 | G37: =F37/D37*100 -> 0 | H37: =F37/E37*100 -> 0
A38: 32113 | B38: Naknade za smještaj na službenom putu u zemlji | D38: =500+1000 -> 1500 | E38: 1500 | F38: =952.52 -> 952.52 | G38: =F38/D38*100 -> 63.501333 | H38: =F38/E38*100 -> 63.501333
A39: 32114 | B39: Naknade za smještaj na službenom putu u inozemstvu | F39: =75.71 -> 75.71
A40: 32115 | B40: Naknade za prijevoz na službenom putu u zemlji | D40: =500+700 -> 1200 | E40: 1200 | F40: =33-F251-F407-F599-F634 -> 33 | G40: =F40/D40*100 -> 2.75 | H40: =F40/E40*100 -> 2.75
A41: 32119 | B41: Ostali rashodi za sl. putovanje (cestarine, trošak parkiranja) | D41: 80 | E41: 80 | F41: =264+555.4-F252-F557-F590 -> 819.4 | G41: =F41/D41*100 -> 1024.25 | H41: =F41/E41*100 -> 1024.25
A42: 3212 | B42: Naknade za prijevoz, za rad na terenu i odvojeni život | C42: =SUM(C43) -> 0 | D42: =SUM(D43) -> 234716.27 | E42: =SUM(E43) -> 234716.27 | F42: =SUM(F43) -> 138638.48 | G42: =F42/D42*100 -> 59.066412 | H42: =F42/E42*100 -> 59.066412
A43: 32121 | B43: Naknade za prijevoz, za rad na terenu i odvojeni život | D43: =74716.27+160000 -> 234716.27 | E43: 234716.27 | F43: =206283.08-F254-F601-F636-F682 -> 138638.48 | G43: =F43/D43*100 -> 59.066412 | H43: =F43/E43*100 -> 59.066412
A44: 3213 | B44: Stručno usavršavanje zaposlenih | C44: =SUM(C45:C46) -> 0 | D44: =SUM(D45:D46) -> 9648.02 | E44: =SUM(E45:E46) -> 9648.02 | F44: =SUM(F45:F46) -> 12696.93 | G44: =F44/D44*100 -> 131.60141 | H44: =F44/E44*100 -> 131.60141
A45: 32131 | B45: Seminari, savjetovanja i simpoziji | D45: =5470+1100 -> 6570 | E45: 6570 | F45: =11862.93-F257-F409-F560 -> 11862.93 | G45: =F45/D45*100 -> 180.5621 | H45: =F45/E45*100 -> 180.5621
A46: 32132 | B46: Tečajevi i stručni ispiti | D46: =500+2578.02 -> 3078.02 | E46: 3078.02 | F46: =834-F258-F638 -> 834 | G46: =F46/D46*100 -> 27.095341 | H46: =F46/E46*100 -> 27.095341
A47: 3214 | B47: Ostale naknade troškova zaposlenima | C47: =SUM(C48) -> 0 | D47: =SUM(D48) -> 200 | E47: =SUM(E48) -> 200 | F47: =SUM(F48) -> 0 | G47: =F47/D47*100 -> 0 | H47: =F47/E47*100 -> 0
A48: 32141 | B48: Naknada za korištenje privatnog automobila u službene svrhe | D48: 200 | E48: 200 | G48: =F48/D48*100 -> 0 | H48: =F48/E48*100 -> 0
A49: 322 | B49: Rashodi za materijal i energiju | C49: =C50+C57+C64+C69+C74+C77 -> 0 | D49: =D50+D57+D64+D69+D74+D77 -> 3285505 | E49: =E50+E57+E64+E69+E74+E77 -> 3285505 | F49: =F50+F57+F64+F69+F74+F77 -> 278611.31 | G49: =F49/D49*100 -> 8.4800148 | H49: =F49/E49*100 -> 8.4800148
A50: 3221 | B50: Uredski materijal i ostali materijalni rashodi | C50: =SUM(C51:C56) -> 0 | D50: =SUM(D51:D56) -> 128000 | E50: =SUM(E51:E56) -> 128000 | F50: =SUM(F51:F56) -> 58970.27 | G50: =F50/D50*100 -> 46.070523 | H50: =F50/E50*100 -> 46.070523
A51: 32211 | B51: Uredski materijal | D51: =12000+15000+14000 -> 41000 | E51: 41000 | F51: =15924.3+16491.88+174.2-F262-F641 -> 30482.05 | G51: =F51/D51*100 -> 74.346463 | H51: =F51/E51*100 -> 74.346463
A52: 32212 | B52: Literatura | D52: =300+700+500 -> 1500 | E52: 1500 | F52: 867.58 | G52: =F52/D52*100 -> 57.838667 | H52: =F52/E52*100 -> 57.838667
A53: 32214 | B53: Materijal i sredstva za čišćenje i održavanje | D53: =13500+15000+30000 -> 58500 | E53: 58500 | F53: 13921.35 | G53: =F53/D53*100 -> 23.797179 | H53: =F53/E53*100 -> 23.797179
A54: 32215 | B54: Službena, radna i zaštitna odjeća | D54: 500 | E54: 500 | G54: =F54/D54*100 -> 0 | H54: =F54/E54*100 -> 0
A55: 32216 | B55: Materijal za higijenske potrebe i njegu | C55: 0 | D55: 25000 | E55: 25000 | F55: 13699.29 | G55: =F55/D55*100 -> 54.79716 | H55: =F55/E55*100 -> 54.79716
A56: 32219 | B56: Ostali materijal za potrebe redovnog poslovanja | D56: 1500 | E56: 1500 | G56: =F56/D56*100 -> 0 | H56: =F56/E56*100 -> 0
A57: 3222 | B57: Materijal i sirovine | C57: =SUM(C58:C63) -> 0 | D57: =SUM(D58:D63) -> 2806455 | E57: =SUM(E58:E63) -> 2806455 | F57: =SUM(F58:F63) -> 4788.89 | G57: =F57/D57*100 -> 0.1706384 | H57: =F57/E57*100 -> 0.1706384
A58: 32221 | B58: Potrošni medicinski materijal | C58: 0 | D58: 0 | E58: 0 | F58: 0 | G58: =IFERROR(F58/D58*100,F58) -> 0 | H58: =IFERROR(F58/E58*100,F58) -> 0
A59: 32222 | B59: Sanitetski materijal | C59: 0 | D59: 0 | E59: 0 | G59: =IFERROR(F59/D59*100,F59) -> 0 | H59: =IFERROR(F59/E59*100,F59) -> 0
A60: 32224 | B60: Namirnice | D60: 12000 | E60: 12000 | F60: 4648.97 | G60: =F60/D60*100 -> 38.741417 | H60: =IFERROR(F60/E60*100,F60) -> 38.741417
A61: 32225 | B61: Roba | D61: 2794455 | E61: 2794455 | G61: =F61/D61*100 -> 0 | H61: =IFERROR(F61/E61*100,F61) -> 0
A62: 32226 | B62: Lijekovi | D62: 0 | E62: 0 | F62: 0 | G62: =F62/D62*100 -> #DIV/0! | H62: =IFERROR(F62/E62*100,F62) -> 0
A63: 32229 | B63: Ostali materijal i sirovine | D63: 0 | E63: 0 | F63: 139.92 | G63: =IFERROR(F63/D63*100,F63) -> 139.92 | H63: =IFERROR(F63/E63*100,F63) -> 139.92
A64: 3223 | B64: Energija | C64: =SUM(C65:C68) -> 0 | D64: =SUM(D65:D68) -> 321000 | E64: =SUM(E65:E68) -> 321000 | F64: =SUM(F65:F68) -> 170137.83 | G64: =F64/D64*100 -> 53.002439 | H64: =F64/E64*100 -> 53.002439
A65: 32231 | B65: Električna energija | D65: =27000+55000+60000 -> 142000 | E65: 142000 | F65: =55567.59 -> 55567.59 | G65: =F65/D65*100 -> 39.132106 | H65: =F65/E65*100 -> 39.132106
A66: 32232 | B66: Topla voda | D66: 2200 | E66: 2200 | G66: =F66/D66*100 -> 0 | H66: =F66/E66*100 -> 0
A67: 32233 | B67: Plin | D67: =20000+65000+50000 -> 135000 | E67: 135000 | F67: =95303.28-F267 -> 89179.03 | G67: =F67/D67*100 -> 66.058541 | H67: =F67/E67*100 -> 66.058541
A68: 32234 | B68: Motorni benzin i dizel gorivo | D68: =17000+9800+15000 -> 41800 | E68: 41800 | F68: =26517.55-F268-F563-F644 -> 25391.21 | G68: =F68/D68*100 -> 60.744522 | H68: =F68/E68*100 -> 60.744522
A69: 3224 | B69: Materijal i dijelovi za tekuće i investicijsko održavanje | C69: =SUM(C70:C73) -> 0 | D69: =SUM(D70:D73) -> 15050 | E69: =SUM(E70:E73) -> 15050 | F69: =SUM(F70:F73) -> 3874.79 | G69: =F69/D69*100 -> 25.746113 | H69: =F69/E69*100 -> 25.746113
A70: 32241 | B70: Materijal i dijelovi za tekuće i invest. održavanje građevinskih objekata | D70: 2500 | E70: 2500 | F70: =1543.81-F476 -> 647.22 | G70: =F70/D70*100 -> 25.8888 | H70: =F70/E70*100 -> 25.8888
A71: 32242 | B71: Materijal i dijelovi za tekuće i invest. održavanje postrojenja i opreme | D71: 2750 | E71: 2750 | F71: =1488.57 -> 1488.57 | G71: =F71/D71*100 -> 54.129818 | H71: =F71/E71*100 -> 54.129818
A72: 32243 | B72: Materijal i dijelovi za tekuće i invest. održavanje transportnih sredstava | D72: =6000+500 -> 6500 | E72: 6500 | F72: =406.41 -> 406.41 | G72: =F72/D72*100 -> 6.2524615 | H72: =F72/E72*100 -> 6.2524615
A73: 32244 | B73: Ostali materijal i dijelovi za tekuće i invest. održavanje | D73: =3000+300 -> 3300 | E73: 3300 | F73: =1332.59 -> 1332.59 | G73: =F73/D73*100 -> 40.381515 | H73: =F73/E73*100 -> 40.381515
A74: 3225 | B74: Sitan inventar i autogume | C74: =SUM(C75:C76) -> 0 | D74: =SUM(D75:D76) -> 9500 | E74: =SUM(E75:E76) -> 9500 | F74: =SUM(F75:F76) -> 35591.57 | G74: =F74/D74*100 -> 374.64811 | H74: =F74/E74*100 -> 374.64811
A75: 32251 | B75: Sitan inventar | D75: =5000+3000 -> 8000 | E75: 8000 | F75: =3049.18+32748.64-F271 -> 35472.07 | G75: =F75/D75*100 -> 443.40088 | H75: =F75/E75*100 -> 443.40088
A76: 32252 | B76: Auto gume | D76: 1500 | E76: 1500 | F76: =119.5-F272 -> 119.5 | G76: =F76/D76*100 -> 7.9666667 | H76: =F76/E76*100 -> 7.9666667
A77: 3227 | B77: Službena radna i zaštitna odjeća | C77: =SUM(C78) -> 0 | D77: =SUM(D78) -> 5500 | E77: =SUM(E78) -> 5500 | F77: =SUM(F78) -> 5247.96 | G77: =F77/D77*100 -> 95.417455 | H77: =F77/E77*100 -> 95.417455
A78: 32271 | B78: Službena radna i zaštitna odjeća | D78: =3000+2500 -> 5500 | E78: 5500 | F78: 5247.96 | G78: =F78/D78*100 -> 95.417455 | H78: =F78/E78*100 -> 95.417455
A79: 323 | B79: Rashodi za usluge | C79: =C80+C84+C89+C94+C103+C107+C112+C117+C119 -> 0 | D79: =D80+D84+D89+D94+D103+D107+D112+D117+D119 -> 1067396.3 | E79: =E80+E84+E89+E94+E103+E107+E112+E117+E119 -> 1067396.3 | F79: =F80+F84+F89+F94+F103+F107+F112+F117+F119 -> 508455.26 | G79: =F79/D79*100 -> 47.635095 | H79: =F79/E79*100 -> 47.635095
A80: 3231 | B80: Usluge telefona i pošte | C80: =SUM(C81:C83) -> 0 | D80: =SUM(D81:D83) -> 46350 | E80: =SUM(E81:E83) -> 46350 | F80: =SUM(F81:F83) -> 38913.51 | G80: =F80/D80*100 -> 83.955793 | H80: =F80/E80*100 -> 83.955793
A81: 32311 | B81: Usluge telefona, telefaksa | D81: =25000+18000 -> 43000 | E81: 43000 | F81: =28552.14+8482.96+979.82+575.46+1554.35-590-F276 -> 37679.63 | G81: =F81/D81*100 -> 87.627047 | H81: =F81/E81*100 -> 87.627047
A82: 32313 | B82: Poštarina | D82: =600+900 -> 1500 | E82: 1500 | F82: =1233.88-F277 -> 1233.88 | G82: =F82/D82*100 -> 82.258667 | H82: =F82/E82*100 -> 82.258667
A83: 32319 | B83: Ostale usluge za komunikaciju i prijevoz | D83: =350+1500 -> 1850 | E83: 1850 | F83: =590-F647 -> 0 | G83: =F83/D83*100 -> 0 | H83: =F83/E83*100 -> 0
A84: 3232 | B84: Usluge tekućeg i investicijskog održavanja | C84: =SUM(C85:C88) -> 0 | D84: =SUM(D85:D88) -> 29500 | E84: =SUM(E85:E88) -> 29500 | F84: =SUM(F85:F88) -> 75709.97 | G84: =F84/D84*100 -> 256.64397 | H84: =F84/E84*100 -> 256.64397
A85: 32321 | B85: Usluge tekućeg i investicijskog održavanja građevinskih objekata | D85: =5000+5000 -> 10000 | E85: 10000 | F85: =13148-F280-F479 -> 12048 | G85: =F85/D85*100 -> 120.48 | H85: =F85/E85*100 -> 120.48
A86: 32322 | B86: Usluge tekućeg i investicijskog održavanja postrojenja i opreme | D86: =5000+3000 -> 8000 | E86: 8000 | F86: =38575.42+51029.48-F281-F480 -> 55662.31 | G86: =F86/D86*100 -> 695.77887 | H86: =F86/E86*100 -> 695.77887
A87: 32323 | B87: Usluge tekućeg i investicijskog održavanja prijevoznih sredstava | D87: =3500+3000 -> 6500 | E87: 6500 | F87: =11723.79-F282-F481 -> 4936.41 | G87: =F87/D87*100 -> 75.944769 | H87: =F87/E87*100 -> 75.944769
A88: 32329 | B88: Ostale usluge tekućeg i investicijskog ulaganja | D88: 5000 | E88: 5000 | F88: =4558.61-F482 -> 3063.25 | G88: =F88/D88*100 -> 61.265 | H88: =F88/E88*100 -> 61.265
A89: 3233 | B89: Usluge promidžbe i informiranja | C89: =SUM(C90:C93) -> 0 | D89: =SUM(D90:D93) -> 2663.61 | E89: =SUM(E90:E93) -> 2663.61 | F89: =SUM(F90:F93) -> 1373.8 | G89: =F89/D89*100 -> 51.57662 | H89: =F89/E89*100 -> 51.57662
A90: 32331 | B90: Elektronski mediji | F90: =250-F649 -> 250 | G90: =IFERROR(F90/D90*100,F90) -> 250 | H90: =IFERROR(F90/E90*100,F90) -> 250
A91: 32332 | B91: Tisak | F91: =871.55-F650 -> 871.55 | G91: =IFERROR(F91/D91*100,F91) -> 871.55 | H91: =IFERROR(F91/E91*100,F91) -> 871.55
A92: 32334 | B92: Promidžbeni materijal | F92: =1182.19-F284-F651-F690 -> 252.25 | G92: =IFERROR(F92/D92*100,F92) -> 252.25 | H92: =IFERROR(F92/E92*100,F92) -> 252.25
A93: 32339 | B93: Usluge promidžbe i informiranja | D93: =2000+663.61 -> 2663.61 | E93: 2663.61 | G93: =F93/D93*100 -> 0 | H93: =F93/E93*100 -> 0
A94: 3234 | B94: Komunalne usluge | C94: =SUM(C95:C102) -> 0 | D94: =SUM(D95:D102) -> 166650 | E94: =SUM(E95:E102) -> 166650 | F94: =SUM(F95:F102) -> 84747.66 | G94: =F94/D94*100 -> 50.853681 | H94: =F94/E94*100 -> 50.853681
A95: 32341 | B95: Opskrba vodom | D95: =25000+13000+6000 -> 44000 | E95: 44000 | F95: =17473.27 -> 17473.27 | G95: =F95/D95*100 -> 39.711977 | H95: =F95/E95*100 -> 39.711977
A96: 32342 | B96: Iznošenje i odvoz smeća | D96: =15000+18000+35000 -> 68000 | E96: 68000 | F96: 11885.82 | G96: =F96/D96*100 -> 17.479147 | H96: =F96/E96*100 -> 17.479147
A97: 32343 | B97: Deratizacija i dezinsekcija | D97: =1800+1000 -> 2800 | E97: 2800 | F97: 1102.06 | G97: =F97/D97*100 -> 39.359286 | H97: =F97/E97*100 -> 39.359286
A98: 32344 | B98: Dimnjačarske usluge | D98: =1500+500 -> 2000 | E98: 2000 | F98: 427.53 | G98: =F98/D98*100 -> 21.3765 | H98: =F98/E98*100 -> 21.3765
A99: 32345 | B99: Komunalna naknada | D99: 9000 | E99: 9000 | G99: =F99/D99*100 -> 0 | H99: =F99/E99*100 -> 0
A100: 32347 | B100: Pričuva | D100: =2000+4000 -> 6000 | E100: 6000 | F100: =3688.94-F430 -> 3607.35 | G100: =F100/D100*100 -> 60.1225 | H100: =F100/E100*100 -> 60.1225
A101: 32348 | B101: Naknada za uređenje voda | D101: 150 | E101: 150 | G101: =F101/D101*100 -> 0 | H101: =F101/E101*100 -> 0
...
