Workbook

Sheet SAŽETAK
B1: FINANCIJSKI PLAN REBALANS I DOMA ZDRAVLJA VUKOVARSKO - SRIJEMSKE ŽUPANIJE ZA 2026. GODINU
B3: I. OPĆI DIO
F5: A) SAŽETAK RAČUNA PRIHODA I RASHODA
L6: EUR
B7: BROJČANA OZNAKA I NAZIV | G7: IZVRŠENJE 2024. | H7: TEKUĆI PLAN ZA 2025. | I7: PLAN ZA 2026. REBALANS I | J7: PLAN ZA 2026. | K7: PROJEKCIJA ZA 2027. | L7: PROJEKCIJA ZA 2028.
B8: 1 | J8: 3 | K8: 4 | L8: 5
B9: PRIHODI UKUPNO | G9: =G10+G11 -> #REF! | H9: =H10+H11 -> #REF! | I9: =I10+I11 -> 27029768 | J9: =J10+J11 -> 27400996 | K9: =K10+K11 -> 28076192 | L9: =L10+L11 -> 28547128
B10: 6 PRIHODI POSLOVANJA | G10: ='Prihodi po ekonomskoj klas'!E10 -> #REF! | H10: ='Prihodi po ekonomskoj klas'!F10 -> #REF! | I10: ='Prihodi po ekonomskoj klas'!G10 -> 27028468 | J10: ='Prihodi po ekonomskoj klas'!H10 -> 27399696 | K10: ='Prihodi po ekonomskoj klas'!I10 -> 28076192 | L10: ='Prihodi po ekonomskoj klas'!J10 -> 28547128
B11: 7 PRIHODI OD PRODAJE NEFINANCIJSKE IMOVINE | G11: ='Prihodi po ekonomskoj klas'!E81 -> 0 | H11: ='Prihodi po ekonomskoj klas'!F81 -> 0 | I11: ='Prihodi po ekonomskoj klas'!G81 -> 1300 | J11: ='Prihodi po ekonomskoj klas'!H81 -> 1300 | K11: ='Prihodi po ekonomskoj klas'!I81 -> 0 | L11: ='Prihodi po ekonomskoj klas'!J81 -> 0
B12: RASHODI UKUPNO | G12: =G13+G14 -> #REF! | H12: =H13+H14 -> #REF! | I12: =I13+I14 -> 26784175 | J12: =J13+J14 -> 27155403 | K12: =K13+K14 -> 27423629 | L12: =L13+L14 -> 27667152
B13: 3 RASHODI POSLOVANJA | G13: ='RASHODI-ek.kl.'!D57 -> #REF! | H13: ='RASHODI-ek.kl.'!E57 -> #REF! | I13: ='RASHODI-ek.kl.'!F57 -> 26423403 | J13: ='RASHODI-ek.kl.'!G57 -> 26300528 | K13: ='RASHODI-ek.kl.'!H57 -> 26565803 | L13: ='RASHODI-ek.kl.'!I57 -> 26806376
B14: 4 RASHODI ZA NABAVU NEFINANCIJSKE IMOVINE | G14: ='RASHODI-ek.kl.'!D234 -> #REF! | H14: ='RASHODI-ek.kl.'!E234 -> #REF! | I14: ='RASHODI-ek.kl.'!F234 -> 360772.28 | J14: ='RASHODI-ek.kl.'!G234 -> 854875.27 | K14: ='RASHODI-ek.kl.'!H234 -> 857825.27 | L14: ='RASHODI-ek.kl.'!I234 -> 860775.27
B15: RAZLIKA - VIŠAK MANJAK | G15: =G9-G12 -> #REF! | H15: =H9-H12 -> #REF! | I15: =I9-I12 -> 245592.85 | J15: =J9-J12 -> 245592.85 | K15: =K9-K12 -> 652563.6 | L15: =L9-L12 -> 879976.31
F17: B) SAŽETAK RAČUNA FINANCIRANJA
B19: BROJČANA OZNAKA I NAZIV | G19: IZVRŠENJE 2024. | H19: TEKUĆI PLAN ZA 2025. | I19: PLAN ZA 2026. REBALANS I | J19: PLAN ZA 2026. | K19: PROJEKCIJA ZA 2027. | L19: PROJEKCIJA ZA 2028.
B20: 1 | J20: 3 | K20: 4 | L20: 5
B21: 8 PRIMICI OD FINANCIJSKE IMOVINE I ZADUŽIVANJA
B22: 5 IZDACI ZA FINANCIJSKU IMOVINU I OTPLATE ZAJMOVA
B23: NETO FINANCIRANJE
B24: VIŠAK / MANJAK + NETO FINANCIRANJE | G24: =G15+G23 -> #REF! | H24: =H15+H23 -> #REF! | I24: =I15+I23 -> 245592.85 | J24: =J15+J23 -> 245592.85 | K24: =K15+K23 -> 652563.6 | L24: =L15+L23 -> 879976.31
F26: C) PRENESENI VIŠAK ILI PRENESENI MANJAK
B28: BROJČANA OZNAKA I NAZIV | G28: IZVRŠENJE 2024. | H28: TEKUĆI PLAN ZA 2025. | I28: PLAN ZA 2026. REBALANS I | J28: PLAN ZA 2026. | K28: PROJEKCIJA ZA 2027. | L28: PROJEKCIJA ZA 2028.
B29: PRENESENI VIŠAK / MANJAK IZ PRETHODNE(IH) GODINE | G29: 0 | H29: =G29+G30 -> #REF! | I29: -4599353.7 | J29: =H30 -> -1778132.8 | K29: =J31 -> -1532539.9 | L29: =K31 -> -879976.31
B30: PRIJENOS VIŠKA / MANJKA U SLJEDEĆE RAZDOBLJE | G30: =G15 -> #REF! | H30: -1778132.8
B31: VIŠAK / MANJAK + NETO FINANCIRANJE + PRIJENOS VIŠKA / MANJKA IZ PRETHODNE(IH) GODINE - PRIJENOS VIŠKA / MANJKA U SLJEDEĆE RAZDOBLJE | I31: =I24+I29 -> -4353760.8 | J31: =J24+J29 -> -1532539.9 | K31: =K24+K29 -> -879976.31 | L31: =L24+L29 -> -2.0954758e-09
F33: D) VIŠEGODIŠNJI PLAN URAVNOTEŽENJA
B35: BROJČANA OZNAKA I NAZIV | G35: IZVRŠENJE 2024. | H35: TEKUĆI PLAN ZA 2025. | I35: PLAN ZA 2026. REBALANS I | J35: PLAN ZA 2026. | K35: PROJEKCIJA ZA 2027. | L35: PROJEKCIJA ZA 2028.
B36: PRIJENOS VIŠKA / MANJKA IZ PRETHODNE(IH) GODINE | G36: =G29 -> 0 | H36: =G39 -> #REF! | I36: =I29 -> -4599353.7 | J36: =H39 -> -1778132.8 | K36: =J39 -> -1532539.9 | L36: =K39 -> -879976.31
B37: VIŠAK / MANJAK IZ PRETHODNE(IH) GODINE KOJI ĆE SE RASPOREDITI / POKRITI | G37: =G15 -> #REF! | H37: =H15 -> #REF! | I37: =I24 -> 245592.85 | J37: =J24 -> 245592.85 | K37: =K24 -> 652563.6 | L37: =L24 -> 879976.31
B38: VIŠAK / MANJAK TEKUĆE GODINE | I38: 0 | J38: 0 | K38: 0
B39: PRIJENOS VIŠKA / MANJKA U SLJEDEĆE RAZDOBLJE | G39: =G36+G37 -> #REF! | H39: =H30 -> -1778132.8 | I39: =I36+I37 -> -4353760.8 | J39: =J36+J37 -> -1532539.9 | K39: =K36+K37 -> -879976.31 | L39: =L36+L37 -> -2.0954758e-09

Sheet Prihodi po ekonomskoj klas
B2: I. OPĆI DIO
B4: A. RAČUN PRIHODA
B6: PRIHODI PREMA EKONOMSKOJ KLASIFIKACIJI
B8: PRIHODI POSLOVANJA
B9: Razred | C9: Skupina/podskupina/odjeljak | D9: Naziv | E9: IZVRŠENJE 2024. | F9: TEKUĆI PLAN ZA 2025. | G9: PLAN ZA 2026. REBALANS I | H9: PLAN ZA 2026. | I9: PROJEKCIJA ZA 2027. | J9: PROJEKCIJA ZA 2028.
B10: 6 | D10: Prihodi poslovanja | E10: =E11+E34+E45+E51+E66+E75 -> #REF! | F10: =F11+F34+F45+F51+F66+F75 -> #REF! | G10: =G11+G34+G45+G51+G66+G75 -> 27028468 | H10: =H11+H34+H45+H51+H66+H75 -> 27399696 | I10: =I11+I34+I45+I51+I66+I75 -> 28076192 | J10: =J11+J34+J45+J51+J66+J75 -> 28547128
C11: 63 | D11: Pomoći | E11: =E12+E14+E18+E21+E26+E31 -> #REF! | F11: =F12+F14+F18+F21+F26+F31 -> #REF! | G11: =G12+G14+G18+G21+G26+G31 -> 1176423.8 | H11: =H12+H14+H18+H21+H26+H31 -> 1176423.8 | I11: =I12+I14+I18+I21+I26+I31 -> 1047924.5 | J11: =J12+J14+J18+J21+J26+J31 -> 994248.49 | K11: SAVJET: PRVO POPUNITE PRETHODNI LIST
C12: 632 | D12: Pomoći od međunaodnih organizacija te institucija i tijela EU | E12: =SUM(E13) -> 0 | F12: =SUM(F13) -> 0 | H12: =SUM(H13) -> 0 | I12: =SUM(I13) -> 0 | J12: =SUM(J13) -> 0
C13: 6324 | D13: Kapitalne pomoći od instucija i tijela EU | E13: 0 | F13: 0 | H13: 0 | I13: 0 | J13: 0
C14: 633 | D14: Pomoć proračunu iz drugih proračuna | E14: =SUM(E15,E17) -> 0 | F14: =SUM(F15,F17) -> 0 | G14: =SUM(G15,G17) -> 500 | H14: =SUM(H15,H17) -> 500 | I14: =SUM(I15,I17) -> 500 | J14: =SUM(J15,J17) -> 500 | K14: OVA TABLICA AUTOMATSKI POVLAČI IZNOSE IZ PRETHODNOG LISTA (PRIHODI PO EK KLAS I IZVORIMA)
C15: 6331 | D15: Tekuća pomoć proračunu iz drugih proračuna | E15: =E16 -> 0 | F15: =F16 -> 0 | G15: =G16 -> 500 | H15: =H16 -> 500 | I15: =I16 -> 500 | J15: =J16 -> 500 | K15: UKOLIKO STE U PRVOM LISTU DODAVALI RAČUNE MORATI ĆETE I U OVOME LISTU NAPRAVITI IZMJENE U FORMULI RAČUNA NA KOJI SE IZMJENA ODNOSI
C16: 63313 | D16: Tekuće potpore iz gradskog proračuna | E16: ='Prihodi po ek klas i izvorima'!E71 -> 0 | F16: ='Prihodi po ek klas i izvorima'!F71 -> 0 | G16: ='Prihodi po ek klas i izvorima'!G71 -> 500 | H16: ='Prihodi po ek klas i izvorima'!H71 -> 500 | I16: ='Prihodi po ek klas i izvorima'!I71 -> 500 | J16: ='Prihodi po ek klas i izvorima'!J71 -> 500
C17: 6332 | D17: Kapitalna pomoć proračunu iz drugih proračuna | E17: 0 | F17: 0 | H17: 0 | I17: 0 | J17: 0
C18: 634 | D18: Pomoći od izvanproračunskih korisnika | E18: =SUM(E19) -> 0 | F18: =SUM(F19) -> 0 | G18: =SUM(G19) -> 68314.61 | H18: =SUM(H19) -> 68314.61 | I18: =SUM(I19) -> 68314.61 | J18: =SUM(J19) -> 68314.61
C19: 6341 | D19: Tekuće pomoći od izvanproračunskih korisnika | E19: =E20 -> 0 | F19: =F20 -> 0 | G19: =G20 -> 68314.61 | H19: =H20 -> 68314.61 | I19: =I20 -> 68314.61 | J19: =J20 -> 68314.61
C20: 63414 | D20: Tekuće pomoći od izvanproračunskih korisnika | E20: ='Prihodi po ek klas i izvorima'!E75 -> 0 | F20: ='Prihodi po ek klas i izvorima'!F75 -> 0 | G20: ='Prihodi po ek klas i izvorima'!G75 -> 68314.61 | H20: ='Prihodi po ek klas i izvorima'!H75 -> 68314.61 | I20: ='Prihodi po ek klas i izvorima'!I75 -> 68314.61 | J20: ='Prihodi po ek klas i izvorima'!J75 -> 68314.61
C21: 636 | D21: Pomoć proračunskim korisnicima iz prorač.koji im nije nadležan | E21: =SUM(E22,E24) -> 0 | F21: =SUM(F22,F24) -> 0 | G21: =SUM(G22,G24) -> 14000 | H21: =SUM(H22,H24) -> 14000 | I21: =SUM(I22,I24) -> 0 | J21: =SUM(J22,J24) -> 0
C22: 6361 | D22: Tekuće pomoći iz državnog prorač. prorač.korisnicima JLP(R)S | E22: =E23 -> 0 | F22: =F23 -> 0 | G22: =G23 -> 14000 | H22: =H23 -> 14000 | I22: =I23 -> 0 | J22: =J23 -> 0
C23: 63612 | D23: Tekuće pomoći iz državnog prorač. prorač.korisnicima JLP(R)S | E23: ='Prihodi po ek klas i izvorima'!E78 -> 0 | F23: ='Prihodi po ek klas i izvorima'!F78 -> 0 | G23: ='Prihodi po ek klas i izvorima'!G78 -> 14000 | H23: ='Prihodi po ek klas i izvorima'!H78 -> 14000 | I23: ='Prihodi po ek klas i izvorima'!I78 -> 0 | J23: ='Prihodi po ek klas i izvorima'!J78 -> 0
C24: 6362 | D24: Kapitalne pomoći iz državnog prorač. prorač.korisnicima JLP(R)S | E24: =E25 -> 0 | F24: =F25 -> 0 | H24: =H25 -> 0 | I24: =I25 -> 0 | J24: =J25 -> 0
C25: 63622 | D25: Kapitalne pomoći iz državnog prorač. prorač.korisnicima JLP(R)S | E25: ='Prihodi po ek klas i izvorima'!E80 -> 0 | F25: ='Prihodi po ek klas i izvorima'!F80 -> 0 | H25: ='Prihodi po ek klas i izvorima'!H80 -> 0 | I25: ='Prihodi po ek klas i izvorima'!I80 -> 0 | J25: ='Prihodi po ek klas i izvorima'!J80 -> 0
C26: 638 | D26: Pomoć temeljem prijenosa EU | E26: =E27+E29 -> #REF! | F26: =F27+F29 -> #REF! | G26: =G27+G29 -> 593609.22 | H26: =H27+H29 -> 593609.22 | I26: =I27+I29 -> 479109.88 | J26: =J27+J29 -> 425433.88
C27: 6381 | D27: Tekuće pomoći temeljem prijenosa EU sredstava | E27: =SUM(E28:E28) -> 0 | F27: =SUM(F28:F28) -> 0 | G27: =SUM(G28:G28) -> 437409.22 | H27: =SUM(H28:H28) -> 437409.22 | I27: =SUM(I28:I28) -> 319785.88 | J27: =SUM(J28:J28) -> 262923.4
C28: 63811 | D28: Tekuće pomoći iz državnog proračuna temeljem EU prijenosa | E28: ='Prihodi po ek klas i izvorima'!E94 -> 0 | F28: ='Prihodi po ek klas i izvorima'!F94 -> 0 | G28: ='Prihodi po ek klas i izvorima'!G94 -> 437409.22 | H28: ='Prihodi po ek klas i izvorima'!H94 -> 437409.22 | I28: ='Prihodi po ek klas i izvorima'!I94 -> 319785.88 | J28: ='Prihodi po ek klas i izvorima'!J94 -> 262923.4
C29: 6382 | D29: Kapitalna pomoć temeljem prijenosa EU | E29: =E30+#REF! -> #REF! | F29: =F30+#REF! -> #REF! | G29: =G30 -> 156200 | H29: =H30 -> 156200 | I29: =I30 -> 159324 | J29: =J30 -> 162510.48
C30: 63821 | D30: Pomoći temeljem EU prijenosa | E30: ='Prihodi po ek klas i izvorima'!#REF! -> #REF! | F30: ='Prihodi po ek klas i izvorima'!#REF! -> #REF! | G30: ='Prihodi po ek klas i izvorima'!G88 -> 156200 | H30: ='Prihodi po ek klas i izvorima'!H88 -> 156200 | I30: ='Prihodi po ek klas i izvorima'!I88 -> 159324 | J30: ='Prihodi po ek klas i izvorima'!J88 -> 162510.48
C31: 639 | D31: Prijenosi između proračunskih korisnika | E31: =SUM(E32) -> 0 | F31: =SUM(F32) -> 0 | G31: =SUM(G32) -> 500000 | H31: =SUM(H32) -> 500000 | I31: =SUM(I32) -> 500000 | J31: =SUM(J32) -> 500000
C32: 6391 | D32: Tekući prijenosi između proračunskih korisnika | E32: =E33 -> 0 | F32: =F33 -> 0 | G32: =G33 -> 500000 | H32: =H33 -> 500000 | I32: =I33 -> 500000 | J32: =J33 -> 500000
C33: 63911 | D33: Tekući prijenosi između proračunskih korisnika istog proračuna | E33: ='Prihodi po ek klas i izvorima'!E83 -> 0 | F33: ='Prihodi po ek klas i izvorima'!F83 -> 0 | G33: ='Prihodi po ek klas i izvorima'!G83 -> 500000 | H33: ='Prihodi po ek klas i izvorima'!H83 -> 500000 | I33: ='Prihodi po ek klas i izvorima'!I83 -> 500000 | J33: ='Prihodi po ek klas i izvorima'!J83 -> 500000
C34: 64 | D34: Prihodi od imovine | E34: =E35+E42 -> 0 | F34: =F35+F42 -> 0 | G34: =G35+G42 -> 101000 | H34: =H35+H42 -> 101000 | I34: =I35+I42 -> 103404 | J34: =J35+J42 -> 105448.08
C35: 641 | D35: Prihodi od financijske imovine | E35: =E36+E38+E40 -> 0 | F35: =F36+F38+F40 -> 0 | G35: =G36+G38+G40 -> 100600 | H35: =H36+H38+H40 -> 100600 | I35: =I36+I38+I40 -> 102804 | J35: =J36+J38+J40 -> 104848.08
C36: 6413 | D36: Kamate na oročena sredstva i depozite po viđenju | E36: =SUM(E37) -> 0 | F36: =SUM(F37) -> 0 | G36: =SUM(G37) -> 550 | H36: =SUM(H37) -> 550 | I36: =SUM(I37) -> 754 | J36: =SUM(J37) -> 758.08
C37: 64132 | D37: Kamate na oročena sredstva i depozite po viđenju | E37: ='Prihodi po ek klas i izvorima'!E20 -> 0 | F37: ='Prihodi po ek klas i izvorima'!F20 -> 0 | G37: ='Prihodi po ek klas i izvorima'!G20 -> 550 | H37: ='Prihodi po ek klas i izvorima'!H20 -> 550 | I37: ='Prihodi po ek klas i izvorima'!I20 -> 754 | J37: ='Prihodi po ek klas i izvorima'!J20 -> 758.08
C38: 6414 | D38: Prihodi od zateznih kamata | E38: =E39 -> 0 | F38: =F39 -> 0 | G38: =G39 -> 50 | H38: =H39 -> 50 | I38: =I39 -> 50 | J38: =J39 -> 50
C39: 64143 | D39: Prihodi od zateznih kamata | E39: ='Prihodi po ek klas i izvorima'!E22 -> 0 | F39: ='Prihodi po ek klas i izvorima'!F22 -> 0 | G39: ='Prihodi po ek klas i izvorima'!G22 -> 50 | H39: ='Prihodi po ek klas i izvorima'!H22 -> 50 | I39: ='Prihodi po ek klas i izvorima'!I22 -> 50 | J39: ='Prihodi po ek klas i izvorima'!J22 -> 50
C40: 6419 | D40: Ostali prihodi od financijske imovine | E40: =E41 -> 0 | F40: =F41 -> 0 | G40: =G41 -> 100000 | H40: =H41 -> 100000 | I40: =I41 -> 102000 | J40: =J41 -> 104040
C41: 64199 | D41: Ostali prihodi od financijske imovine | E41: ='Prihodi po ek klas i izvorima'!E24+'Prihodi po ek klas i izvorima'!E48 -> 0 | F41: ='Prihodi po ek klas i izvorima'!F24+'Prihodi po ek klas i izvorima'!F48 -> 0 | G41: ='Prihodi po ek klas i izvorima'!G24+'Prihodi po ek klas i izvorima'!G48 -> 100000 | H41: ='Prihodi po ek klas i izvorima'!H24+'Prihodi po ek klas i izvorima'!H48 -> 100000 | I41: ='Prihodi po ek klas i izvorima'!I24+'Prihodi po ek klas i izvorima'!I48 -> 102000 | J41: ='Prihodi po ek klas i izvorima'!J24+'Prihodi po ek klas i izvorima'!J48 -> 104040
C42: 642 | D42: Prihodi od nefinancijske imovine | E42: =E43 -> 0 | F42: =F43 -> 0 | G42: =G43 -> 400 | H42: =H43 -> 400 | I42: =I43 -> 600 | J42: =J43 -> 600
C43: 6429 | D43: Ostali prihodi od nefinancijske imovine | E43: =E44 -> 0 | F43: =F44 -> 0 | G43: =G44 -> 400 | H43: =H44 -> 400 | I43: =I44 -> 600 | J43: =J44 -> 600
C44: 64299 | D44: Ostali prihodi od nefinancijske imovine | E44: ='Prihodi po ek klas i izvorima'!E27 -> 0 | F44: ='Prihodi po ek klas i izvorima'!F27 -> 0 | G44: ='Prihodi po ek klas i izvorima'!G27 -> 400 | H44: ='Prihodi po ek klas i izvorima'!H27 -> 400 | I44: ='Prihodi po ek klas i izvorima'!I27 -> 600 | J44: ='Prihodi po ek klas i izvorima'!J27 -> 600
C45: 65 | D45: Prihodi po posebnim propisima | E45: =E46 -> 0 | F45: =F46 -> 0 | G45: =G46 -> 942800 | H45: =H46 -> 942800 | I45: =I46 -> 971670 | J45: =J46 -> 982623.4
C46: 652 | D46: Prihodi po posebnim propisima | E46: =SUM(E47) -> 0 | F46: =SUM(F47) -> 0 | G46: =SUM(G47) -> 942800 | H46: =SUM(H47) -> 942800 | I46: =SUM(I47) -> 971670 | J46: =SUM(J47) -> 982623.4
C47: 6526 | D47: Ostali nespomenuti prihodi (participacija) | E47: =SUM(E48:E50) -> 0 | F47: =SUM(F48:F50) -> 0 | G47: =SUM(G48:G50) -> 942800 | H47: =SUM(H48:H50) -> 942800 | I47: =SUM(I48:I50) -> 971670 | J47: =SUM(J48:J50) -> 982623.4
C48: 65264 | D48: Sufinanciranje cijene usluge, participacija | E48: ='Prihodi po ek klas i izvorima'!E52 -> 0 | F48: ='Prihodi po ek klas i izvorima'!F52 -> 0 | G48: ='Prihodi po ek klas i izvorima'!G52 -> 902800 | H48: ='Prihodi po ek klas i izvorima'!H52 -> 902800 | I48: ='Prihodi po ek klas i izvorima'!I52 -> 929020 | J48: ='Prihodi po ek klas i izvorima'!J52 -> 938190.4
C49: 65267 | D49: Prihodi od osiguranja i refundacije štete | E49: ='Prihodi po ek klas i izvorima'!E110 -> 0 | F49: ='Prihodi po ek klas i izvorima'!F110 -> 0 | G49: ='Prihodi po ek klas i izvorima'!G53+'Prihodi po ek klas i izvorima'!G110 -> 11500 | H49: ='Prihodi po ek klas i izvorima'!H53+'Prihodi po ek klas i izvorima'!H110 -> 11500 | I49: ='Prihodi po ek klas i izvorima'!I53+'Prihodi po ek klas i izvorima'!I110 -> 11775 | J49: ='Prihodi po ek klas i izvorima'!J53+'Prihodi po ek klas i izvorima'!J110 -> 12064
C50: 65269 | D50: Refundacija plaća specijalizanata | E50: ='Prihodi po ek klas i izvorima'!E54 -> 0 | F50: ='Prihodi po ek klas i izvorima'!F54 -> 0 | G50: ='Prihodi po ek klas i izvorima'!G54 -> 28500 | H50: ='Prihodi po ek klas i izvorima'!H54 -> 28500 | I50: ='Prihodi po ek klas i izvorima'!I54 -> 30875 | J50: ='Prihodi po ek klas i izvorima'!J54 -> 32369
C51: 66 | D51: Prihodi od prodaje i donacija | E51: =E52+E60 -> 0 | F51: =F52+F60 -> 0 | G51: =G52+G60 -> 3645116.3 | H51: =H52+H60 -> 3645116.3 | I51: =I52+I60 -> 3685936.3 | J51: =J52+J60 -> 3717368.7
C52: 661 | D52: Prihodi od prodaje roba i pruženih usluga (vlastiti prihodi) | E52: =SUM(E53,E56) -> 0 | F52: =SUM(F53,F56) -> 0 | G52: =SUM(G53,G56) -> 3643116.3 | H52: =SUM(H53,H56) -> 3643116.3 | I52: =SUM(I53,I56) -> 3683716.3 | J52: =SUM(J53,J56) -> 3714928.3
C53: 6614 | D53: Prihodi od prodaje proizvoda i robe | E53: =E54+E55 -> 0 | F53: =F54+F55 -> 0 | G53: =G54+G55 -> 2625000 | H53: =H54+H55 -> 2625000 | I53: =I54+I55 -> 2656000 | J53: =J54+J55 -> 2677000
C54: 66141 | D54: Prihodi od prodaje proizvoda i robe - ljekarne | E54: ='Prihodi po ek klas i izvorima'!E31 -> 0 | F54: ='Prihodi po ek klas i izvorima'!F31 -> 0 | G54: ='Prihodi po ek klas i izvorima'!G31 -> 25000 | H54: ='Prihodi po ek klas i izvorima'!H31 -> 25000 | I54: ='Prihodi po ek klas i izvorima'!I31 -> 26000 | J54: ='Prihodi po ek klas i izvorima'!J31 -> 27000
C55: 66142 | D55: Prihodi od prodaje robe | E55: ='Prihodi po ek klas i izvorima'!E32 -> 0 | F55: ='Prihodi po ek klas i izvorima'!F32 -> 0 | G55: ='Prihodi po ek klas i izvorima'!G32 -> 2600000 | H55: ='Prihodi po ek klas i izvorima'!H32 -> 2600000 | I55: ='Prihodi po ek klas i izvorima'!I32 -> 2630000 | J55: ='Prihodi po ek klas i izvorima'!J32 -> 2650000
C56: 6615 | D56: Prihodi od pruženih usluga | E56: =SUM(E57:E59) -> 0 | F56: =SUM(F57:F59) -> 0 | G56: =SUM(G57:G59) -> 1018116.3 | H56: =SUM(H57:H59) -> 1018116.3 | I56: =SUM(I57:I59) -> 1027716.3 | J56: =SUM(J57:J59) -> 1037928.3
C57: 66151 | D57: Prihodi od pruženih usluga | E57: ='Prihodi po ek klas i izvorima'!E34 -> 0 | F57: ='Prihodi po ek klas i izvorima'!F34 -> 0 | G57: ='Prihodi po ek klas i izvorima'!G34 -> 1013116.3 | H57: ='Prihodi po ek klas i izvorima'!H34 -> 1013116.3 | I57: ='Prihodi po ek klas i izvorima'!I34 -> 1022116.3 | J57: ='Prihodi po ek klas i izvorima'!J34 -> 1031116.3
C58: 66153 | D58: Prihodi za udio troškova u zakupu | E58: ='Prihodi po ek klas i izvorima'!E35 -> 0 | F58: ='Prihodi po ek klas i izvorima'!F35 -> 0 | H58: ='Prihodi po ek klas i izvorima'!H35 -> 0 | I58: ='Prihodi po ek klas i izvorima'!I35 -> 0 | J58: ='Prihodi po ek klas i izvorima'!J35 -> 0
C59: 66157 | D59: Prihod od usluga ref. dežurstva specijalizanti | E59: ='Prihodi po ek klas i izvorima'!E36 -> 0 | F59: ='Prihodi po ek klas i izvorima'!F36 -> 0 | G59: ='Prihodi po ek klas i izvorima'!G36 -> 5000 | H59: ='Prihodi po ek klas i izvorima'!H36 -> 5000 | I59: ='Prihodi po ek klas i izvorima'!I36 -> 5600 | J59: ='Prihodi po ek klas i izvorima'!J36 -> 6812
C60: 663 | D60: Donacije od pravnih i fizičkih osoba izvan proračuna | E60: =E61+E64 -> 0 | F60: =F61+F64 -> 0 | G60: =G61+G64 -> 2000 | H60: =H61+H64 -> 2000 | I60: =I61+I64 -> 2220 | J60: =J61+J64 -> 2440.4
C61: 6631 | D61: Tekuće donacije | E61: =SUM(E62:E63) -> 0 | F61: =SUM(F62:F63) -> 0 | G61: =SUM(G62:G63) -> 1500 | H61: =SUM(H62:H63) -> 1500 | I61: =SUM(I62:I63) -> 1720 | J61: =SUM(J62:J63) -> 1940.4
C62: 66312 | D62: Tekuće donacije od neprofitnih organizacija | E62: ='Prihodi po ek klas i izvorima'!E101 -> 0 | F62: ='Prihodi po ek klas i izvorima'!F101 -> 0 | G62: ='Prihodi po ek klas i izvorima'!G101 -> 500 | H62: ='Prihodi po ek klas i izvorima'!H101 -> 500 | I62: ='Prihodi po ek klas i izvorima'!I101 -> 520 | J62: ='Prihodi po ek klas i izvorima'!J101 -> 540.4
C63: 66313 | D63: Tekuće donacije | E63: ='Prihodi po ek klas i izvorima'!E102 -> 0 | F63: ='Prihodi po ek klas i izvorima'!F102 -> 0 | G63: ='Prihodi po ek klas i izvorima'!G102 -> 1000 | H63: ='Prihodi po ek klas i izvorima'!H102 -> 1000 | I63: ='Prihodi po ek klas i izvorima'!I102 -> 1200 | J63: ='Prihodi po ek klas i izvorima'!J102 -> 1400
C64: 6632 | D64: Kapitalne donacije | E64: =E65 -> 0 | F64: =F65 -> 0 | G64: =G65 -> 500 | H64: =H65 -> 500 | I64: =I65 -> 500 | J64: =J65 -> 500
C65: 66323 | D65: Kapitalne donacije od trgovačkih društava | E65: ='Prihodi po ek klas i izvorima'!E104 -> 0 | F65: ='Prihodi po ek klas i izvorima'!F104 -> 0 | G65: ='Prihodi po ek klas i izvorima'!G104 -> 500 | H65: ='Prihodi po ek klas i izvorima'!H104 -> 500 | I65: ='Prihodi po ek klas i izvorima'!I104 -> 500 | J65: ='Prihodi po ek klas i izvorima'!J104 -> 500
C66: 67 | D66: Prihodi iz nadležnog proračuna i HZZOa | E66: =SUM(E67,E72) -> #REF! | F66: =SUM(F67,F72) -> #REF! | G66: =SUM(G67,G72) -> 20999128 | H66: =SUM(H67,H72) -> 21370356 | I66: =SUM(I67,I72) -> 22097637 | J66: =SUM(J67,J72) -> 22577187
C67: 671 | D67: Prihodi iz nadležnog proračuna za financiranje redovne djelatnosti proračunskih korisnika | E67: =E68+E70 -> #REF! | F67: =F68+F70 -> #REF! | G67: =G68+G70 -> 879378.02 | H67: =H68+H70 -> 1250606 | I67: =I68+I70 -> 1250606 | J67: =J68+J70 -> 1250606
C68: 6711 | D68: Prihodi iz nadležnog proračuna za financiranje rashoda poslovanja | E68: =SUM(E69) -> 0 | F68: =SUM(F69) -> 0 | G68: =SUM(G69) -> 603978.02 | H68: =SUM(H69) -> 481103.03 | I68: =SUM(I69) -> 481103.03 | J68: =SUM(J69) -> 481103.03
C69: 67111 | D69: Prihodi iz nadležnog proračuna za financiranje rashoda poslovanja | E69: ='Prihodi po ek klas i izvorima'!E12 -> 0 | F69: ='Prihodi po ek klas i izvorima'!F12 -> 0 | G69: ='Prihodi po ek klas i izvorima'!G12 -> 603978.02 | H69: ='Prihodi po ek klas i izvorima'!H12 -> 481103.03 | I69: ='Prihodi po ek klas i izvorima'!I12 -> 481103.03 | J69: ='Prihodi po ek klas i izvorima'!J12 -> 481103.03
C70: 6712 | D70: Prihodi iz nadležnog proračuna za nabavu nefinancijske imovine | E70: =SUM(E71) -> #REF! | F70: =SUM(F71) -> #REF! | G70: =SUM(G71) -> 275400 | H70: =SUM(H71) -> 769502.99 | I70: =SUM(I71) -> 769502.99 | J70: =SUM(J71) -> 769502.99
C71: 67121 | D71: Prihodi iz nadležnog proračuna za nabavu nefinancijske imovine | E71: ='Prihodi po ek klas i izvorima'!#REF! -> #REF! | F71: ='Prihodi po ek klas i izvorima'!#REF! -> #REF! | G71: ='Prihodi po ek klas i izvorima'!G14 -> 275400 | H71: ='Prihodi po ek klas i izvorima'!H14 -> 769502.99 | I71: ='Prihodi po ek klas i izvorima'!I14 -> 769502.99 | J71: ='Prihodi po ek klas i izvorima'!J14 -> 769502.99
C72: 673 | D72: Prihodi od HZZO-a | E72: =SUM(E73) -> 0 | F72: =SUM(F73) -> 0 | G72: =SUM(G73) -> 20119750 | H72: =SUM(H73) -> 20119750 | I72: =SUM(I73) -> 20847031 | J72: =SUM(J73) -> 21326581
C73: 6731 | D73: Prihodi od HZZO-a temeljem ugovora | E73: =E74 -> 0 | F73: =F74 -> 0 | G73: =G74 -> 20119750 | H73: =H74 -> 20119750 | I73: =I74 -> 20847031 | J73: =J74 -> 21326581
C74: 67311 | D74: Prihodi od HZZO-a temeljem ugovora | E74: ='Prihodi po ek klas i izvorima'!E61 -> 0 | F74: ='Prihodi po ek klas i izvorima'!F61 -> 0 | G74: ='Prihodi po ek klas i izvorima'!G61 -> 20119750 | H74: ='Prihodi po ek klas i izvorima'!H61 -> 20119750 | I74: ='Prihodi po ek klas i izvorima'!I61 -> 20847031 | J74: ='Prihodi po ek klas i izvorima'!J61 -> 21326581
C75: 68 | D75: Kazne, upravne mjere i ostali prihodi | E75: =SUM(E76) -> 0 | F75: =SUM(F76) -> 0 | G75: =SUM(G76) -> 164000 | H75: =SUM(H76) -> 164000 | I75: =SUM(I76) -> 169620 | J75: =SUM(J76) -> 170252.4
C76: 683 | D76: Ostali prihodi | E76: =E77 -> 0 | F76: =F77 -> 0 | G76: =G77 -> 164000 | H76: =H77 -> 164000 | I76: =I77 -> 169620 | J76: =J77 -> 170252.4
C77: 6831 | D77: Ostali prihodi | E77: =E78+E79+E80 -> 0 | F77: =F78+F79+F80 -> 0 | G77: =G78+G79+G80 -> 164000 | H77: =H78+H79+H80 -> 164000 | I77: =I78+I79+I80 -> 169620 | J77: =J78+J79+J80 -> 170252.4
C78: 68311 | D78: Ostali prihodi | E78: ='Prihodi po ek klas i izvorima'!E40+'Prihodi po ek klas i izvorima'!E65 -> 0 | F78: ='Prihodi po ek klas i izvorima'!F40+'Prihodi po ek klas i izvorima'!F65 -> 0 | G78: ='Prihodi po ek klas i izvorima'!G40+'Prihodi po ek klas i izvorima'!G65 -> 136000 | H78: ='Prihodi po ek klas i izvorima'!H40+'Prihodi po ek klas i izvorima'!H65 -> 136000 | I78: ='Prihodi po ek klas i izvorima'!I40+'Prihodi po ek klas i izvorima'!I65 -> 141000 | J78: ='Prihodi po ek klas i izvorima'!J40+'Prihodi po ek klas i izvorima'!J65 -> 141000
C79: 68312 | D79: Ostali prihodi-od inventurnih viškova | E79: ='Prihodi po ek klas i izvorima'!E41 -> 0 | F79: ='Prihodi po ek klas i izvorima'!F41 -> 0 | G79: ='Prihodi po ek klas i izvorima'!G41 -> 3000 | H79: ='Prihodi po ek klas i izvorima'!H41 -> 3000 | I79: ='Prihodi po ek klas i izvorima'!I41 -> 3000 | J79: ='Prihodi po ek klas i izvorima'!J41 -> 3000
C80: 68313 | D80: Ostali prihodi od veleprodajnih i akcijskih rabata | E80: ='Prihodi po ek klas i izvorima'!E42 -> 0 | F80: ='Prihodi po ek klas i izvorima'!F42 -> 0 | G80: ='Prihodi po ek klas i izvorima'!G42 -> 25000 | H80: ='Prihodi po ek klas i izvorima'!H42 -> 25000 | I80: ='Prihodi po ek klas i izvorima'!I42 -> 25620 | J80: ='Prihodi po ek klas i izvorima'!J42 -> 26252.4
B81: 7 | D81: Prihodi od prodaje nefinancijske imovine | E81: =SUM(E82) -> 0 | F81: =SUM(F82) -> 0 | G81: =SUM(G82) -> 1300 | H81: =SUM(H82) -> 1300 | I81: =SUM(I82) -> 0 | J81: =SUM(J82) -> 0
C82: 72 | D82: Prihodi od prodaje proizvedene dugotrajne imovine | E82: =SUM(E83,E86) -> 0 | F82: =SUM(F83,F86) -> 0 | G82: =SUM(G83,G86) -> 1300 | H82: =SUM(H83,H86) -> 1300 | I82: =SUM(I83,I86) -> 0 | J82: =SUM(J83,J86) -> 0
C83: 721 | D83: Prihodi od prodaje građevinskih objekata | E83: =E84 -> 0 | F83: =F84 -> 0 | G83: =G84 -> 1300 | H83: =H84 -> 1300 | I83: =I84 -> 0 | J83: =J84 -> 0
C84: 7211 | D84: Stambeni objekti | E84: =E85 -> 0 | F84: =F85 -> 0 | G84: =G85 -> 1300 | H84: =H85 -> 1300 | I84: =I85 -> 0 | J84: =J85 -> 0
C85: 72111 | D85: Stambeni objekti za zaposlene | E85: ='Prihodi po ek klas i izvorima'!E116 -> 0 | F85: ='Prihodi po ek klas i izvorima'!F116 -> 0 | G85: ='Prihodi po ek klas i izvorima'!G116 -> 1300 | H85: ='Prihodi po ek klas i izvorima'!H116 -> 1300 | I85: ='Prihodi po ek klas i izvorima'!I116 -> 0 | J85: ='Prihodi po ek klas i izvorima'!J116 -> 0
C86: 723 | D86: Prihodi od prodaje prijevoznih sredstava | E86: =E87 -> 0 | F86: =F87 -> 0 | H86: =H87 -> 0 | I86: =I87 -> 0 | J86: =J87 -> 0
C87: 7231 | D87: Prijevozna sredstva u cestovnom prometu | E87: ='Prihodi po ek klas i izvorima'!E118 -> 0 | F87: ='Prihodi po ek klas i izvorima'!F118 -> 0 | H87: ='Prihodi po ek klas i izvorima'!H118 -> 0 | I87: ='Prihodi po ek klas i izvorima'!I118 -> 0 | J87: ='Prihodi po ek klas i izvorima'!J118 -> 0
B88: UKUPNO PRIHODI I PRIMICI: | E88: =E10+E81 -> #REF! | F88: =F10+F81 -> #REF! | G88: =G10+G81 -> 27029768 | H88: =H10+H81 -> 27400996 | I88: =I10+I81 -> 28076192 | J88: =J10+J81 -> 28547128

Sheet RASHODI-ek.kl.
A1: I. OPĆI DIO
A2: A. RAČUN PRIHODA I RASHODA
A4: RASHODI PREMA EKONOMSKOJ KLASIFIKACIJI
A7: PRIHODI POSLOVANJA
A8: Razred | B8: Skupina/podskupina/odjeljak | C8: Naziv | G8: Izvršenje prethodne godine I.-VI. 2022. | H8: REBALANS 2023. | I8: Izvršenje tekuće godine I.-VI. 2023
A9: 1 | G9: 2 | H9: 3 | I9: 4
A10: 6 | G10: =G11+G26+G30+G33+G40+G43 -> 24659146 | H10: =H11+H26+H30+H33+H40+H43 -> 63888652 | I10: =I11+I26+I30+I33+I40+I43 -> 30834919
B11: 63 | C11: Pomoći | G11: =G12+G14+G17+G19+G21+G24 -> 324811.47 | H11: =SUM(H12,H14,H17,H19,H21,H24) -> 639378.86 | I11: =SUM(I12,I14,I17,I19,I21,I24) -> 1892796.8
B12: 632 | C12: Pomoći od međunaodnih organizacija te institucija i tijela EU | G12: =SUM(G13) -> 0 | H12: =SUM(H13) -> 0 | I12: =SUM(I13) -> 0
B13: 6324 | C13: Kapitalne pomoći od instucija i tijela EU | G13: 0 | H13: 0 | I13: 0
B14: 633 | C14: Pomoć proračunu iz drugih proračuna | G14: =SUM(G15:G16) -> 50556.109 | H14: =SUM(H15:H16) -> 0 | I14: =SUM(I15:I16) -> 0
B15: 6331 | C15: Tekuća pomoć proračunu iz drugih proračuna | G15: =380915/7.5345 -> 50556.109 | H15: 0 | I15: 0
B16: 6332 | C16: Kapitalna pomoć proračunu iz drugih proračuna | G16: 0 | H16: 0 | I16: 0
B17: 634 | C17: Pomoći od izvanproračunskih korisnika | G17: =SUM(G18) -> 111981.95 | H17: =SUM(H18) -> 366500.76 | I17: =SUM(I18) -> 1829292.8
B18: 6341 | C18: Tekuće pomoći od HZZ-a, HZZO-a | G18: =843728/7.5345 -> 111981.95 | H18: 366500.76 | I18: 1829292.8
B19: 636 | C19: Pomoć proračunskim korisnicima iz prorač.koji im nije nadležan | G19: =SUM(G20) -> 54857.124 | H19: =SUM(H20) -> 796.34 | I19: =SUM(I20) -> 45490.31
B20: 6361 | C20: Tekuće pomoći iz državnog prorač. prorač.korisnicima JLP(R)S | G20: =413321/7.5345 -> 54857.124 | H20: =796.34 -> 796.34 | I20: 45490.31
B21: 638 | C21: Pomoć temeljem prijenosa EU | G21: =SUM(G22:G23) -> 107244.81 | H21: =SUM(H23) -> 272081.76 | I21: =SUM(I23) -> 18013.71
B22: 6381 | C22: Tekuće pomoći temeljem prijenosa EU sredstava | G22: =493624/7.5345 -> 65515.164 | H22: 0 | I22: 0
B23: 6382 | C23: kapitalna pomoć temeljem prijenosa EU | G23: =314412/7.5345 -> 41729.644 | H23: 272081.76 | I23: 18013.71
B24: 639 | C24: Prijenosi između proračunskih korisnika | G24: =SUM(G25) -> 171.47787 | H24: =SUM(H25) -> 0 | I24: =SUM(I25) -> 0
B25: 6391 | C25: Tekući prijenosi između proračunskih korisnika | G25: =1292/7.5345 -> 171.47787 | H25: 0 | I25: 0
B26: 64 | C26: Prihodi od imovine | G26: =SUM(G27:G29) -> 50144.535 | H26: =SUM(H27:H29) -> 120462.42 | I26: =SUM(I27:I29) -> 55180.92
B27: 6413 | C27: Kamate na oročena sredstva i depozite po viđenju | G27: =439/7.5345 -> 58.265313 | H27: 746.44 | I27: 204.07
B28: 6419 | C28: Ostali prihode o financijske imovine | G28: =376342/7.5345 -> 49949.167 | H28: 119450.53 | I28: 54839.75
B29: 6429 | C29: Ostali prihodi od nefinancijske imovine | G29: =1033/7.5345 -> 137.10266 | H29: =265.45 -> 265.45 | I29: 137.1
B30: 65 | C30: Prihodi po posebnim propisima | G30: =G31 -> 1523828.4 | H30: =SUM(H31) -> 6950029.9 | I30: =SUM(I31) -> 1963072.3
B31: 652 | C31: Prihodi po posebnim propisima | G31: =SUM(G32) -> 1523828.4 | H31: =SUM(H32) -> 6950029.9 | I31: =SUM(I32) -> 1963072.3
B32: 6526 | C32: Ostali nespomenuti prihodi (participacija) | G32: =11481285/7.5345 -> 1523828.4 | H32: =6950029.86 -> 6950029.9 | I32: 1963072.3
B33: 66 | C33: Prihodi od prodaje i donacija | G33: =G34+G37 -> 1701559.2 | H33: =SUM(H34,H37) -> 3641484.9 | I33: =SUM(I34,I37) -> 1739052
B34: 661 | C34: Prihodi od prodaje roba i pruženih usluga (vlastiti prihodi) | G34: =SUM(G35:G36) -> 1677912 | H34: =SUM(H36,H35) -> 3521370.8 | I34: =SUM(I36,I35) -> 1704828
B35: 6614 | C35: Prihodi od prodaje proizvoda i robe | G35: =6216809/7.5345 -> 825112.35 | H35: 1725396.5 | I35: 916985.05
B36: 6615 | C36: Prihodi od pruženih usluga | G36: =6425419/7.5345 -> 852799.65 | H36: 1795974.2 | I36: 787842.97
B37: 663 | C37: Donacije od pravnih i fizičkih osoba izvan proračuna | G37: =SUM(G38:G39) -> 23647.223 | H37: =SUM(H38:H39) -> 120114.13 | I37: =SUM(I38:I39) -> 34224
B38: 6631 | C38: Tekuće donacije | G38: =5000/7.5345 -> 663.61404 | H38: 53752.73 | I38: =5600+1310 -> 6910
B39: 6632 | C39: Kapitalne donacije | G39: =173170/7.5345 -> 22983.609 | H39: 66361.4 | I39: 27314
B40: 67 | C40: Prihodi iz nadležnog proračuna i HZZOa | G40: =SUM(G41) -> 20985600 | H40: =SUM(H41) -> 52367289 | I40: =SUM(I41) -> 24656056
B41: 673 | C41: Prihodi od HZZO-a | G41: =SUM(G42) -> 20985600 | H41: =SUM(H42) -> 52367289 | I41: =SUM(I42) -> 24656056
B42: 6731 | C42: Prihodi od HZZO-a temeljem ugovora | G42: =158116000/7.5345 -> 20985600 | H42: 52367289 | I42: 24656056
B43: 68 | C43: Kazne, upravne mjere i ostali prihodi | G43: =SUM(G44) -> 73202.601 | H43: =SUM(H44) -> 170007.44 | I43: =SUM(I44) -> 528760.56
B44: 683 | C44: Ostali prihodi | G44: =SUM(G45) -> 73202.601 | H44: =SUM(H45) -> 170007.44 | I44: =SUM(I45) -> 528760.56
B45: 6831 | C45: Ostali prihodi | G45: =551545/7.5345 -> 73202.601 | H45: 170007.44 | I45: 528760.56
A46: 7 | C46: Prihodi od prodaje nefinancijske imovine | G46: =G48 -> 206.78214 | H46: =SUM(H47) -> 7432.48 | I46: =SUM(I47) -> 18031
B47: 72 | C47: Prihodi od prodaje proizvedene dugotrajne imovine | G47: =SUM(G48) -> 206.78214 | H47: =SUM(H48) -> 7432.48 | I47: =SUM(I48) -> 18031
B48: 721 | C48: Prihodi od prodaje građevinskih objekata | G48: =SUM(G49) -> 206.78214 | H48: =SUM(H49,H50) -> 7432.48 | I48: =SUM(I49,I50) -> 18031
B49: 7211 | C49: Stambeni objekti | G49: =1558/7.5345 -> 206.78214 | H49: 796.34 | I49: 18031
B50: 7231 | C50: Prijevozna sredstva u cestovnom prometu | G50: 0 | H50: 6636.14 | I50: 0
A51: UKUPNO PRIHODI I PRIMICI: | G51: =G10+G46 -> 24659353 | H51: =H10+H46 -> 63896085 | I51: =I10+I46 -> 30852950
A54: RASHODI POSLOVANJA
A55: Razred | B55: Skupina/podskupina/odjeljak | C55: Naziv | D55: IZVRŠENJE 2024. | E55: TEKUĆI PLAN ZA 2025. | F55: PLAN ZA 2026. REBALANS I | G55: PLAN ZA 2026. | H55: PROJEKCIJA ZA 2027. | I55: PROJEKCIJA ZA 2028.
A56: 1 | G56: 2 | H56: 3 | I56: 4
A57: 3 | C57: RASHODI POSLOVANJA | D57: =D58+D81+D202+D215+D219+D224 -> #REF! | E57: =E58+E81+E202+E215+E219+E224 -> #REF! | F57: =F58+F81+F202+F215+F219+F224 -> 26423403 | G57: =G58+G81+G202+G215+G219+G224 -> 26300528 | H57: =H58+H81+H202+H215+H219+H224 -> 26565803 | I57: =I58+I81+I202+I215+I219+I224 -> 26806376
B58: 31 | C58: Rashodi za zaposlene | D58: =SUM(D59,D66,D75) -> #REF! | E58: =SUM(E59,E66,E75) -> #REF! | F58: =SUM(F59,F66,F75) -> 15939836 | G58: =SUM(G59,G66,G75) -> 15852232 | H58: =SUM(H59,H66,H75) -> 15926606 | I58: =SUM(I59,I66,I75) -> 15987259
B59: 311 | C59: Plaće (Bruto) | D59: =D60+D64+#REF! -> #REF! | E59: =E60+E64+#REF! -> #REF! | F59: =F60+F64 -> 13264985 | G59: =G60+G64 -> 13264985 | H59: =H60+H64 -> 13263565 | I59: =I60+I64 -> 13259961
B60: 3111 | C60: Plaće za redovan rad | D60: =D61+D62 -> #REF! | E60: =E61+E62 -> #REF! | F60: =F61+F62 -> 13094985 | G60: =G61+G62 -> 13094985 | H60: =H61+H62 -> 13086565 | I60: =I61+I62 -> 13075961
B61: 31111 | C61: Plaće za redovan rad | D61: =' PRIHODI I RASHODI-izvori'!E15+' PRIHODI I RASHODI-izvori'!E250+' PRIHODI I RASHODI-izvori'!E113+' PRIHODI I RASHODI-izvori'!E459 -> #REF! | E61: =' PRIHODI I RASHODI-izvori'!F15+' PRIHODI I RASHODI-izvori'!F250+' PRIHODI I RASHODI-izvori'!F113+' PRIHODI I RASHODI-izvori'!F459 -> #REF! | F61: =' PRIHODI I RASHODI-izvori'!G15+' PRIHODI I RASHODI-izvori'!G113+' PRIHODI I RASHODI-izvori'!G250+' PRIHODI I RASHODI-izvori'!G459+' PRIHODI I RASHODI-izvori'!G501+' PRIHODI I RASHODI-izvori'!G522 -> 13093185 | G61: =' PRIHODI I RASHODI-izvori'!H15+' PRIHODI I RASHODI-izvori'!H113+' PRIHODI I RASHODI-izvori'!H250+' PRIHODI I RASHODI-izvori'!H459+' PRIHODI I RASHODI-izvori'!H501+' PRIHODI I RASHODI-izvori'!H522 -> 13093185 | H61: =' PRIHODI I RASHODI-izvori'!I15+' PRIHODI I RASHODI-izvori'!I113+' PRIHODI I RASHODI-izvori'!I250+' PRIHODI I RASHODI-izvori'!I459+' PRIHODI I RASHODI-izvori'!I501+' PRIHODI I RASHODI-izvori'!I522 -> 13084765 | I61: =' PRIHODI I RASHODI-izvori'!J15+' PRIHODI I RASHODI-izvori'!J113+' PRIHODI I RASHODI-izvori'!J250+' PRIHODI I RASHODI-izvori'!J459+' PRIHODI I RASHODI-izvori'!J501+' PRIHODI I RASHODI-izvori'!J522 -> 13074161
B62: 31113 | C62: Plaće po sudskim presudama | D62: =' PRIHODI I RASHODI-izvori'!E251 -> 0 | E62: =' PRIHODI I RASHODI-izvori'!F251 -> 0 | F62: =' PRIHODI I RASHODI-izvori'!G251 -> 1800 | G62: =' PRIHODI I RASHODI-izvori'!H251 -> 1800 | H62: =' PRIHODI I RASHODI-izvori'!I251 -> 1800 | I62: =' PRIHODI I RASHODI-izvori'!J251 -> 1800
B63: 3112 | C63: Plaće u naravi
B64: 3113 | C64: Plaće za prekovremeni rad | D64: =D65 -> 0 | E64: =E65 -> 0 | F64: =F65 -> 170000 | G64: =G65 -> 170000 | H64: =H65 -> 177000 | I64: =I65 -> 184000
B65: 31131 | C65: Plaće za prekovremeni rad | D65: =' PRIHODI I RASHODI-izvori'!E254 -> 0 | E65: =' PRIHODI I RASHODI-izvori'!F254 -> 0 | F65: =' PRIHODI I RASHODI-izvori'!G254 -> 170000 | G65: =' PRIHODI I RASHODI-izvori'!H254 -> 170000 | H65: =' PRIHODI I RASHODI-izvori'!I254 -> 177000 | I65: =' PRIHODI I RASHODI-izvori'!J254 -> 184000
B66: 312 | C66: Ostali rashodi za zaposlene | D66: =SUM(D67) -> #REF! | E66: =SUM(E67) -> #REF! | F66: =SUM(F67) -> 520423.69 | G66: =SUM(G67) -> 514027.1 | H66: =SUM(H67) -> 534181.55 | I66: =SUM(I67) -> 553478.37
B67: 3121 | C67: Ostali rashodi za zaposlene | D67: =SUM(D68:D74) -> #REF! | E67: =SUM(E68:E74) -> #REF! | F67: =SUM(F68:F74) -> 520423.69 | G67: =SUM(G68:G74) -> 514027.1 | H67: =SUM(H68:H74) -> 534181.55 | I67: =SUM(I68:I74) -> 553478.37
B68: 31212 | C68: Ostali rashodi za zaposlene-nagrade | D68: =' PRIHODI I RASHODI-izvori'!E259 -> 0 | E68: =' PRIHODI I RASHODI-izvori'!F259 -> 0 | F68: =' PRIHODI I RASHODI-izvori'!G259 -> 124500 | G68: =' PRIHODI I RASHODI-izvori'!H259 -> 124500 | H68: =' PRIHODI I RASHODI-izvori'!I259 -> 128000 | I68: =' PRIHODI I RASHODI-izvori'!J259 -> 131500
B69: 31213 | C69: Darovi | D69: =' PRIHODI I RASHODI-izvori'!E260+' PRIHODI I RASHODI-izvori'!E120+' PRIHODI I RASHODI-izvori'!#REF! -> #REF! | E69: =' PRIHODI I RASHODI-izvori'!F260+' PRIHODI I RASHODI-izvori'!F120+' PRIHODI I RASHODI-izvori'!#REF! -> #REF! | F69: =' PRIHODI I RASHODI-izvori'!G120+' PRIHODI I RASHODI-izvori'!G260+' PRIHODI I RASHODI-izvori'!G525 -> 36000 | G69: =' PRIHODI I RASHODI-izvori'!H120+' PRIHODI I RASHODI-izvori'!H260+' PRIHODI I RASHODI-izvori'!H525 -> 36000 | H69: =' PRIHODI I RASHODI-izvori'!I120+' PRIHODI I RASHODI-izvori'!I260+' PRIHODI I RASHODI-izvori'!I525 -> 38250 | I69: =' PRIHODI I RASHODI-izvori'!J120+' PRIHODI I RASHODI-izvori'!J260+' PRIHODI I RASHODI-izvori'!J525 -> 40550
B70: 31214 | C70: Otpremnine | D70: =' PRIHODI I RASHODI-izvori'!E261+' PRIHODI I RASHODI-izvori'!E121 -> 0 | E70: =' PRIHODI I RASHODI-izvori'!F261+' PRIHODI I RASHODI-izvori'!F121 -> 0 | F70: =' PRIHODI I RASHODI-izvori'!G261+' PRIHODI I RASHODI-izvori'!G121 -> 43000 | G70: =' PRIHODI I RASHODI-izvori'!H261+' PRIHODI I RASHODI-izvori'!H121 -> 43000 | H70: =' PRIHODI I RASHODI-izvori'!I261+' PRIHODI I RASHODI-izvori'!I121 -> 45000 | I70: =' PRIHODI I RASHODI-izvori'!J261+' PRIHODI I RASHODI-izvori'!J121 -> 47000
B71: 31215 | C71: Naknade za bolest, invalidnost i smrt | D71: =' PRIHODI I RASHODI-izvori'!E262+' PRIHODI I RASHODI-izvori'!E122 -> 0 | E71: =' PRIHODI I RASHODI-izvori'!F262+' PRIHODI I RASHODI-izvori'!F122 -> 0 | F71: =' PRIHODI I RASHODI-izvori'!G262+' PRIHODI I RASHODI-izvori'!G122 -> 23800 | G71: =' PRIHODI I RASHODI-izvori'!H262+' PRIHODI I RASHODI-izvori'!H122 -> 23800 | H71: =' PRIHODI I RASHODI-izvori'!I262+' PRIHODI I RASHODI-izvori'!I122 -> 26000 | I71: =' PRIHODI I RASHODI-izvori'!J262+' PRIHODI I RASHODI-izvori'!J122 -> 28200
B72: 31216 | C72: Regres za godišnji odmor | D72: =' PRIHODI I RASHODI-izvori'!E263+' PRIHODI I RASHODI-izvori'!#REF!+' PRIHODI I RASHODI-izvori'!E123 -> #REF! | E72: =' PRIHODI I RASHODI-izvori'!F263+' PRIHODI I RASHODI-izvori'!#REF!+' PRIHODI I RASHODI-izvori'!F123 -> #REF! | F72: =' PRIHODI I RASHODI-izvori'!G123+' PRIHODI I RASHODI-izvori'!G263+' PRIHODI I RASHODI-izvori'!G526 -> 139250 | G72: =' PRIHODI I RASHODI-izvori'!H123+' PRIHODI I RASHODI-izvori'!H263+' PRIHODI I RASHODI-izvori'!H526 -> 139250 | H72: =' PRIHODI I RASHODI-izvori'!I123+' PRIHODI I RASHODI-izvori'!I263+' PRIHODI I RASHODI-izvori'!I526 -> 143250 | I72: =' PRIHODI I RASHODI-izvori'!J123+' PRIHODI I RASHODI-izvori'!J263+' PRIHODI I RASHODI-izvori'!J526 -> 146950
B73: 31217 | C73: Božićnica, uskrsnica | D73: =' PRIHODI I RASHODI-izvori'!E124+' PRIHODI I RASHODI-izvori'!#REF! -> #REF! | E73: =' PRIHODI I RASHODI-izvori'!F124+' PRIHODI I RASHODI-izvori'!#REF! -> #REF! | F73: =' PRIHODI I RASHODI-izvori'!G124+' PRIHODI I RASHODI-izvori'!G527 -> 65000 | G73: =' PRIHODI I RASHODI-izvori'!H124+' PRIHODI I RASHODI-izvori'!H527 -> 65000 | H73: =' PRIHODI I RASHODI-izvori'!I124+' PRIHODI I RASHODI-izvori'!I527 -> 66200 | I73: =' PRIHODI I RASHODI-izvori'!J124+' PRIHODI I RASHODI-izvori'!J527 -> 67480
B74: 31219 | C74: Ostali nenavedeni rashodi za zaposlene | D74: =' PRIHODI I RASHODI-izvori'!E264+' PRIHODI I RASHODI-izvori'!E125+' PRIHODI I RASHODI-izvori'!#REF! -> #REF! | E74: =' PRIHODI I RASHODI-izvori'!F264+' PRIHODI I RASHODI-izvori'!F125+' PRIHODI I RASHODI-izvori'!#REF! -> #REF! | F74: =' PRIHODI I RASHODI-izvori'!G18+' PRIHODI I RASHODI-izvori'!G125+' PRIHODI I RASHODI-izvori'!G264+' PRIHODI I RASHODI-izvori'!G528 -> 88873.69 | G74: =' PRIHODI I RASHODI-izvori'!H18+' PRIHODI I RASHODI-izvori'!H125+' PRIHODI I RASHODI-izvori'!H264+' PRIHODI I RASHODI-izvori'!H528 -> 82477.1 | H74: =' PRIHODI I RASHODI-izvori'!I18+' PRIHODI I RASHODI-izvori'!I125+' PRIHODI I RASHODI-izvori'!I264+' PRIHODI I RASHODI-izvori'!I528 -> 87481.55 | I74: =' PRIHODI I RASHODI-izvori'!J18+' PRIHODI I RASHODI-izvori'!J125+' PRIHODI I RASHODI-izvori'!J264+' PRIHODI I RASHODI-izvori'!J528 -> 91798.37
B75: 313 | C75: Doprinosi na plaće | D75: =D76+D77+D79 -> #REF! | E75: =E76+E77+E79 -> #REF! | F75: =F76+F77+F79 -> 2154427.6 | G75: =G76+G77+G79 -> 2073219.9 | H75: =H76+H77+H79 -> 2128859.6 | I75: =I76+I77+I79 -> 2173819.3
B76: 3131 | C76: Doprinosi za mirovinsko osiguranje
B77: 3132 | C77: Doprinosi za obavezno zdravst.osig. | D77: =D78 -> #REF! | E77: =E78 -> #REF! | F77: =F78 -> 2154427.6 | G77: =G78 -> 2073219.9 | H77: =H78 -> 2128859.6 | I77: =I78 -> 2173819.3
B78: 31321 | C78: Doprinosi za obavezno zdravst.osig. | D78: =' PRIHODI I RASHODI-izvori'!E21+' PRIHODI I RASHODI-izvori'!E267+' PRIHODI I RASHODI-izvori'!E128+' PRIHODI I RASHODI-izvori'!E462 -> #REF! | E78: =' PRIHODI I RASHODI-izvori'!F21+' PRIHODI I RASHODI-izvori'!F267+' PRIHODI I RASHODI-izvori'!F128+' PRIHODI I RASHODI-izvori'!F462 -> #REF! | F78: =' PRIHODI I RASHODI-izvori'!G21+' PRIHODI I RASHODI-izvori'!G128+' PRIHODI I RASHODI-izvori'!G267+' PRIHODI I RASHODI-izvori'!G462+' PRIHODI I RASHODI-izvori'!G531 -> 2154427.6 | G78: =' PRIHODI I RASHODI-izvori'!H21+' PRIHODI I RASHODI-izvori'!H128+' PRIHODI I RASHODI-izvori'!H267+' PRIHODI I RASHODI-izvori'!H462+' PRIHODI I RASHODI-izvori'!H531 -> 2073219.9 | H78: =' PRIHODI I RASHODI-izvori'!I21+' PRIHODI I RASHODI-izvori'!I128+' PRIHODI I RASHODI-izvori'!I267+' PRIHODI I RASHODI-izvori'!I462+' PRIHODI I RASHODI-izvori'!I531 -> 2128859.6 | I78: =' PRIHODI I RASHODI-izvori'!J21+' PRIHODI I RASHODI-izvori'!J128+' PRIHODI I RASHODI-izvori'!J267+' PRIHODI I RASHODI-izvori'!J462+' PRIHODI I RASHODI-izvori'!J531 -> 2173819.3
B79: 3133 | C79: Doprinosi za zapošljavanje | D79: =D80 -> 0 | E79: =E80 -> 0 | G79: =G80 -> 0 | H79: =H80 -> 0 | I79: =I80 -> 0
B80: 31332 | C80: Doprinosi u slučaju nezaposlenosti | D80: =' PRIHODI I RASHODI-izvori'!E269 -> 0 | E80: =' PRIHODI I RASHODI-izvori'!F269 -> 0 | G80: =' PRIHODI I RASHODI-izvori'!H269 -> 0 | H80: =' PRIHODI I RASHODI-izvori'!I269 -> 0 | I80: =' PRIHODI I RASHODI-izvori'!J269 -> 0
B81: 32 | C81: Materijalni rashodi | D81: =D82+D96+D125+D169+D172+D180 -> #REF! | E81: =E82+E96+E125+E169+E172+E180 -> #REF! | F81: =F82+F96+F125+F169+F172+F180 -> 10443892 | G81: =G82+G96+G125+G169+G172+G180 -> 10408621 | H81: =H82+H96+H125+H169+H172+H180 -> 10601105 | I81: =I82+I96+I125+I169+I172+I180 -> 10780504
B82: 321 | C82: Naknade troškova zaposlenima | D82: =D83+D88+D91+D94 -> #REF! | E82: =E83+E88+E91+E94 -> #REF! | F82: =F83+F88+F91+F94 -> 440172.59 | G82: =G83+G88+G91+G94 -> 440172.59 | H82: =H83+H88+H91+H94 -> 446278.14 | I82: =I83+I88+I91+I94 -> 446091.08
B83: 3211 | C83: Službena putovanja | D83: =SUM(D84:D87) -> #REF! | E83: =SUM(E84:E87) -> #REF! | F83: =SUM(F84:F87) -> 32935.94 | G83: =SUM(G84:G87) -> 32935.94 | H83: =SUM(H84:H87) -> 32375.94 | I83: =SUM(I84:I87) -> 29703.57
B84: 32111 | C84: Dnevnice za službeni put u zemlji | D84: =' PRIHODI I RASHODI-izvori'!E273+' PRIHODI I RASHODI-izvori'!E466+' PRIHODI I RASHODI-izvori'!E558+' PRIHODI I RASHODI-izvori'!E132+' PRIHODI I RASHODI-izvori'!E25 -> #REF! | E84: =' PRIHODI I RASHODI-izvori'!F273+' PRIHODI I RASHODI-izvori'!F466+' PRIHODI I RASHODI-izvori'!F558+' PRIHODI I RASHODI-izvori'!F132+' PRIHODI I RASHODI-izvori'!F25 -> #REF! | F84: =' PRIHODI I RASHODI-izvori'!G25+' PRIHODI I RASHODI-izvori'!G132+' PRIHODI I RASHODI-izvori'!G273+' PRIHODI I RASHODI-izvori'!G466+' PRIHODI I RASHODI-izvori'!G505+' PRIHODI I RASHODI-izvori'!G535+' PRIHODI I RASHODI-izvori'!G558 -> 19322.33 | G84: =' PRIHODI I RASHODI-izvori'!H25+' PRIHODI I RASHODI-izvori'!H132+' PRIHODI I RASHODI-izvori'!H273+' PRIHODI I RASHODI-izvori'!H466+' PRIHODI I RASHODI-izvori'!H505+' PRIHODI I RASHODI-izvori'!H535+' PRIHODI I RASHODI-izvori'!H558 -> 19322.33 | H84: =' PRIHODI I RASHODI-izvori'!I25+' PRIHODI I RASHODI-izvori'!I132+' PRIHODI I RASHODI-izvori'!I273+' PRIHODI I RASHODI-izvori'!I466+' PRIHODI I RASHODI-izvori'!I505+' PRIHODI I RASHODI-izvori'!I535+' PRIHODI I RASHODI-izvori'!I558 -> 19322.33 | I84: =' PRIHODI I RASHODI-izvori'!J25+' PRIHODI I RASHODI-izvori'!J132+' PRIHODI I RASHODI-izvori'!J273+' PRIHODI I RASHODI-izvori'!J466+' PRIHODI I RASHODI-izvori'!J505+' PRIHODI I RASHODI-izvori'!J535+' PRIHODI I RASHODI-izvori'!J558 -> 16209.96
B85: 32113 | C85: Naknade za smještaj na službenom putu u zemlji | D85: =' PRIHODI I RASHODI-izvori'!E274+' PRIHODI I RASHODI-izvori'!E467+' PRIHODI I RASHODI-izvori'!E133 -> #REF! | E85: =' PRIHODI I RASHODI-izvori'!F274+' PRIHODI I RASHODI-izvori'!F467+' PRIHODI I RASHODI-izvori'!F133 -> #REF! | F85: =' PRIHODI I RASHODI-izvori'!G133+' PRIHODI I RASHODI-izvori'!G274+' PRIHODI I RASHODI-izvori'!G467+' PRIHODI I RASHODI-izvori'!G536 -> 7600 | G85: =' PRIHODI I RASHODI-izvori'!H133+' PRIHODI I RASHODI-izvori'!H274+' PRIHODI I RASHODI-izvori'!H467+' PRIHODI I RASHODI-izvori'!H536 -> 7600 | H85: =' PRIHODI I RASHODI-izvori'!I133+' PRIHODI I RASHODI-izvori'!I274+' PRIHODI I RASHODI-izvori'!I467+' PRIHODI I RASHODI-izvori'!I536 -> 7200 | I85: =' PRIHODI I RASHODI-izvori'!J133+' PRIHODI I RASHODI-izvori'!J274+' PRIHODI I RASHODI-izvori'!J467+' PRIHODI I RASHODI-izvori'!J536 -> 7400
B86: 32115 | C86: Naknade za prijevoz na službenom putu u zemlji | D86: =' PRIHODI I RASHODI-izvori'!E275+' PRIHODI I RASHODI-izvori'!E134+' PRIHODI I RASHODI-izvori'!E559+' PRIHODI I RASHODI-izvori'!E468 -> #REF! | E86: =' PRIHODI I RASHODI-izvori'!F275+' PRIHODI I RASHODI-izvori'!F134+' PRIHODI I RASHODI-izvori'!F559+' PRIHODI I RASHODI-izvori'!F468 -> #REF! | F86: =' PRIHODI I RASHODI-izvori'!G134+' PRIHODI I RASHODI-izvori'!G275+' PRIHODI I RASHODI-izvori'!G468+' PRIHODI I RASHODI-izvori'!G537+' PRIHODI I RASHODI-izvori'!G559 -> 4863.61 | G86: =' PRIHODI I RASHODI-izvori'!H134+' PRIHODI I RASHODI-izvori'!H275+' PRIHODI I RASHODI-izvori'!H468+' PRIHODI I RASHODI-izvori'!H537+' PRIHODI I RASHODI-izvori'!H559 -> 4863.61 | H86: =' PRIHODI I RASHODI-izvori'!I134+' PRIHODI I RASHODI-izvori'!I275+' PRIHODI I RASHODI-izvori'!I468+' PRIHODI I RASHODI-izvori'!I537+' PRIHODI I RASHODI-izvori'!I559 -> 4663.61 | I86: =' PRIHODI I RASHODI-izvori'!J134+' PRIHODI I RASHODI-izvori'!J275+' PRIHODI I RASHODI-izvori'!J468+' PRIHODI I RASHODI-izvori'!J537+' PRIHODI I RASHODI-izvori'!J559 -> 4863.61
B87: 32119 | C87: Ostali rashodi za sl. putovanje (cestarine, trošak parkiranja) | D87: =' PRIHODI I RASHODI-izvori'!E276+' PRIHODI I RASHODI-izvori'!E135+' PRIHODI I RASHODI-izvori'!E26 -> 0 | E87: =' PRIHODI I RASHODI-izvori'!F276+' PRIHODI I RASHODI-izvori'!F135+' PRIHODI I RASHODI-izvori'!F26 -> 0 | F87: =' PRIHODI I RASHODI-izvori'!G26+' PRIHODI I RASHODI-izvori'!G135+' PRIHODI I RASHODI-izvori'!G276 -> 1150 | G87: =' PRIHODI I RASHODI-izvori'!H26+' PRIHODI I RASHODI-izvori'!H135+' PRIHODI I RASHODI-izvori'!H276 -> 1150 | H87: =' PRIHODI I RASHODI-izvori'!I26+' PRIHODI I RASHODI-izvori'!I135+' PRIHODI I RASHODI-izvori'!I276 -> 1190 | I87: =' PRIHODI I RASHODI-izvori'!J26+' PRIHODI I RASHODI-izvori'!J135+' PRIHODI I RASHODI-izvori'!J276 -> 1230
B88: 3212 | C88: Naknade za prijevoz, odvojeni život | D88: =SUM(D89:D90) -> #REF! | E88: =SUM(E89:E90) -> #REF! | F88: =SUM(F89:F90) -> 383293.98 | G88: =SUM(G89:G90) -> 383293.98 | H88: =SUM(H89:H90) -> 390331.86 | I88: =SUM(I89:I90) -> 393601.21
B89: 32121 | C89: Naknade za prijevoz | D89: =' PRIHODI I RASHODI-izvori'!E278+' PRIHODI I RASHODI-izvori'!E137+' PRIHODI I RASHODI-izvori'!E470 -> #REF! | E89: =' PRIHODI I RASHODI-izvori'!F278+' PRIHODI I RASHODI-izvori'!F137+' PRIHODI I RASHODI-izvori'!F470 -> #REF! | F89: =' PRIHODI I RASHODI-izvori'!G137+' PRIHODI I RASHODI-izvori'!G278+' PRIHODI I RASHODI-izvori'!G470+' PRIHODI I RASHODI-izvori'!G539 -> 379293.98 | G89: =' PRIHODI I RASHODI-izvori'!H137+' PRIHODI I RASHODI-izvori'!H278+' PRIHODI I RASHODI-izvori'!H470+' PRIHODI I RASHODI-izvori'!H539 -> 379293.98 | H89: =' PRIHODI I RASHODI-izvori'!I137+' PRIHODI I RASHODI-izvori'!I278+' PRIHODI I RASHODI-izvori'!I470+' PRIHODI I RASHODI-izvori'!I539 -> 386331.86 | I89: =' PRIHODI I RASHODI-izvori'!J137+' PRIHODI I RASHODI-izvori'!J278+' PRIHODI I RASHODI-izvori'!J470+' PRIHODI I RASHODI-izvori'!J539 -> 389601.21
B90: 32123 | C90: Naknada za odvojeni život | D90: =' PRIHODI I RASHODI-izvori'!E138 -> 0 | E90: =' PRIHODI I RASHODI-izvori'!F138 -> 0 | F90: =' PRIHODI I RASHODI-izvori'!G138 -> 4000 | G90: =' PRIHODI I RASHODI-izvori'!H138 -> 4000 | H90: =' PRIHODI I RASHODI-izvori'!I138 -> 4000 | I90: =' PRIHODI I RASHODI-izvori'!J138 -> 4000
B91: 3213 | C91: Stručno usavršavanje zaposlenih | D91: =SUM(D92:D93) -> #REF! | E91: =SUM(E92:E93) -> #REF! | F91: =SUM(F92:F93) -> 23742.67 | G91: =SUM(G92:G93) -> 23742.67 | H91: =SUM(H92:H93) -> 23370.34 | I91: =SUM(I92:I93) -> 22586.3
B92: 32131 | C92: Seminari, savjetovanja i simpoziji | D92: =' PRIHODI I RASHODI-izvori'!E280+' PRIHODI I RASHODI-izvori'!E140+' PRIHODI I RASHODI-izvori'!E28+' PRIHODI I RASHODI-izvori'!#REF! -> #REF! | E92: =' PRIHODI I RASHODI-izvori'!F280+' PRIHODI I RASHODI-izvori'!F140+' PRIHODI I RASHODI-izvori'!F28+' PRIHODI I RASHODI-izvori'!#REF! -> #REF! | F92: =' PRIHODI I RASHODI-izvori'!G28+' PRIHODI I RASHODI-izvori'!G140+' PRIHODI I RASHODI-izvori'!G280+' PRIHODI I RASHODI-izvori'!G507 -> 13100 | G92: =' PRIHODI I RASHODI-izvori'!H28+' PRIHODI I RASHODI-izvori'!H140+' PRIHODI I RASHODI-izvori'!H280+' PRIHODI I RASHODI-izvori'!H507 -> 13100 | H92: =' PRIHODI I RASHODI-izvori'!I28+' PRIHODI I RASHODI-izvori'!I140+' PRIHODI I RASHODI-izvori'!I280+' PRIHODI I RASHODI-izvori'!I507 -> 13505.69 | I92: =' PRIHODI I RASHODI-izvori'!J28+' PRIHODI I RASHODI-izvori'!J140+' PRIHODI I RASHODI-izvori'!J280+' PRIHODI I RASHODI-izvori'!J507 -> 13980.69
B93: 32132 | C93: Tečajevi i stručni ispiti | D93: =' PRIHODI I RASHODI-izvori'!E281+' PRIHODI I RASHODI-izvori'!E141+' PRIHODI I RASHODI-izvori'!E472 -> #REF! | E93: =' PRIHODI I RASHODI-izvori'!F281+' PRIHODI I RASHODI-izvori'!F141+' PRIHODI I RASHODI-izvori'!F472 -> #REF! | F93: =' PRIHODI I RASHODI-izvori'!G141+' PRIHODI I RASHODI-izvori'!G281+' PRIHODI I RASHODI-izvori'!G472+' PRIHODI I RASHODI-izvori'!G541 -> 10642.67 | G93: =' PRIHODI I RASHODI-izvori'!H141+' PRIHODI I RASHODI-izvori'!H281+' PRIHODI I RASHODI-izvori'!H472+' PRIHODI I RASHODI-izvori'!H541 -> 10642.67 | H93: =' PRIHODI I RASHODI-izvori'!I141+' PRIHODI I RASHODI-izvori'!I281+' PRIHODI I RASHODI-izvori'!I472+' PRIHODI I RASHODI-izvori'!I541 -> 9864.65 | I93: =' PRIHODI I RASHODI-izvori'!J141+' PRIHODI I RASHODI-izvori'!J281+' PRIHODI I RASHODI-izvori'!J472+' PRIHODI I RASHODI-izvori'!J541 -> 8605.61
B94: 3214 | C94: Ostale naknade troškova zaposlenima | D94: =D95 -> 0 | E94: =E95 -> 0 | F94: =F95 -> 200 | G94: =G95 -> 200 | H94: =H95 -> 200 | I94: =I95 -> 200
B95: 32141 | C95: Naknada za korištenje privatnog automobila u službene svrhe | D95: =' PRIHODI I RASHODI-izvori'!E283 -> 0 | E95: =' PRIHODI I RASHODI-izvori'!F283 -> 0 | F95: =' PRIHODI I RASHODI-izvori'!G283 -> 200 | G95: =' PRIHODI I RASHODI-izvori'!H283 -> 200 | H95: =' PRIHODI I RASHODI-izvori'!I283 -> 200 | I95: =' PRIHODI I RASHODI-izvori'!J283 -> 200
B96: 322 | C96: Rashodi za materijal i energiju | D96: =D97+D104+D110+D115+D120+D123 -> #REF! | E96: =E97+E104+E110+E115+E120+E123 -> #REF! | F96: =F97+F104+F110+F115+F120+F123 -> 3399439.1 | G96: =G97+G104+G110+G115+G120+G123 -> 3476735.5 | H96: =H97+H104+H110+H115+H120+H123 -> 3523632.4 | I96: =I97+I104+I110+I115+I120+I123 -> 3571537
B97: 3221 | C97: Uredski materijal i ostali materijalni rashodi | D97: =SUM(D98:D103) -> #REF! | E97: =SUM(E98:E103) -> #REF! | F97: =SUM(F98:F103) -> 138033.03 | G97: =SUM(G98:G103) -> 138033.03 | H97: =SUM(H98:H103) -> 145150 | I97: =SUM(I98:I103) -> 155250
B98: 32211 | C98: Uredski materijal | D98: =' PRIHODI I RASHODI-izvori'!E286+' PRIHODI I RASHODI-izvori'!E145+' PRIHODI I RASHODI-izvori'!E31+' PRIHODI I RASHODI-izvori'!E475 -> #REF! | E98: =' PRIHODI I RASHODI-izvori'!F286+' PRIHODI I RASHODI-izvori'!F145+' PRIHODI I RASHODI-izvori'!F31+' PRIHODI I RASHODI-izvori'!F475 -> #REF! | F98: =' PRIHODI I RASHODI-izvori'!G286+' PRIHODI I RASHODI-izvori'!G145+' PRIHODI I RASHODI-izvori'!G31+' PRIHODI I RASHODI-izvori'!G475 -> 49833.03 | G98: =' PRIHODI I RASHODI-izvori'!H286+' PRIHODI I RASHODI-izvori'!H145+' PRIHODI I RASHODI-izvori'!H31+' PRIHODI I RASHODI-izvori'!H475 -> 49833.03 | H98: =' PRIHODI I RASHODI-izvori'!I286+' PRIHODI I RASHODI-izvori'!I145+' PRIHODI I RASHODI-izvori'!I31+' PRIHODI I RASHODI-izvori'!I475 -> 53000 | I98: =' PRIHODI I RASHODI-izvori'!J286+' PRIHODI I RASHODI-izvori'!J145+' PRIHODI I RASHODI-izvori'!J31+' PRIHODI I RASHODI-izvori'!J475 -> 57850
B99: 32212 | C99: Literatura | D99: =' PRIHODI I RASHODI-izvori'!E287 -> 0 | E99: =' PRIHODI I RASHODI-izvori'!F287 -> 0 | F99: =' PRIHODI I RASHODI-izvori'!G287 -> 1500 | G99: =' PRIHODI I RASHODI-izvori'!H287 -> 1500 | H99: =' PRIHODI I RASHODI-izvori'!I287 -> 1650 | I99: =' PRIHODI I RASHODI-izvori'!J287 -> 1800
B100: 32214 | C100: Materijal i sredstva za čišćenje i održavanje | D100: =' PRIHODI I RASHODI-izvori'!E288+' PRIHODI I RASHODI-izvori'!E32 -> #REF! | E100: =' PRIHODI I RASHODI-izvori'!F288+' PRIHODI I RASHODI-izvori'!F32 -> #REF! | F100: =' PRIHODI I RASHODI-izvori'!G288+' PRIHODI I RASHODI-izvori'!G32 -> 58500 | G100: =' PRIHODI I RASHODI-izvori'!H288+' PRIHODI I RASHODI-izvori'!H32 -> 58500 | H100: =' PRIHODI I RASHODI-izvori'!I288+' PRIHODI I RASHODI-izvori'!I32 -> 61000 | I100: =' PRIHODI I RASHODI-izvori'!J288+' PRIHODI I RASHODI-izvori'!J32 -> 63500
B101: 32215 | C101: Službena, radna i zaštitna odjeća | D101: =' PRIHODI I RASHODI-izvori'!E289 -> 0 | E101: =' PRIHODI I RASHODI-izvori'!F289 -> 0 | F101: =' PRIHODI I RASHODI-izvori'!G289 -> 500 | G101: =' PRIHODI I RASHODI-izvori'!H289 -> 500 | H101: =' PRIHODI I RASHODI-izvori'!I289 -> 700 | I101: =' PRIHODI I RASHODI-izvori'!J289 -> 900
B102: 32216 | C102: Materijal za higijenske potrebe i njegu | D102: =' PRIHODI I RASHODI-izvori'!E290 -> 0 | E102: =' PRIHODI I RASHODI-izvori'!F290 -> 0 | F102: =' PRIHODI I RASHODI-izvori'!G290 -> 25000 | G102: =' PRIHODI I RASHODI-izvori'!H290 -> 25000 | H102: =' PRIHODI I RASHODI-izvori'!I290 -> 27000 | I102: =' PRIHODI I RASHODI-izvori'!J290 -> 29000
B103: 32219 | C103: Ostali materijal za potrebe redovnog poslovanja | D103: =' PRIHODI I RASHODI-izvori'!E291+' PRIHODI I RASHODI-izvori'!E476 -> 0 | E103: =' PRIHODI I RASHODI-izvori'!F291+' PRIHODI I RASHODI-izvori'!F476 -> 0 | F103: =' PRIHODI I RASHODI-izvori'!G291+' PRIHODI I RASHODI-izvori'!G476 -> 2700 | G103: =' PRIHODI I RASHODI-izvori'!H291+' PRIHODI I RASHODI-izvori'!H476 -> 2700 | H103: =' PRIHODI I RASHODI-izvori'!I291+' PRIHODI I RASHODI-izvori'!I476 -> 1800 | I103: =' PRIHODI I RASHODI-izvori'!J291+' PRIHODI I RASHODI-izvori'!J476 -> 2200
B104: 3222 | C104: Materijal i sirovine | D104: =SUM(D105:D109) -> #REF! | E104: =SUM(E105:E109) -> #REF! | F104: =SUM(F105:F109) -> 2868850.7 | G104: =SUM(G105:G109) -> 2956455 | H104: =SUM(H105:H109) -> 2982990.3 | I104: =SUM(I105:I109) -> 3006994.9
B105: 32221 | C105: Potrošni medicinski materijal | D105: =' PRIHODI I RASHODI-izvori'!E293+' PRIHODI I RASHODI-izvori'!E147+' PRIHODI I RASHODI-izvori'!E34 -> #REF! | E105: =' PRIHODI I RASHODI-izvori'!F293+' PRIHODI I RASHODI-izvori'!F147+' PRIHODI I RASHODI-izvori'!F34 -> #REF! | G105: =' PRIHODI I RASHODI-izvori'!H293+' PRIHODI I RASHODI-izvori'!H147+' PRIHODI I RASHODI-izvori'!H34 -> 0 | H105: =' PRIHODI I RASHODI-izvori'!I293+' PRIHODI I RASHODI-izvori'!I147+' PRIHODI I RASHODI-izvori'!I34 -> 0 | I105: =' PRIHODI I RASHODI-izvori'!J293+' PRIHODI I RASHODI-izvori'!J147+' PRIHODI I RASHODI-izvori'!J34 -> 0
...

Sheet Prihodi po ek klas i izvorima
A1: I. OPĆI DIO
A2: A. RAČUN PRIHODA
A3: PRIHODI PREMA EKONOMSKOJ KLASIFIKACIJI I IZVORIMA FINANCIRANJA
A5: PRIHODI POSLOVANJA
A6: Razred | B6: Skupina/podskupina/odjeljak | C6: Izvor | D6: Naziv | E6: IZVRŠENJE 2024. | F6: TEKUĆI PLAN ZA 2025. | G6: PLAN ZA 2026. REBALANS I | H6: PLAN ZA 2026. | I6: PROJEKCIJA ZA 2027. | J6: PROJEKCIJA ZA 2028.
A7: 1 | H7: 2 | I7: 3 | J7: 4
A8: 6 | D8: Prihodi poslovanja | E8: =E9+E17+E28+E37+E45+E49+E55+E62+E68+E98+E107 -> #REF! | F8: =F9+F17+F28+F37+F45+F49+F55+F62+F68+F98+F107 -> #REF! | G8: =G9+G17+G28+G37+G45+G49+G55+G62+G68+G85+G91+G98+G107 -> 27028468 | H8: =H9+H17+H28+H37+H45+H49+H55+H62+H68+H85+H91+H98+H107 -> 27399696 | I8: =I9+I17+I28+I37+I45+I49+I55+I62+I68+I85+I91+I98+I107 -> 28076192 | J8: =J9+J17+J28+J37+J45+J49+J55+J62+J68+J85+J91+J98+J107 -> 28547128
B9: 67 | D9: Prihodi iz nadležnog proračuna i od HZZO-a temeljem ugovornih obveza | E9: =E10 -> #REF! | F9: =F10 -> #REF! | G9: =G10 -> 879378.02 | H9: =H10 -> 1250606 | I9: =I10 -> 1250606 | J9: =J10 -> 1250606
B10: 671 | D10: Prihodi iz nadležnog proračuna za financiranje redovne djelatnosti proračunskih korisnika | E10: =SUM(E11,#REF!) -> #REF! | F10: =SUM(F11,#REF!) -> #REF! | G10: =G11+G13 -> 879378.02 | H10: =H11+H13 -> 1250606 | I10: =I11+I13 -> 1250606 | J10: =J11+J13 -> 1250606
B11: 6711 | D11: Prihodi iz nadležnog proračuna za financiranje rashoda poslovanja | E11: =E12 -> 0 | F11: =F12 -> 0 | G11: =G12 -> 603978.02 | H11: =H12 -> 481103.03 | I11: =I12 -> 481103.03 | J11: =J12 -> 481103.03
B12: 67111 | D12: Prihodi iz nadležnog proračuna za financiranje rashoda poslovanja | E12: 0 | F12: 0 | G12: 603978.02 | H12: 481103.03 | I12: 481103.03 | J12: 481103.03
B13: 6712 | D13: Prihodi iz nadležnog proračuna za nabavu nefinancijske imovine | E13: =E14 -> 0 | F13: =F14 -> 0 | G13: =G14 -> 275400 | H13: =H14 -> 769502.99 | I13: =I14 -> 769502.99 | J13: =J14 -> 769502.99
B14: 67121 | D14: Prihodi iz nadležnog proračuna za nabavu nefinancijske imovine | G14: 275400 | H14: 769502.99 | I14: 769502.99 | J14: 769502.99
C15: 11 | D15: Opći prihodi i primici | E15: =E9 -> #REF! | F15: =F9 -> #REF! | G15: =G9 -> 879378.02 | H15: =H9 -> 1250606 | I15: =I9 -> 1250606 | J15: =J9 -> 1250606
C16: 1 | D16: OPĆI PRIHODI I PRIMICI | G16: =G15 -> 879378.02 | H16: =H15 -> 1250606 | I16: =I15 -> 1250606 | J16: =J15 -> 1250606
B17: 64 | D17: Prihodi od imovine | E17: =SUM(E18,E25) -> 0 | F17: =SUM(F18,F25) -> 0 | G17: =SUM(G18,G25) -> 1000 | H17: =SUM(H18,H25) -> 1000 | I17: =SUM(I18,I25) -> 1404 | J17: =SUM(J18,J25) -> 1408.08
B18: 641 | D18: Prihodi od financijske imovine | E18: =SUM(E19,E21,E23) -> 0 | F18: =SUM(F19,F21,F23) -> 0 | G18: =SUM(G19,G21,G23) -> 600 | H18: =SUM(H19,H21,H23) -> 600 | I18: =SUM(I19,I21,I23) -> 804 | J18: =SUM(J19,J21,J23) -> 808.08
B19: 6413 | D19: Kamate na oročena srredstva i depozite po viđenju | E19: =SUM(E20) -> 0 | F19: =SUM(F20) -> 0 | G19: =SUM(G20) -> 550 | H19: =SUM(H20) -> 550 | I19: =SUM(I20) -> 754 | J19: =SUM(J20) -> 758.08
B20: 64132 | D20: Kamate na oročena sredstva i depozite po viđenju | E20: 0 | F20: 0 | G20: 550 | H20: =200+150+200 -> 550 | I20: =400+150+204 -> 754 | J20: =400+150+208.08 -> 758.08
B21: 6414 | D21: Prihodi od zateznih kamata | E21: =E22 -> 0 | F21: =F22 -> 0 | G21: =G22 -> 50 | H21: =H22 -> 50 | I21: =I22 -> 50 | J21: =J22 -> 50
B22: 64143 | D22: Prihodi od zateznih kamata | E22: 0 | G22: 50 | H22: 50 | I22: 50 | J22: 50
B23: 6419 | D23: Ostali prihodi od financijske imovine | E23: =E24 -> 0 | F23: =F24 -> 0 | G23: =G24 -> 0 | H23: =H24 -> 0 | I23: =I24 -> 0 | J23: =J24 -> 0
B24: 64199 | D24: Ostali prihodi od financijske imovine | H24: 0 | I24: 0 | J24: 0
B25: 642 | D25: Prihodi od nefinancijske imovine | E25: =E26 -> 0 | F25: =F26 -> 0 | G25: =G26 -> 400 | H25: =H26 -> 400 | I25: =I26 -> 600 | J25: =J26 -> 600
B26: 6429 | D26: Ostali prihodi od nefinancijske imovine | E26: =E27 -> 0 | F26: =F27 -> 0 | G26: =G27 -> 400 | H26: =H27 -> 400 | I26: =I27 -> 600 | J26: =J27 -> 600
B27: 64299 | D27: Ostali prihodi od nefinancijske imovine | G27: 400 | H27: 400 | I27: 600 | J27: 600
B28: 66 | D28: Prihodi od prodaje proizvoda i robe te pruženih usluga i prihodi od donacija | E28: =SUM(E29) -> 0 | F28: =SUM(F29) -> 0 | G28: =SUM(G29) -> 3643116.3 | H28: =SUM(H29) -> 3643116.3 | I28: =SUM(I29) -> 3683716.3 | J28: =SUM(J29) -> 3714928.3
B29: 661 | D29: Prihodi od prodaje proizvoda i robe te pruženih usluga | E29: =SUM(E30,E33) -> 0 | F29: =SUM(F30,F33) -> 0 | G29: =SUM(G30,G33) -> 3643116.3 | H29: =SUM(H30,H33) -> 3643116.3 | I29: =SUM(I30,I33) -> 3683716.3 | J29: =SUM(J30,J33) -> 3714928.3
B30: 6614 | D30: Prihod od prodaje proizvoda i usluga | E30: =E31+E32 -> 0 | F30: =F31+F32 -> 0 | G30: =G31+G32 -> 2625000 | H30: =H31+H32 -> 2625000 | I30: =I31+I32 -> 2656000 | J30: =J31+J32 -> 2677000
B31: 66141 | D31: Prihodi od prodaje proizvoda i robe - ljekarne | E31: 0 | F31: 0 | G31: 25000 | H31: 25000 | I31: 26000 | J31: 27000
B32: 66142 | D32: Prihodi od prodaje robe | G32: 2600000 | H32: =1000000+1600000 -> 2600000 | I32: =1020000+1610000 -> 2630000 | J32: =1040000+1610000 -> 2650000
B33: 6615 | D33: Prihodi od pruženih usluga | E33: =SUM(E34:E36) -> 0 | F33: =SUM(F34:F36) -> 0 | G33: =SUM(G34:G36) -> 1018116.3 | H33: =SUM(H34:H36) -> 1018116.3 | I33: =SUM(I34:I36) -> 1027716.3 | J33: =SUM(J34:J36) -> 1037928.3
B34: 66151 | D34: Prihodi od pruženih usluga | E34: 0 | F34: 0 | G34: 1013116.3 | H34: =350000+163116.33+500000 -> 1013116.3 | I34: =350000+163116.33+509000 -> 1022116.3 | J34: =350000+163116.33+518000 -> 1031116.3
B35: 66153 | D35: Prihodi za udio troškova u zakupu | E35: 0 | F35: 0
B36: 66157 | D36: Prihod od usluga ref. dežurstva specijalizanti | E36: 0 | F36: 0 | G36: 5000 | H36: 5000 | I36: 5600 | J36: 6812
B37: 68 | D37: Kazne, upravne mjere i ostali prihodi | E37: =SUM(E38) -> 0 | F37: =SUM(F38) -> 0 | G37: =SUM(G38) -> 161000 | H37: =SUM(H38) -> 161000 | I37: =SUM(I38) -> 166620 | J37: =SUM(J38) -> 167252.4
B38: 683 | D38: Ostali prihodi | E38: =SUM(E39) -> 0 | F38: =SUM(F39) -> 0 | G38: =SUM(G39) -> 161000 | H38: =SUM(H39) -> 161000 | I38: =SUM(I39) -> 166620 | J38: =SUM(J39) -> 167252.4
B39: 6831 | D39: Ostali prihodi | E39: =E40+E41+E42 -> 0 | F39: =F40+F41+F42 -> 0 | G39: =G40+G41+G42 -> 161000 | H39: =H40+H41+H42 -> 161000 | I39: =I40+I41+I42 -> 166620 | J39: =J40+J41+J42 -> 167252.4
B40: 68311 | D40: Ostali prihodi | E40: 0 | F40: 0 | G40: 133000 | H40: =3000+130000 -> 133000 | I40: =3000+135000 -> 138000 | J40: =3000+135000 -> 138000
B41: 68312 | D41: Ostali prihodi-od inventurnih viškova | E41: 0 | F41: 0 | G41: 3000 | H41: 3000 | I41: 3000 | J41: 3000
B42: 68313 | D42: Ostali prihodi od veleprodajnih i akcijskih rabata | E42: 0 | F42: 0 | G42: 25000 | H42: 25000 | I42: 25620 | J42: 26252.4
C43: 31 | D43: Vlastiti prihodi | E43: =E17+E28+E37 -> 0 | F43: =F17+F28+F37 -> 0 | G43: =G17+G28+G37 -> 3805116.3 | H43: =H17+H28+H37 -> 3805116.3 | I43: =I17+I28+I37 -> 3851740.3 | J43: =J17+J28+J37 -> 3883588.8
C44: 3 | D44: VLASTITI PRIHODI | G44: =G43 -> 3805116.3 | H44: =H43 -> 3805116.3 | I44: =I43 -> 3851740.3 | J44: =J43 -> 3883588.8
B45: 64 | D45: Prihodi od imovine | E45: =SUM(E46) -> 0 | F45: =SUM(F46) -> 0 | G45: =SUM(G46) -> 100000 | H45: =SUM(H46) -> 100000 | I45: =SUM(I46) -> 102000 | J45: =SUM(J46) -> 104040
B46: 641 | D46: Prihodi od financijske imovine | E46: =SUM(E47:E47) -> 0 | F46: =SUM(F47:F47) -> 0 | G46: =SUM(G47:G47) -> 100000 | H46: =SUM(H47:H47) -> 100000 | I46: =SUM(I47:I47) -> 102000 | J46: =SUM(J47:J47) -> 104040
B47: 6419 | D47: Ostali prihodi od financijske imovine | E47: =E48 -> 0 | F47: =F48 -> 0 | G47: =G48 -> 100000 | H47: =H48 -> 100000 | I47: =I48 -> 102000 | J47: =J48 -> 104040
B48: 64199 | D48: Ostali prihodi od financijske imovine | G48: 100000 | H48: 100000 | I48: 102000 | J48: 104040
B49: 65 | D49: Prihodi od upravnih i administrativnih pristojbi, pristojbi po posebnim propisima i naknada | E49: =SUM(E50) -> 0 | F49: =SUM(F50) -> 0 | G49: =SUM(G50) -> 932300 | H49: =SUM(H50) -> 932300 | I49: =SUM(I50) -> 960895 | J49: =SUM(J50) -> 971559.4
B50: 652 | D50: Prihodi po posebnim propisima | E50: =SUM(E51) -> 0 | F50: =SUM(F51) -> 0 | G50: =SUM(G51) -> 932300 | H50: =SUM(H51) -> 932300 | I50: =SUM(I51) -> 960895 | J50: =SUM(J51) -> 971559.4
B51: 6526 | D51: Ostali nespomenuti prihodi (participacija) | E51: =SUM(E52:E54) -> 0 | F51: =SUM(F52:F54) -> 0 | G51: =SUM(G52:G54) -> 932300 | H51: =SUM(H52:H54) -> 932300 | I51: =SUM(I52:I54) -> 960895 | J51: =SUM(J52:J54) -> 971559.4
B52: 65264 | D52: Sufinanciranje cijene usluge, participacija | E52: 0 | F52: 0 | G52: 902800 | H52: =497800+55000+350000 -> 902800 | I52: =515000+57500+356520 -> 929020 | J52: =515000+60000+363190.4 -> 938190.4
B53: 65267 | D53: Prihodi od osiguranja i refundacije štete | G53: 1000 | H53: 1000 | I53: 1000 | J53: 1000
B54: 65269 | D54: Refundacija plaća specijalizanata | E54: 0 | F54: 0 | G54: 28500 | H54: =25000+3500 -> 28500 | I54: =26000+4875 -> 30875 | J54: =27000+5369 -> 32369
B55: 67 | D55: Prihodi iz nadležnog proračuna i od HZZO-a temeljem ugovornih obveza | E55: =SUM(E56,E59) -> 0 | F55: =SUM(F56,F59) -> 0 | G55: =SUM(G56,G59) -> 20119750 | H55: =SUM(H56,H59) -> 20119750 | I55: =SUM(I56,I59) -> 20847031 | J55: =SUM(J56,J59) -> 21326581
B56: 671 | D56: Prihodi iz nadležnog proračuna za financiranje redovne djelatnosti proračunskih korisnika | E56: =SUM(E57:E58) -> 0 | F56: =SUM(F57:F58) -> 0 | H56: =SUM(H57:H58) -> 0 | I56: =SUM(I57:I58) -> 0 | J56: =SUM(J57:J58) -> 0
B57: 6711 | D57: Prihodi iz nadležnog proračuna za financiranje rashoda poslovanja | E57: 0 | F57: 0 | H57: 0 | I57: 0 | J57: 0
B58: 6712 | D58: Prihodi iz nadležnog proračuna za nabavu nefinancijske imovine | E58: 0 | F58: 0 | H58: 0 | I58: 0 | J58: 0
B59: 673 | D59: Prihodi od HZZO-a temeljem ugovora | E59: =SUM(E60) -> 0 | F59: =SUM(F60) -> 0 | G59: =SUM(G60) -> 20119750 | H59: =SUM(H60) -> 20119750 | I59: =SUM(I60) -> 20847031 | J59: =SUM(J60) -> 21326581
B60: 6731 | D60: Prihodi od HZZO-a temeljem ugovora | E60: =SUM(E61) -> 0 | F60: =SUM(F61) -> 0 | G60: =SUM(G61) -> 20119750 | H60: =SUM(H61) -> 20119750 | I60: =SUM(I61) -> 20847031 | J60: =SUM(J61) -> 21326581
B61: 67311 | D61: Prihodi od HZZO-a temeljem ugovora | E61: 0 | F61: 0 | G61: 20119750 | H61: =8100663+4599086.9+7420000 -> 20119750 | I61: =8141363+5137268.35+7568400 -> 20847031 | J61: =8201363+5405449.8+7719768 -> 21326581
B62: 68 | D62: Kazne, upravne mjere i ostali prihodi | E62: =SUM(E63) -> 0 | F62: =SUM(F63) -> 0 | G62: =SUM(G63) -> 3000 | H62: =SUM(H63) -> 3000 | I62: =SUM(I63) -> 3000 | J62: =SUM(J63) -> 3000
B63: 683 | D63: Ostali prihodi | E63: =SUM(E64) -> 0 | F63: =SUM(F64) -> 0 | G63: =SUM(G64) -> 3000 | H63: =SUM(H64) -> 3000 | I63: =SUM(I64) -> 3000 | J63: =SUM(J64) -> 3000
B64: 6831 | D64: Ostali prihodi | E64: =SUM(E65) -> 0 | F64: =SUM(F65) -> 0 | G64: =SUM(G65) -> 3000 | H64: =SUM(H65) -> 3000 | I64: =SUM(I65) -> 3000 | J64: =SUM(J65) -> 3000
B65: 68311 | D65: Ostali prihodi | E65: 0 | F65: 0 | G65: 3000 | H65: 3000 | I65: 3000 | J65: 3000
C66: 43 | D66: Ostali prihodi za posebne namjene | E66: =SUM(E45,E49,E55,E62) -> 0 | F66: =SUM(F45,F49,F55,F62) -> 0 | G66: =SUM(G45,G49,G55,G62) -> 21155050 | H66: =SUM(H45,H49,H55,H62) -> 21155050 | I66: =SUM(I45,I49,I55,I62) -> 21912926 | J66: =SUM(J45,J49,J55,J62) -> 22405180
C67: 4 | D67: PRIHODI ZA POSEBNE NAMJENE | G67: =G66 -> 21155050 | H67: =H66 -> 21155050 | I67: =I66 -> 21912926 | J67: =J66 -> 22405180
B68: 63 | D68: Pomoći iz inozemstva i od subjekata unutar općeg proračuna | E68: =SUM(E69,E73,E76,E92,E81) -> #REF! | F68: =SUM(F69,F73,F76,F92,F81) -> #REF! | G68: =SUM(G69,G73,G76,G81) -> 582814.61 | H68: =SUM(H69,H73,H76,H81) -> 582814.61 | I68: =SUM(I69,I73,I76,I81) -> 568814.61 | J68: =SUM(J69,J73,J76,J81) -> 568814.61
B69: 633 | D69: Pomoći proračunu iz drugih proračuna | E69: =E70 -> 0 | F69: =F70 -> 0 | G69: =G70 -> 500 | H69: =H70 -> 500 | I69: =I70 -> 500 | J69: =J70 -> 500
B70: 6331 | D70: Tekuće pomoći proračunu iz drugih proračuna | E70: =E71 -> 0 | F70: =F71 -> 0 | G70: =G71 -> 500 | H70: =H71 -> 500 | I70: =I71 -> 500 | J70: =J71 -> 500
B71: 63313 | D71: Tekuće potpore iz gradskog proračuna | E71: 0 | G71: 500 | H71: 500 | I71: 500 | J71: 500
B72: 6332 | D72: Kapitalne pomoći proračunu iz drugih proračuna
B73: 634 | D73: Pomoći od izvanproračunskih korisnika | E73: =SUM(E74) -> 0 | F73: =SUM(F74) -> 0 | G73: =SUM(G74) -> 68314.61 | H73: =SUM(H74) -> 68314.61 | I73: =SUM(I74) -> 68314.61 | J73: =SUM(J74) -> 68314.61
B74: 6341 | D74: Tekuće pomoći od HZZ-a, HZZO-a | E74: =SUM(E75) -> 0 | F74: =SUM(F75) -> 0 | G74: =SUM(G75) -> 68314.61 | H74: =SUM(H75) -> 68314.61 | I74: =SUM(I75) -> 68314.61 | J74: =SUM(J75) -> 68314.61
B75: 63414 | D75: Tekuće pomoći od HZZ-a, HZZO-a | E75: 0 | F75: 0 | G75: 68314.61 | H75: 68314.61 | I75: 68314.61 | J75: 68314.61
B76: 636 | D76: Pomoći proračunskim korisnicima iz proračuna koji im nije nadležan | E76: =SUM(E77,E79) -> 0 | F76: =SUM(F77,F79) -> 0 | G76: =SUM(G77,G79) -> 14000 | H76: =SUM(H77,H79) -> 14000 | I76: =SUM(I77,I79) -> 0 | J76: =SUM(J77,J79) -> 0
B77: 6361 | D77: Tekuće pomoći iz državnog proračuna proračunskim korisnicma JLP(R)S | E77: =SUM(E78) -> 0 | F77: =SUM(F78) -> 0 | G77: =SUM(G78) -> 14000 | H77: =SUM(H78) -> 14000 | I77: =SUM(I78) -> 0 | J77: =SUM(J78) -> 0
B78: 63612 | D78: Tekuće pomoći iz državnog proračuna proračunskim korisnicma JLP(R)S | E78: 0 | F78: 0 | G78: 14000 | H78: 14000 | I78: 0 | J78: 0
B79: 6362 | D79: Kapitalne pomoći iz državnog proračuna proračunskim korisnicima JLP(R)S | E79: =E80 -> 0 | F79: =F80 -> 0 | H79: =H80 -> 0 | I79: =I80 -> 0 | J79: =J80 -> 0
B80: 63622 | D80: Kapitalne pomoći iz državnog proračuna proračunskim korisnicima JLP(R)S | E80: 0 | F80: 0
B81: 639 | D81: Prijenosi između proračunskih korisnika istog proračuna | E81: =E82 -> 0 | F81: =F82 -> 0 | G81: =G82 -> 500000 | H81: =H82 -> 500000 | I81: =I82 -> 500000 | J81: =J82 -> 500000
B82: 6391 | D82: Tekući prijenosi između proračunskih korisnika istog proračuna | E82: =E83 -> 0 | F82: =F83 -> 0 | G82: =G83 -> 500000 | H82: =H83 -> 500000 | I82: =I83 -> 500000 | J82: =J83 -> 500000
B83: 63911 | D83: Tekući prijenosi između proračunskih korisnika istog proračuna | G83: 500000 | H83: 500000 | I83: 500000 | J83: 500000
C84: 52 | D84: Ostale pomoći | E84: =SUM(E68) -> #REF! | F84: =SUM(F68) -> #REF! | G84: =SUM(G68) -> 582814.61 | H84: =SUM(H68) -> 582814.61 | I84: =SUM(I68) -> 568814.61 | J84: =SUM(J68) -> 568814.61
B85: 63 | D85: Pomoći iz inozemstva i od subjekata unutar općeg proračuna | E85: =SUM(E86,E90,E93,E104,#REF!) -> #REF! | F85: =SUM(F86,F90,F93,F104,#REF!) -> #REF! | G85: =G86 -> 156200 | H85: =H86 -> 156200 | I85: =I86 -> 159324 | J85: =J86 -> 162510.48
B86: 638 | D86: Pomoć temeljem prijenosa EU sredstava | E86: =SUM(E87,E94) -> #REF! | F86: =SUM(F87,F94) -> #REF! | G86: =G87 -> 156200 | H86: =H87 -> 156200 | I86: =I87 -> 159324 | J86: =J87 -> 162510.48
B87: 6382 | D87: Kapitalna pomoć temeljem prijenosa EU sredstava | E87: =E88+#REF! -> #REF! | F87: =F88+#REF! -> #REF! | G87: =G88 -> 156200 | H87: =H88 -> 156200 | I87: =I88 -> 159324 | J87: =J88 -> 162510.48
B88: 63821 | D88: Pomoći temeljem EU prijenosa | G88: 156200 | H88: 156200 | I88: 159324 | J88: 162510.48
C89: 563 | D89: Europski fond za regionalni razvoj | G89: =G85 -> 156200 | H89: =H85 -> 156200 | I89: =I85 -> 159324 | J89: =J85 -> 162510.48
C90: 56 | D90: Fondovi EU | G90: =G89 -> 156200 | H90: =H89 -> 156200 | I90: =I89 -> 159324 | J90: =J89 -> 162510.48
B91: 63 | D91: Pomoći iz inozemstva i od subjekata unutar općeg proračuna | E91: =SUM(E92,E96,#REF!,E111,E99) -> #REF! | F91: =SUM(F92,F96,#REF!,F111,F99) -> #REF! | G91: =G92 -> 437409.22 | H91: =H92 -> 437409.22 | I91: =I92 -> 319785.88 | J91: =J92 -> 262923.4
B92: 638 | D92: Pomoć temeljem prijenosa EU sredstava | E92: =SUM(E93,#REF!) -> #REF! | F92: =SUM(F93,#REF!) -> #REF! | G92: =G93 -> 437409.22 | H92: =H93 -> 437409.22 | I92: =I93 -> 319785.88 | J92: =J93 -> 262923.4
B93: 6381 | D93: Tekuće pomoći temeljem prijenosa EU sredstava | E93: =SUM(E94:E94) -> 0 | F93: =SUM(F94:F94) -> 0 | G93: =SUM(G94:G94) -> 437409.22 | H93: =SUM(H94:H94) -> 437409.22 | I93: =SUM(I94:I94) -> 319785.88 | J93: =SUM(J94:J94) -> 262923.4
B94: 63811 | D94: Tekuće pomoći iz državnog proračuna temeljem EU prijenosa | G94: 437409.22 | H94: =135000+148609.22+153800 -> 437409.22 | I94: =60000+102909.88+156876 -> 319785.88 | J94: =0+102909.88+160013.52 -> 262923.4
C95: 581 | D95: Mehanizam za oporavak i otpornost | G95: =G91 -> 437409.22 | H95: =H91 -> 437409.22 | I95: =I91 -> 319785.88 | J95: =J91 -> 262923.4
C96: 58 | D96: Instrumenti EU nove generacije | G96: =G95 -> 437409.22 | H96: =H95 -> 437409.22 | I96: =I95 -> 319785.88 | J96: =J95 -> 262923.4
C97: 5 | D97: POMOĆI | G97: =G84+G90+G96 -> 1176423.8 | H97: =H84+H90+H96 -> 1176423.8 | I97: =I84+I90+I96 -> 1047924.5 | J97: =J84+J90+J96 -> 994248.49
B98: 66 | D98: Prihodi od prodaje proizvoda i robe te pruženih usluga i prihodi od donacija | E98: =E99 -> 0 | F98: =F99 -> 0 | G98: =G99 -> 2000 | H98: =H99 -> 2000 | I98: =I99 -> 2220 | J98: =J99 -> 2440.4
B99: 663 | D99: Donacije od pravnih i fizičkih osoba izvan općeg proračuna i povrat donacija po protestiranim jamstvima | E99: =SUM(E100,E103) -> 0 | F99: =SUM(F100,F103) -> 0 | G99: =SUM(G100,G103) -> 2000 | H99: =SUM(H100,H103) -> 2000 | I99: =SUM(I100,I103) -> 2220 | J99: =SUM(J100,J103) -> 2440.4
B100: 6631 | D100: Tekuće donacije | E100: =SUM(E101:E102) -> 0 | F100: =SUM(F101:F102) -> 0 | G100: =SUM(G101:G102) -> 1500 | H100: =SUM(H101:H102) -> 1500 | I100: =SUM(I101:I102) -> 1720 | J100: =SUM(J101:J102) -> 1940.4
B101: 66312 | D101: Tekuće donacije od neprofitnih organizacija | E101: 0 | F101: 0 | G101: 500 | H101: 500 | I101: 520 | J101: 540.4
...

Sheet  PRIHODI I RASHODI-izvori
A1: I. OPĆI DIO
A2: A. RAČUN PRIHODA I RASHODA
A3: RASHODI PREMA EKONOMSKOJ KLASIFIKACIJI I IZVORIMA FINANCIRANJA
A5: RASHODI POSLOVANJA
A6: Razred | B6: Skupina/podskupina/odjeljak | C6: Izvor | D6: Naziv | E6: IZVRŠENJE 2024. | F6: TEKUĆI PLAN ZA 2025. | G6: PLAN ZA 2026. REBALANS I | H6: PLAN ZA 2026. | I6: PROJEKCIJA ZA 2027. | J6: PROJEKCIJA ZA 2028.
A7: 1 | H7: 2 | I7: 3 | J7: 4
A8: 3 | D8: Rashodi poslovanja | E8: =E11+E246+E109+E455+E554+E584 -> #REF! | F8: =F11+F246+F109+F455+F554+F584 -> #REF! | G8: =G11+G246+G109+G455+G497+G518+G554+G584 -> 26423403 | H8: =H11+H246+H109+H455+H497+H518+H554+H584 -> 26300528 | I8: =I11+I246+I109+I455+I497+I518+I554+I584 -> 26565803 | J8: =J11+J246+J109+J455+J497+J518+J554+J584 -> 26806376
A9: 4 | D9: Rashodi za nabavu nefinancijske imovine | E9: =E73+E419+E223+E490+#REF!+E571+E596 -> #REF! | F9: =F73+F419+F223+F490+#REF!+F571+F596 -> #REF! | G9: =G73+G419+G223+G490+G571+G596 -> 360772.28 | H9: =H73+H419+H223+H490+H571+H596 -> 854875.27 | I9: =I73+I419+I223+I490+I571+I596 -> 857825.27 | J9: =J73+J419+J223+J490+J571+J596 -> 860775.27
D10: KORIŠTENJE DEC-a SREDSTAVA ŽUPANIJE
A11: 3 | D11: Rashodi poslovanja | E11: =E12+E22 -> #REF! | F11: =F12+F22 -> #REF! | G11: =G12+G22 -> 603978.02 | H11: =H12+H22 -> 481103.03 | I11: =I12+I22 -> 481103.03 | J11: =J12+J22 -> 481103.03
B12: 31 | D12: Rashodi za zaposlene | E12: =E13+E19 -> #REF! | F12: =F13+F19 -> #REF! | G12: =G13+G16+G19 -> 94582.35 | H12: =H13+H16+H19 -> 6978.02 | I12: =I13+I16+I19 -> 6978.02 | J12: =J13+J16+J19 -> 6978.02
B13: 311 | D13: Plaće | E13: =SUM(E14) -> #REF! | F13: =SUM(F14) -> #REF! | G13: =SUM(G14) -> 5989.73 | H13: =SUM(H14) -> 5989.73 | I13: =SUM(I14) -> 5989.73 | J13: =SUM(J14) -> 5989.73
B14: 3111 | D14: Plaće za redovan rad | E14: =SUM(E15) -> #REF! | F14: =SUM(F15) -> #REF! | G14: =SUM(G15) -> 5989.73 | H14: =SUM(H15) -> 5989.73 | I14: =SUM(I15) -> 5989.73 | J14: =SUM(J15) -> 5989.73
B15: 31111 | D15: Plaće za redovan rad | E15: ='Rekapitulacija Posebni dio'!#REF!+'Rekapitulacija Posebni dio'!C518+'Rekapitulacija Posebni dio'!#REF! -> #REF! | F15: ='Rekapitulacija Posebni dio'!#REF!+'Rekapitulacija Posebni dio'!D518+'Rekapitulacija Posebni dio'!#REF! -> #REF! | G15: ='Rekapitulacija Posebni dio'!E518+'Rekapitulacija Posebni dio'!E537 -> 5989.73 | H15: ='Rekapitulacija Posebni dio'!F518+'Rekapitulacija Posebni dio'!F537 -> 5989.73 | I15: ='Rekapitulacija Posebni dio'!G518+'Rekapitulacija Posebni dio'!G537 -> 5989.73 | J15: ='Rekapitulacija Posebni dio'!H518+'Rekapitulacija Posebni dio'!H537 -> 5989.73
B16: 312 | D16: Ostali rashodi za zaposlene | G16: =G17 -> 6396.59 | H16: =H17 -> 0 | I16: =I17 -> 0 | J16: =J17 -> 0
B17: 3121 | D17: Ostali rashodi za zaposlene | G17: =G18 -> 6396.59 | H17: =H18 -> 0 | I17: =I18 -> 0 | J17: =J18 -> 0
B18: 31219 | D18: Ostali nenavedeni rashodi za zaposlene | G18: ='Rekapitulacija Posebni dio'!E438 -> 6396.59 | H18: ='Rekapitulacija Posebni dio'!F438 -> 0 | I18: ='Rekapitulacija Posebni dio'!G438 -> 0 | J18: ='Rekapitulacija Posebni dio'!H438 -> 0
B19: 313 | D19: Doprinosi na plaće | E19: =SUM(E20) -> #REF! | F19: =SUM(F20) -> #REF! | G19: =SUM(G20) -> 82196.03 | H19: =SUM(H20) -> 988.29 | I19: =SUM(I20) -> 988.29 | J19: =SUM(J20) -> 988.29
B20: 3132 | D20: Doprinosi za obvezno zdravstveno osiguranje | E20: =SUM(E21) -> #REF! | F20: =SUM(F21) -> #REF! | G20: =SUM(G21) -> 82196.03 | H20: =SUM(H21) -> 988.29 | I20: =SUM(I21) -> 988.29 | J20: =SUM(J21) -> 988.29
B21: 31321 | D21: Doprinosi za obvezno zdravstveno osiguranje | E21: ='Rekapitulacija Posebni dio'!#REF!+'Rekapitulacija Posebni dio'!#REF!+'Rekapitulacija Posebni dio'!C523+'Rekapitulacija Posebni dio'!#REF! -> #REF! | F21: ='Rekapitulacija Posebni dio'!#REF!+'Rekapitulacija Posebni dio'!#REF!+'Rekapitulacija Posebni dio'!D523+'Rekapitulacija Posebni dio'!#REF! -> #REF! | G21: ='Rekapitulacija Posebni dio'!E441+'Rekapitulacija Posebni dio'!E523+'Rekapitulacija Posebni dio'!E542 -> 82196.03 | H21: ='Rekapitulacija Posebni dio'!F523+'Rekapitulacija Posebni dio'!F542 -> 988.29 | I21: ='Rekapitulacija Posebni dio'!G523+'Rekapitulacija Posebni dio'!G542 -> 988.29 | J21: ='Rekapitulacija Posebni dio'!H523+'Rekapitulacija Posebni dio'!H542 -> 988.29
B22: 32 | D22: Materijalni rashodi | E22: =E23+E29+E44+E62+E66 -> #REF! | F22: =F23+F29+F44+F62+F66 -> #REF! | G22: =G23+G29+G44+G62+G66 -> 509395.67 | H22: =H23+H29+H44+H62+H66 -> 474125.01 | I22: =I23+I29+I44+I62+I66 -> 474125.01 | J22: =J23+J29+J44+J62+J66 -> 474125.01
B23: 321 | D23: Naknade troškova zaposlenima | E23: =E24+E27 -> #REF! | F23: =F24+F27 -> #REF! | G23: =G24+G27 -> 4200 | H23: =H24+H27 -> 4200 | I23: =I24+I27 -> 4200 | J23: =J24+J27 -> 4200
B24: 3211 | D24: Službena putovanja | E24: =E25+E26 -> 0 | F24: =F25+F26 -> 0 | G24: =G25+G26 -> 470 | H24: =H25+H26 -> 470 | I24: =I25+I26 -> 470 | J24: =J25+J26 -> 470
B25: 32111 | D25: Dnevnice za službeni put u zemlji | E25: ='Rekapitulacija Posebni dio'!C546 -> 0 | F25: ='Rekapitulacija Posebni dio'!D546 -> 0 | G25: ='Rekapitulacija Posebni dio'!E546 -> 400 | H25: ='Rekapitulacija Posebni dio'!F546 -> 400 | I25: ='Rekapitulacija Posebni dio'!G546 -> 400 | J25: ='Rekapitulacija Posebni dio'!H546 -> 400
B26: 32119 | D26: Ostali rashodi za sl. putovanje (cestarine, trošak parkiranja) | E26: ='Rekapitulacija Posebni dio'!C547 -> 0 | F26: ='Rekapitulacija Posebni dio'!D547 -> 0 | G26: ='Rekapitulacija Posebni dio'!E547 -> 70 | H26: ='Rekapitulacija Posebni dio'!F547 -> 70 | I26: ='Rekapitulacija Posebni dio'!G547 -> 70 | J26: ='Rekapitulacija Posebni dio'!H547 -> 70
B27: 3213 | D27: Stručno usavršavanje zaposlenih | E27: =E28 -> #REF! | F27: =F28 -> #REF! | G27: =G28 -> 3730 | H27: =H28 -> 3730 | I27: =I28 -> 3730 | J27: =J28 -> 3730
B28: 32131 | D28: Seminari, savjetovanja i simpoziji | E28: ='Rekapitulacija Posebni dio'!C550+'Rekapitulacija Posebni dio'!#REF! -> #REF! | F28: ='Rekapitulacija Posebni dio'!D550+'Rekapitulacija Posebni dio'!#REF! -> #REF! | G28: ='Rekapitulacija Posebni dio'!E550 -> 3730 | H28: ='Rekapitulacija Posebni dio'!F550 -> 3730 | I28: ='Rekapitulacija Posebni dio'!G550 -> 3730 | J28: ='Rekapitulacija Posebni dio'!H550 -> 3730
B29: 322 | D29: Rashodi za materijal i energiju | E29: =E30+E33+E36+E40 -> #REF! | F29: =F30+F33+F36+F40 -> #REF! | G29: =G30+G33+G36+G40 -> 77595.67 | H29: =H30+H33+H36+H40 -> 154892.1 | I29: =I30+I33+I36+I40 -> 154892.1 | J29: =J30+J33+J36+J40 -> 154892.1
B30: 3221 | D30: Uredski materijal i ostali materijalni rashodi | E30: =E31+E32 -> #REF! | F30: =F31+F32 -> #REF! | H30: =H31+H32 -> 0 | I30: =I31+I32 -> 0 | J30: =J31+J32 -> 0
B31: 32211 | D31: Uredski materijal | E31: ='Rekapitulacija Posebni dio'!#REF! -> #REF! | F31: ='Rekapitulacija Posebni dio'!#REF! -> #REF! | H31: 0 | I31: 0 | J31: 0
B32: 32214 | D32: Materijal i sredstva za čišćenje | E32: ='Rekapitulacija Posebni dio'!#REF! -> #REF! | F32: ='Rekapitulacija Posebni dio'!#REF! -> #REF! | H32: 0 | I32: 0 | J32: 0
B33: 3222 | D33: Materijal i sirovine | E33: =E34 -> #REF! | F33: =F34 -> #REF! | G33: =SUM(G34:G35) -> 62395.67 | H33: =SUM(H34:H35) -> 150000 | I33: =SUM(I34:I35) -> 150000 | J33: =SUM(J34:J35) -> 150000
B34: 32221 | D34: Potrošni medicinski materijal | E34: ='Rekapitulacija Posebni dio'!#REF! -> #REF! | F34: ='Rekapitulacija Posebni dio'!#REF! -> #REF! | G34: 0 | H34: 0 | I34: 0 | J34: 0
B35: 32225 | D35: Roba | G35: ='Rekapitulacija Posebni dio'!E445 -> 62395.67 | H35: ='Rekapitulacija Posebni dio'!F445 -> 150000 | I35: ='Rekapitulacija Posebni dio'!G445 -> 150000 | J35: ='Rekapitulacija Posebni dio'!H445 -> 150000
B36: 3223 | D36: Energija | E36: =E37+E38+E39 -> #REF! | F36: =F37+F38+F39 -> #REF! | G36: =G37+G38+G39 -> 200 | H36: =H37+H38+H39 -> 200 | I36: =I37+I38+I39 -> 200 | J36: =J37+J38+J39 -> 200
B37: 32231 | D37: Električna energija | E37: ='Rekapitulacija Posebni dio'!#REF! -> #REF! | F37: ='Rekapitulacija Posebni dio'!#REF! -> #REF! | H37: 0 | I37: 0 | J37: 0
B38: 32233 | D38: Plin | E38: ='Rekapitulacija Posebni dio'!#REF! -> #REF! | F38: ='Rekapitulacija Posebni dio'!#REF! -> #REF! | H38: 0 | I38: 0 | J38: 0
B39: 32234 | D39: Motorni benzin i dizel gorivo | E39: ='Rekapitulacija Posebni dio'!C553 -> 0 | F39: ='Rekapitulacija Posebni dio'!D553 -> 0 | G39: ='Rekapitulacija Posebni dio'!E553 -> 200 | H39: ='Rekapitulacija Posebni dio'!F553 -> 200 | I39: ='Rekapitulacija Posebni dio'!G553 -> 200 | J39: ='Rekapitulacija Posebni dio'!H553 -> 200
B40: 3224 | D40: Materijal i dijelovi za tekuće i investicijsko održavanje | E40: =SUM(E41:E43) -> #REF! | F40: =SUM(F41:F43) -> #REF! | G40: =SUM(G41:G43) -> 15000 | H40: =SUM(H41:H43) -> 4692.1 | I40: =SUM(I41:I43) -> 4692.1 | J40: =SUM(J41:J43) -> 4692.1
B41: 32241 | D41: Materijal i dijelovi za tekuće i invest. održavanje građevinskih objekata | E41: ='Rekapitulacija Posebni dio'!C466+'Rekapitulacija Posebni dio'!#REF!+'Rekapitulacija Posebni dio'!#REF! -> #REF! | F41: ='Rekapitulacija Posebni dio'!D466+'Rekapitulacija Posebni dio'!#REF!+'Rekapitulacija Posebni dio'!#REF! -> #REF! | G41: ='Rekapitulacija Posebni dio'!E466 -> 15000 | H41: ='Rekapitulacija Posebni dio'!F466 -> 4692.1 | I41: ='Rekapitulacija Posebni dio'!G466 -> 4692.1 | J41: ='Rekapitulacija Posebni dio'!H466 -> 4692.1
B42: 32242 | D42: Materijal i dijelovi za tekuće i invest. održavanje postrojenja i opreme | E42: ='Rekapitulacija Posebni dio'!#REF! -> #REF! | F42: ='Rekapitulacija Posebni dio'!#REF! -> #REF!
B43: 32244 | D43: Ostali materijal i dijelovi za tekuće i invest. održavanje | E43: ='Rekapitulacija Posebni dio'!#REF! -> #REF! | F43: ='Rekapitulacija Posebni dio'!#REF! -> #REF!
B44: 323 | D44: Rashodi za usluge | E44: =E45+E47+E52+E54+E56+E59 -> #REF! | F44: =F45+F47+F52+F54+F56+F59 -> #REF! | G44: =G45+G47+G52+G54+G56+G59 -> 409600 | H44: =H45+H47+H52+H54+H56+H59 -> 297032.91 | I44: =I45+I47+I52+I54+I56+I59 -> 297032.91 | J44: =J45+J47+J52+J54+J56+J59 -> 297032.91
B45: 3231 | D45: Usluge telefona i pošte | E45: =E46 -> #REF! | F45: =F46 -> #REF! | H45: =H46 -> 0 | I45: =I46 -> 0 | J45: =J46 -> 0
B46: 32311 | D46: Usluge telefona, telefaksa | E46: ='Rekapitulacija Posebni dio'!#REF! -> #REF! | F46: ='Rekapitulacija Posebni dio'!#REF! -> #REF! | H46: 0 | I46: 0 | J46: 0
B47: 3232 | D47: Usluge tekućeg i investicijskog održavanja | E47: =SUM(E48:E51) -> #REF! | F47: =SUM(F48:F51) -> #REF! | G47: =SUM(G48:G51) -> 315175 | H47: =SUM(H48:H51) -> 224043.74 | I47: =SUM(I48:I51) -> 224043.74 | J47: =SUM(J48:J51) -> 224043.74
B48: 32321 | D48: Usluge tekućeg i investicijskog održavanja građevinskih objekata | E48: ='Rekapitulacija Posebni dio'!C469+'Rekapitulacija Posebni dio'!#REF!+'Rekapitulacija Posebni dio'!#REF! -> #REF! | F48: ='Rekapitulacija Posebni dio'!D469+'Rekapitulacija Posebni dio'!#REF!+'Rekapitulacija Posebni dio'!#REF! -> #REF! | G48: ='Rekapitulacija Posebni dio'!E469 -> 87500 | H48: ='Rekapitulacija Posebni dio'!F469 -> 224043.74 | I48: ='Rekapitulacija Posebni dio'!G469 -> 224043.74 | J48: ='Rekapitulacija Posebni dio'!H469 -> 224043.74
B49: 32322 | D49: Usluge tekućeg i investicijskog održavanja postrojenja i opreme | E49: ='Rekapitulacija Posebni dio'!C470+'Rekapitulacija Posebni dio'!#REF!+'Rekapitulacija Posebni dio'!#REF! -> #REF! | F49: ='Rekapitulacija Posebni dio'!D470+'Rekapitulacija Posebni dio'!#REF!+'Rekapitulacija Posebni dio'!#REF! -> #REF! | G49: ='Rekapitulacija Posebni dio'!E470 -> 177675 | H49: ='Rekapitulacija Posebni dio'!F470 -> 0 | I49: ='Rekapitulacija Posebni dio'!G470 -> 0 | J49: ='Rekapitulacija Posebni dio'!H470 -> 0
B50: 32323 | D50: Usluge tekućeg i investicijskog održavanja prijevoznih sredstava | E50: ='Rekapitulacija Posebni dio'!C471+'Rekapitulacija Posebni dio'!#REF!+'Rekapitulacija Posebni dio'!#REF! -> #REF! | F50: ='Rekapitulacija Posebni dio'!D471+'Rekapitulacija Posebni dio'!#REF!+'Rekapitulacija Posebni dio'!#REF! -> #REF! | G50: ='Rekapitulacija Posebni dio'!E471 -> 30000 | H50: ='Rekapitulacija Posebni dio'!F471 -> 0 | I50: ='Rekapitulacija Posebni dio'!G471 -> 0 | J50: ='Rekapitulacija Posebni dio'!H471 -> 0
B51: 32329 | D51: Ostale usluge tekućeg i investicijskog održavanja | E51: ='Rekapitulacija Posebni dio'!#REF! -> #REF! | F51: ='Rekapitulacija Posebni dio'!#REF! -> #REF! | G51: ='Rekapitulacija Posebni dio'!E472 -> 20000 | H51: ='Rekapitulacija Posebni dio'!F472 -> 0 | I51: ='Rekapitulacija Posebni dio'!G472 -> 0 | J51: ='Rekapitulacija Posebni dio'!H472 -> 0
B52: 3236 | D52: Zdravstvene i veterinarske usluge | E52: =E53 -> #REF! | F52: =F53 -> #REF! | H52: =H53 -> 0 | I52: =I53 -> 0 | J52: =J53 -> 0
B53: 32369 | D53: Zdravstvene i veterinarske usluge | E53: ='Rekapitulacija Posebni dio'!#REF!+'Rekapitulacija Posebni dio'!#REF! -> #REF! | F53: ='Rekapitulacija Posebni dio'!#REF!+'Rekapitulacija Posebni dio'!#REF! -> #REF! | H53: 0 | I53: 0 | J53: 0
B54: 3237 | D54: Intelektualne usluge | E54: =E55 -> #REF! | F54: =F55 -> #REF! | H54: =H55 -> 0 | I54: =I55 -> 0 | J54: =J55 -> 0
B55: 32379 | D55: Ostale intelektualne usluge | E55: ='Rekapitulacija Posebni dio'!#REF! -> #REF! | F55: ='Rekapitulacija Posebni dio'!#REF! -> #REF! | H55: 0 | I55: 0 | J55: 0
B56: 3238 | D56: Računalne usluge | E56: =SUM(E58) -> #REF! | F56: =SUM(F58) -> #REF! | G56: =SUM(G57:G58) -> 94425 | H56: =SUM(H57:H58) -> 72989.17 | I56: =SUM(I57:I58) -> 72989.17 | J56: =SUM(J57:J58) -> 72989.17
B57: 32381 | D57: Usluge ažuriranja računalnih baza | G57: ='Rekapitulacija Posebni dio'!E476 -> 0 | H57: ='Rekapitulacija Posebni dio'!F476 -> 72989.17 | I57: ='Rekapitulacija Posebni dio'!G476 -> 72989.17 | J57: ='Rekapitulacija Posebni dio'!H476 -> 72989.17
B58: 32389 | D58: Ostale računalne usluge | E58: ='Rekapitulacija Posebni dio'!C477+'Rekapitulacija Posebni dio'!#REF! -> #REF! | F58: ='Rekapitulacija Posebni dio'!D477+'Rekapitulacija Posebni dio'!#REF! -> #REF! | G58: ='Rekapitulacija Posebni dio'!E477 -> 94425 | H58: ='Rekapitulacija Posebni dio'!F477 -> 0 | I58: ='Rekapitulacija Posebni dio'!G477 -> 0 | J58: ='Rekapitulacija Posebni dio'!H477 -> 0
B59: 3239 | D59: Ostale usluge | E59: =E60+E61 -> #REF! | F59: =F60+F61 -> #REF! | H59: =H60+H61 -> 0 | I59: =I60+I61 -> 0 | J59: =J60+J61 -> 0
B60: 32394 | D60: Usluge pri registraciji prijevoznih sredstava | E60: ='Rekapitulacija Posebni dio'!#REF! -> #REF! | F60: ='Rekapitulacija Posebni dio'!#REF! -> #REF! | I60: 0 | J60: 0
B61: 32399 | D61: Ostale nespomenute usluge | E61: ='Rekapitulacija Posebni dio'!#REF! -> #REF! | F61: ='Rekapitulacija Posebni dio'!#REF! -> #REF! | H61: 0 | I61: 0 | J61: 0
B62: 325 | D62: Rashodi lijekova i potrošnog materijala | E62: =E63 -> #REF! | F62: =F63 -> #REF! | H62: =H63 -> 0 | I62: =I63 -> 0 | J62: =J63 -> 0
B63: 3251 | D63: Rashodi lijekova i potrošnog materijala | E63: =E64+E65 -> #REF! | F63: =F64+F65 -> #REF! | H63: =H64+H65 -> 0 | I63: =I64+I65 -> 0 | J63: =J64+J65 -> 0
B64: 32511 | D64: Rashodi po osnovi utroška lijekova | E64: ='Rekapitulacija Posebni dio'!#REF!+'Rekapitulacija Posebni dio'!#REF! -> #REF! | F64: ='Rekapitulacija Posebni dio'!#REF!+'Rekapitulacija Posebni dio'!#REF! -> #REF! | H64: 0 | I64: 0 | J64: 0
B65: 32513 | D65: Rashodi po osnovi utroška potrošnog medicinskog materijala | E65: ='Rekapitulacija Posebni dio'!#REF!+'Rekapitulacija Posebni dio'!#REF!+'Rekapitulacija Posebni dio'!#REF! -> #REF! | F65: ='Rekapitulacija Posebni dio'!#REF!+'Rekapitulacija Posebni dio'!#REF!+'Rekapitulacija Posebni dio'!#REF! -> #REF! | H65: 0 | I65: 0 | J65: 0
B66: 329 | D66: Ostali nespomenuti rashodi poslovanja | E66: =E67+E69+E71 -> #REF! | F66: =F67+F69+F71 -> #REF! | G66: =G67+G69+G71 -> 18000 | H66: =H67+H69+H71 -> 18000 | I66: =I67+I69+I71 -> 18000 | J66: =J67+J69+J71 -> 18000
B67: 3292 | D67: Premija osiguranja | E67: =E68 -> #REF! | F67: =F68 -> #REF! | H67: =H68 -> 0 | I67: =I68 -> 0 | J67: =J68 -> 0
B68: 32923 | D68: Premije osiguranja zaposlenih | E68: ='Rekapitulacija Posebni dio'!#REF! -> #REF! | F68: ='Rekapitulacija Posebni dio'!#REF! -> #REF! | H68: 0 | I68: 0 | J68: 0
B69: 3293 | D69: Reprezentacija | E69: =E70 -> #REF! | F69: =F70 -> #REF! | H69: =H70 -> 0 | I69: =I70 -> 0 | J69: =J70 -> 0
B70: 32931 | D70: Reprezentacija | E70: ='Rekapitulacija Posebni dio'!#REF! -> #REF! | F70: ='Rekapitulacija Posebni dio'!#REF! -> #REF! | H70: 0 | I70: 0 | J70: 0
B71: 3299 | D71: Ostali nespomenuti rashodi poslovanja | E71: =E72 -> #REF! | F71: =F72 -> #REF! | G71: =G72 -> 18000 | H71: =H72 -> 18000 | I71: =I72 -> 18000 | J71: =J72 -> 18000
B72: 32999 | D72: Ostali nespomenuti rashodi poslovanja | E72: ='Rekapitulacija Posebni dio'!#REF! -> #REF! | F72: ='Rekapitulacija Posebni dio'!#REF! -> #REF! | G72: ='Rekapitulacija Posebni dio'!E567 -> 18000 | H72: ='Rekapitulacija Posebni dio'!F567 -> 18000 | I72: ='Rekapitulacija Posebni dio'!G567 -> 18000 | J72: ='Rekapitulacija Posebni dio'!H567 -> 18000
A73: 4 | D73: Rashodi za nabavu nefinancijske imovine | E73: =E74+E78+E103 -> #REF! | F73: =F74+F78+F103 -> #REF! | G73: =G74+G78+G103 -> 275400 | H73: =H74+H78+H103 -> 769502.99 | I73: =I74+I78+I103 -> 769502.99 | J73: =J74+J78+J103 -> 769502.99
B74: 41 | D74: Rashodi za nabavu neproizvedene dugotrajne imovine | E74: =E75 -> #REF! | F74: =F75 -> #REF! | G74: =G75 -> 3000 | H74: =H75 -> 1300 | I74: =I75 -> 1300 | J74: =J75 -> 1300
B75: 412 | D75: Nematerijalna imovina - licence | E75: =E76 -> #REF! | F75: =F76 -> #REF! | G75: =G76 -> 3000 | H75: =H76 -> 1300 | I75: =I76 -> 1300 | J75: =J76 -> 1300
B76: 4123 | D76: Nematerijalna imovina - licence | E76: =E77 -> #REF! | F76: =F77 -> #REF! | G76: =G77 -> 3000 | H76: =H77 -> 1300 | I76: =I77 -> 1300 | J76: =J77 -> 1300
B77: 41231 | D77: Licence | E77: ='Rekapitulacija Posebni dio'!#REF! -> #REF! | F77: ='Rekapitulacija Posebni dio'!#REF! -> #REF! | G77: ='Rekapitulacija Posebni dio'!E482 -> 3000 | H77: ='Rekapitulacija Posebni dio'!F482 -> 1300 | I77: ='Rekapitulacija Posebni dio'!G482 -> 1300 | J77: ='Rekapitulacija Posebni dio'!H482 -> 1300
B78: 42 | D78: Rashodi za nabavu proizvedene dug. imovine | E78: =SUM(E82,E97,E100) -> #REF! | F78: =SUM(F82,F97,F100) -> #REF! | G78: =SUM(G79,G82,G97,G100) -> 193400 | H78: =SUM(H79,H82,H97,H100) -> 592202.99 | I78: =SUM(I79,I82,I97,I100) -> 592202.99 | J78: =SUM(J79,J82,J97,J100) -> 592202.99
B79: 421 | D79: Građevinski objekti | G79: =G80 -> 0 | H79: =H80 -> 3062.5 | I79: =I80 -> 3062.5 | J79: =J80 -> 3062.5
B80: 4212 | D80: Poslovni objekti | G80: =G81 -> 0 | H80: =H81 -> 3062.5 | I80: =I81 -> 3062.5 | J80: =J81 -> 3062.5
B81: 42122 | D81: Bolnice, ostali zdravstveni objekti, laboratoriji, umirovljenički domovi i centri za socijalnu skrb | G81: ='Rekapitulacija Posebni dio'!E486 -> 0 | H81: ='Rekapitulacija Posebni dio'!F486 -> 3062.5 | I81: ='Rekapitulacija Posebni dio'!G486 -> 3062.5 | J81: ='Rekapitulacija Posebni dio'!H486 -> 3062.5
B82: 422 | D82: Postrojenja i oprema | E82: =E83+E86+E88+E91+E93 -> #REF! | F82: =F83+F86+F88+F91+F93 -> #REF! | G82: =G83+G86+G88+G91+G93+G95 -> 173400 | H82: =H83+H86+H88+H91+H93+H95 -> 479140.49 | I82: =I83+I86+I88+I91+I93+I95 -> 479140.49 | J82: =J83+J86+J88+J91+J93+J95 -> 479140.49
B83: 4221 | D83: Uredska oprema i namještaj | E83: =SUM(E84:E85) -> #REF! | F83: =SUM(F84:F85) -> #REF! | G83: =SUM(G84:G85) -> 29600 | H83: =SUM(H84:H85) -> 74651.66 | I83: =SUM(I84:I85) -> 74651.66 | J83: =SUM(J84:J85) -> 74651.66
B84: 42211 | D84: Računala i računalna oprema | E84: ='Rekapitulacija Posebni dio'!C489+'Rekapitulacija Posebni dio'!#REF!+'Rekapitulacija Posebni dio'!#REF! -> #REF! | F84: ='Rekapitulacija Posebni dio'!D489+'Rekapitulacija Posebni dio'!#REF!+'Rekapitulacija Posebni dio'!#REF! -> #REF! | G84: ='Rekapitulacija Posebni dio'!E489 -> 19000 | H84: ='Rekapitulacija Posebni dio'!F489 -> 43776.66 | I84: ='Rekapitulacija Posebni dio'!G489 -> 43776.66 | J84: ='Rekapitulacija Posebni dio'!H489 -> 43776.66
B85: 42212 | D85: Uredski namještaj | E85: ='Rekapitulacija Posebni dio'!C490+'Rekapitulacija Posebni dio'!#REF!+'Rekapitulacija Posebni dio'!#REF! -> #REF! | F85: ='Rekapitulacija Posebni dio'!D490+'Rekapitulacija Posebni dio'!#REF!+'Rekapitulacija Posebni dio'!#REF! -> #REF! | G85: ='Rekapitulacija Posebni dio'!E490 -> 10600 | H85: ='Rekapitulacija Posebni dio'!F490 -> 30875 | I85: ='Rekapitulacija Posebni dio'!G490 -> 30875 | J85: ='Rekapitulacija Posebni dio'!H490 -> 30875
B86: 4222 | D86: Komunikacijska oprema | E86: =E87 -> #REF! | F86: =F87 -> #REF! | G86: =G87 -> 0 | H86: =H87 -> 61.19 | I86: =I87 -> 61.19 | J86: =J87 -> 61.19
B87: 42222 | D87: Telefoni i ostali komunikacijski uređaji | E87: ='Rekapitulacija Posebni dio'!#REF! -> #REF! | F87: ='Rekapitulacija Posebni dio'!#REF! -> #REF! | G87: ='Rekapitulacija Posebni dio'!E492 -> 0 | H87: ='Rekapitulacija Posebni dio'!F492 -> 61.19 | I87: ='Rekapitulacija Posebni dio'!G492 -> 61.19 | J87: ='Rekapitulacija Posebni dio'!H492 -> 61.19
B88: 4223 | D88: Oprema za održavanje i zaštitu | E88: =E90 -> #REF! | F88: =F90 -> #REF! | G88: =G89+G90 -> 8000 | H88: =H89+H90 -> 9191.75 | I88: =I89+I90 -> 9191.75 | J88: =J89+J90 -> 9191.75
B89: 42232 | D89: Oprema za grijanje, ventilaciju i hlađenje | G89: ='Rekapitulacija Posebni dio'!E494 -> 8000 | H89: ='Rekapitulacija Posebni dio'!F494 -> 0 | I89: ='Rekapitulacija Posebni dio'!G494 -> 0 | J89: ='Rekapitulacija Posebni dio'!H494 -> 0
B90: 42232 | D90: Oprema za održavanje prostorija | E90: ='Rekapitulacija Posebni dio'!C495+'Rekapitulacija Posebni dio'!#REF!+'Rekapitulacija Posebni dio'!#REF! -> #REF! | F90: ='Rekapitulacija Posebni dio'!D495+'Rekapitulacija Posebni dio'!#REF!+'Rekapitulacija Posebni dio'!#REF! -> #REF! | G90: ='Rekapitulacija Posebni dio'!E495 -> 0 | H90: ='Rekapitulacija Posebni dio'!F495 -> 9191.75 | I90: ='Rekapitulacija Posebni dio'!G495 -> 9191.75 | J90: ='Rekapitulacija Posebni dio'!H495 -> 9191.75
B91: 4224 | D91: Medicinska i laboratorijska oprema | E91: =SUM(E92) -> #REF! | F91: =SUM(F92) -> #REF! | G91: =SUM(G92) -> 120800 | H91: =SUM(H92) -> 376267.39 | I91: =SUM(I92) -> 376267.39 | J91: =SUM(J92) -> 376267.39
B92: 42241 | D92: Medicinska oprema | E92: ='Rekapitulacija Posebni dio'!C497+'Rekapitulacija Posebni dio'!#REF!+'Rekapitulacija Posebni dio'!#REF! -> #REF! | F92: ='Rekapitulacija Posebni dio'!D497+'Rekapitulacija Posebni dio'!#REF!+'Rekapitulacija Posebni dio'!#REF! -> #REF! | G92: ='Rekapitulacija Posebni dio'!E497 -> 120800 | H92: ='Rekapitulacija Posebni dio'!F497 -> 376267.39 | I92: ='Rekapitulacija Posebni dio'!G497 -> 376267.39 | J92: ='Rekapitulacija Posebni dio'!H497 -> 376267.39
B93: 4225 | D93: Instrumenti, uređaji i strojevi | E93: =SUM(E94) -> #REF! | F93: =SUM(F94) -> #REF! | G93: =SUM(G94) -> 15000 | H93: =SUM(H94) -> 15000 | I93: =SUM(I94) -> 15000 | J93: =SUM(J94) -> 15000
B94: 42251 | D94: Precizni i optički instrumenti | E94: ='Rekapitulacija Posebni dio'!C499+'Rekapitulacija Posebni dio'!#REF!+'Rekapitulacija Posebni dio'!#REF! -> #REF! | F94: ='Rekapitulacija Posebni dio'!D499+'Rekapitulacija Posebni dio'!#REF!+'Rekapitulacija Posebni dio'!#REF! -> #REF! | G94: ='Rekapitulacija Posebni dio'!E499 -> 15000 | H94: ='Rekapitulacija Posebni dio'!F499 -> 15000 | I94: ='Rekapitulacija Posebni dio'!G499 -> 15000 | J94: ='Rekapitulacija Posebni dio'!H499 -> 15000
B95: 4227 | D95: Uređaji, strojevi i oprema za ostale namjene | H95: =H96 -> 3968.5 | I95: =I96 -> 3968.5 | J95: =J96 -> 3968.5
B96: 42271 | D96: Uređaji | G96: ='Rekapitulacija Posebni dio'!E501 -> 0 | H96: ='Rekapitulacija Posebni dio'!F501 -> 3968.5 | I96: ='Rekapitulacija Posebni dio'!G501 -> 3968.5 | J96: ='Rekapitulacija Posebni dio'!H501 -> 3968.5
B97: 423 | D97: Prijevozna sredstva | E97: =E98 -> #REF! | F97: =F98 -> #REF! | G97: =G98 -> 18000 | H97: =H98 -> 108000 | I97: =I98 -> 108000 | J97: =J98 -> 108000
B98: 4231 | D98: Prijevozna sredstva u cestovnom prometu | E98: =E99 -> #REF! | F98: =F99 -> #REF! | G98: =G99 -> 18000 | H98: =H99 -> 108000 | I98: =I99 -> 108000 | J98: =J99 -> 108000
B99: 42311 | D99: Osobni automobili | E99: ='Rekapitulacija Posebni dio'!#REF! -> #REF! | F99: ='Rekapitulacija Posebni dio'!#REF! -> #REF! | G99: ='Rekapitulacija Posebni dio'!E504 -> 18000 | H99: ='Rekapitulacija Posebni dio'!F504 -> 108000 | I99: ='Rekapitulacija Posebni dio'!G504 -> 108000 | J99: ='Rekapitulacija Posebni dio'!H504 -> 108000
B100: 426 | D100: Nematerijalna proizvedena imovina | E100: =E101 -> #REF! | F100: =F101 -> #REF! | G100: =G101 -> 2000 | H100: =H101 -> 2000 | I100: =I101 -> 2000 | J100: =J101 -> 2000
B101: 4262 | D101: Ulaganja u računalne programe | E101: =E102 -> #REF! | F101: =F102 -> #REF! | G101: =G102 -> 2000 | H101: =H102 -> 2000 | I101: =I102 -> 2000 | J101: =J102 -> 2000
...

Sheet Prih.i rash.
A2: PRIHODI I RASHODI PREMA IZVORIMA FINANCIRANJA
A4: BROJČANA OZNAKA I NAZIV | B4: IZVRŠENJE 2024. | C4: TEKUĆI PLAN ZA 2025. | D4: PLAN ZA 2026. REBALANS I | E4: PLAN ZA 2026. | F4: PROJEKCIJA ZA 2027. | G4: PROJEKCIJA ZA 2028.
A5: UKUPNO PRIHODI | B5: =B6+B8+B10+B15+B21+B23 -> #REF! | C5: =C6+C8+C10+C15+C21+C23 -> #REF! | D5: =D6+D8+D10+D15+D21+D23 -> 27029768 | E5: =E6+E8+E10+E15+E21+E23 -> 27400996 | F5: =F6+F8+F10+F15+F21+F23 -> 28076192 | G5: =G6+G8+G10+G15+G21+G23 -> 28547128
A6: 1 Opći prihodi i primici | B6: =B7 -> #REF! | C6: =C7 -> #REF! | D6: =D7 -> 879378.02 | E6: =E7 -> 1250606 | F6: =F7 -> 1250606 | G6: =G7 -> 1250606
A7: 11 Opći prihodi i primici | B7: ='Prihodi po ek klas i izvorima'!E15 -> #REF! | C7: ='Prihodi po ek klas i izvorima'!F15 -> #REF! | D7: ='Prihodi po ek klas i izvorima'!G15 -> 879378.02 | E7: ='Prihodi po ek klas i izvorima'!H15 -> 1250606 | F7: ='Prihodi po ek klas i izvorima'!I15 -> 1250606 | G7: ='Prihodi po ek klas i izvorima'!J15 -> 1250606
A8: 3 Vlastiti prihodi | B8: =B9 -> 0 | C8: =C9 -> 0 | D8: =D9 -> 3805116.3 | E8: =E9 -> 3805116.3 | F8: =F9 -> 3851740.3 | G8: =G9 -> 3883588.8
A9: 31 Vlastiti prihodi | B9: ='Prihodi po ek klas i izvorima'!E43 -> 0 | C9: ='Prihodi po ek klas i izvorima'!F43 -> 0 | D9: ='Prihodi po ek klas i izvorima'!G43 -> 3805116.3 | E9: ='Prihodi po ek klas i izvorima'!H43 -> 3805116.3 | F9: ='Prihodi po ek klas i izvorima'!I43 -> 3851740.3 | G9: ='Prihodi po ek klas i izvorima'!J43 -> 3883588.8
A10: 4 Prihodi za posebne namjene | B10: =SUM(B11:B14) -> 0 | C10: =SUM(C11:C14) -> 0 | D10: =SUM(D11:D14) -> 21155050 | E10: =SUM(E11:E14) -> 21155050 | F10: =SUM(F11:F14) -> 21912926 | G10: =SUM(G11:G14) -> 22405180
A11: 43 Prihodi od financijske imovine | B11: ='Prihodi po ek klas i izvorima'!E45 -> 0 | C11: ='Prihodi po ek klas i izvorima'!F45 -> 0 | D11: ='Prihodi po ek klas i izvorima'!G45 -> 100000 | E11: ='Prihodi po ek klas i izvorima'!H45 -> 100000 | F11: ='Prihodi po ek klas i izvorima'!I45 -> 102000 | G11: ='Prihodi po ek klas i izvorima'!J45 -> 104040
A12: 43 Prihodi za posebne namjene (HZZO) | B12: ='Prihodi po ek klas i izvorima'!E61 -> 0 | C12: ='Prihodi po ek klas i izvorima'!F61 -> 0 | D12: ='Prihodi po ek klas i izvorima'!G61 -> 20119750 | E12: ='Prihodi po ek klas i izvorima'!H61 -> 20119750 | F12: ='Prihodi po ek klas i izvorima'!I61 -> 20847031 | G12: ='Prihodi po ek klas i izvorima'!J61 -> 21326581
A13: 43 Prihodi za posebne namjene (dopunsko osiguranje, participacija,…) | B13: ='Prihodi po ek klas i izvorima'!E49 -> 0 | C13: ='Prihodi po ek klas i izvorima'!F49 -> 0 | D13: ='Prihodi po ek klas i izvorima'!G49 -> 932300 | E13: ='Prihodi po ek klas i izvorima'!H49 -> 932300 | F13: ='Prihodi po ek klas i izvorima'!I49 -> 960895 | G13: ='Prihodi po ek klas i izvorima'!J49 -> 971559.4
A14: 43 Ostali prihodi | B14: ='Prihodi po ek klas i izvorima'!E65 -> 0 | C14: ='Prihodi po ek klas i izvorima'!F65 -> 0 | D14: ='Prihodi po ek klas i izvorima'!G65 -> 3000 | E14: ='Prihodi po ek klas i izvorima'!H65 -> 3000 | F14: ='Prihodi po ek klas i izvorima'!I65 -> 3000 | G14: ='Prihodi po ek klas i izvorima'!J65 -> 3000
A15: 5 Pomoći | B15: =B16 -> #REF! | C15: =C16 -> #REF! | D15: =D16+D17+D19 -> 1176423.8 | E15: =E16+E17+E19 -> 1176423.8 | F15: =F16+F17+F19 -> 1047924.5 | G15: =G16+G17+G19 -> 994248.49
A16: 52 Ostale pomoći | B16: ='Prihodi po ek klas i izvorima'!E84 -> #REF! | C16: ='Prihodi po ek klas i izvorima'!F84 -> #REF! | D16: ='Prihodi po ek klas i izvorima'!G69+'Prihodi po ek klas i izvorima'!G73+'Prihodi po ek klas i izvorima'!G76+'Prihodi po ek klas i izvorima'!G81 -> 582814.61 | E16: ='Prihodi po ek klas i izvorima'!H69+'Prihodi po ek klas i izvorima'!H73+'Prihodi po ek klas i izvorima'!H76+'Prihodi po ek klas i izvorima'!H81 -> 582814.61 | F16: ='Prihodi po ek klas i izvorima'!I69+'Prihodi po ek klas i izvorima'!I73+'Prihodi po ek klas i izvorima'!I76+'Prihodi po ek klas i izvorima'!I81 -> 568814.61 | G16: ='Prihodi po ek klas i izvorima'!J69+'Prihodi po ek klas i izvorima'!J73+'Prihodi po ek klas i izvorima'!J76+'Prihodi po ek klas i izvorima'!J81 -> 568814.61
A17: 56 Fondovi EU | D17: =D18 -> 156200 | E17: =E18 -> 156200 | F17: =F18 -> 159324 | G17: =G18 -> 162510.48
A18: 563 Europski fond za regionalni razvoj | D18: ='Prihodi po ek klas i izvorima'!G89 -> 156200 | E18: ='Prihodi po ek klas i izvorima'!H89 -> 156200 | F18: ='Prihodi po ek klas i izvorima'!I89 -> 159324 | G18: ='Prihodi po ek klas i izvorima'!J89 -> 162510.48
A19: 58 Instrumenti EU nove generacije | D19: =D20 -> 437409.22 | E19: =E20 -> 437409.22 | F19: =F20 -> 319785.88 | G19: =G20 -> 262923.4
A20: 581 Mehanizam za oporavak i otpornost - bespovratna sredstva | D20: ='Prihodi po ek klas i izvorima'!G95 -> 437409.22 | E20: ='Prihodi po ek klas i izvorima'!H95 -> 437409.22 | F20: ='Prihodi po ek klas i izvorima'!I95 -> 319785.88 | G20: ='Prihodi po ek klas i izvorima'!J95 -> 262923.4
A21: 6 Donacije | B21: =B22 -> 0 | C21: =C22 -> 0 | D21: =D22 -> 2000 | E21: =E22 -> 2000 | F21: =F22 -> 2220 | G21: =G22 -> 2440.4
A22: 61 Donacije | B22: ='Prihodi po ek klas i izvorima'!E105 -> 0 | C22: ='Prihodi po ek klas i izvorima'!F105 -> 0 | D22: ='Prihodi po ek klas i izvorima'!G105 -> 2000 | E22: ='Prihodi po ek klas i izvorima'!H105 -> 2000 | F22: ='Prihodi po ek klas i izvorima'!I105 -> 2220 | G22: ='Prihodi po ek klas i izvorima'!J105 -> 2440.4
A23: 7 Prihodi od nefinancijske imovine i naknade štete s naslova osiguranja | B23: =B24 -> 0 | C23: =C24 -> 0 | D23: =D24 -> 11800 | E23: =E24 -> 11800 | F23: =F24 -> 10775 | G23: =G24 -> 11064
A24: 71 Prihodi od nefinancijske imovine i naknade štete s naslova osiguranja | B24: ='Prihodi po ek klas i izvorima'!E111+'Prihodi po ek klas i izvorima'!E120 -> 0 | C24: ='Prihodi po ek klas i izvorima'!F111+'Prihodi po ek klas i izvorima'!F120 -> 0 | D24: ='Prihodi po ek klas i izvorima'!G111+'Prihodi po ek klas i izvorima'!G120 -> 11800 | E24: ='Prihodi po ek klas i izvorima'!H111+'Prihodi po ek klas i izvorima'!H120 -> 11800 | F24: ='Prihodi po ek klas i izvorima'!I111+'Prihodi po ek klas i izvorima'!I120 -> 10775 | G24: ='Prihodi po ek klas i izvorima'!J111+'Prihodi po ek klas i izvorima'!J120 -> 11064
A27: UKUPNO RASHODI | B27: =B28+B30+B32+B34+B40+B42 -> #REF! | C27: =C28+C30+C32+C34+C40+C42 -> #REF! | D27: =D28+D30+D32+D34+D40+D42 -> 26784175 | E27: =E28+E30+E32+E34+E40+E42 -> 27155403 | F27: =F28+F30+F32+F34+F40+F42 -> 27423629 | G27: =G28+G30+G32+G34+G40+G42 -> 27667152
A28: 1 Opći prihodi i primici | B28: =B29 -> #REF! | C28: =C29 -> #REF! | D28: =D29 -> 879378.02 | E28: =E29 -> 1250606 | F28: =F29 -> 1250606 | G28: =G29 -> 1250606
A29: 11 Opći prihodi i primici | B29: =' PRIHODI I RASHODI-izvori'!E107 -> #REF! | C29: =' PRIHODI I RASHODI-izvori'!F107 -> #REF! | D29: =' PRIHODI I RASHODI-izvori'!G107 -> 879378.02 | E29: =' PRIHODI I RASHODI-izvori'!H107 -> 1250606 | F29: =' PRIHODI I RASHODI-izvori'!I107 -> 1250606 | G29: =' PRIHODI I RASHODI-izvori'!J107 -> 1250606
A30: 3 Vlastiti prihodi | B30: =B31 -> 0 | C30: =C31 -> 0 | D30: =D31 -> 3804916.3 | E30: =E31 -> 3804916.3 | F30: =F31 -> 3850540.3 | G30: =G31 -> 3882388.8
A31: 31 Vlastiti prihodi | B31: =' PRIHODI I RASHODI-izvori'!E244 -> 0 | C31: =' PRIHODI I RASHODI-izvori'!F244 -> 0 | D31: =' PRIHODI I RASHODI-izvori'!G244 -> 3804916.3 | E31: =' PRIHODI I RASHODI-izvori'!H244 -> 3804916.3 | F31: =' PRIHODI I RASHODI-izvori'!I244 -> 3850540.3 | G31: =' PRIHODI I RASHODI-izvori'!J244 -> 3882388.8
A32: 4 Prihodi za posebne namjene | B32: =B33 -> 0 | C32: =C33 -> 0 | D32: =D33 -> 21410157 | E32: =E33 -> 21410157 | F32: =F33 -> 21715388 | G32: =G33 -> 22025968
A33: 43 Prihodi za posebne namjene | B33: =' PRIHODI I RASHODI-izvori'!E453 -> 0 | C33: =' PRIHODI I RASHODI-izvori'!F453 -> 0 | D33: =' PRIHODI I RASHODI-izvori'!G453 -> 21410157 | E33: =' PRIHODI I RASHODI-izvori'!H453 -> 21410157 | F33: =' PRIHODI I RASHODI-izvori'!I453 -> 21715388 | G33: =' PRIHODI I RASHODI-izvori'!J453 -> 22025968
A34: 5 Pomoći | B34: =B35 -> #REF! | C34: =C35 -> #REF! | D34: =D35+D36+D38 -> 675923.83 | E34: =E35+E36+E38 -> 675923.83 | F34: =F35+F36+F38 -> 593123.83 | G34: =G35+G36+G38 -> 493748.49
A35: 52 Ostale pomoći | B35: =' PRIHODI I RASHODI-izvori'!E496 -> #REF! | C35: =' PRIHODI I RASHODI-izvori'!F496 -> #REF! | D35: =' PRIHODI I RASHODI-izvori'!G496 -> 82314.61 | E35: =' PRIHODI I RASHODI-izvori'!H496 -> 82314.61 | F35: =' PRIHODI I RASHODI-izvori'!I496 -> 68314.61 | G35: =' PRIHODI I RASHODI-izvori'!J496 -> 68314.61
A36: 56 Fondovi EU | D36: =D37 -> 156200 | E36: =E37 -> 156200 | F36: =F37 -> 159324 | G36: =G37 -> 162510.48
A37: 563 Europski fond za regionalni razvoj | D37: =' PRIHODI I RASHODI-izvori'!G516 -> 156200 | E37: =' PRIHODI I RASHODI-izvori'!H516 -> 156200 | F37: =' PRIHODI I RASHODI-izvori'!I516 -> 159324 | G37: =' PRIHODI I RASHODI-izvori'!J516 -> 162510.48
A38: 58 Instrumenti EU nove generacije | D38: =D39 -> 437409.22 | E38: =E39 -> 437409.22 | F38: =F39 -> 365485.22 | G38: =G39 -> 262923.4
A39: 581 Mehanizam za oporavak i otpornost - bespovratna sredstva | D39: =' PRIHODI I RASHODI-izvori'!G551 -> 437409.22 | E39: =' PRIHODI I RASHODI-izvori'!H551 -> 437409.22 | F39: =' PRIHODI I RASHODI-izvori'!I551 -> 365485.22 | G39: =' PRIHODI I RASHODI-izvori'!J551 -> 262923.4
A40: 6 Donacije | B40: =B41 -> 0 | C40: =C41 -> 0 | D40: =D41 -> 2000 | E40: =E41 -> 2000 | F40: =F41 -> 2220 | G40: =G41 -> 2440.4
A41: 61 Donacije | B41: =' PRIHODI I RASHODI-izvori'!E582 -> 0 | C41: =' PRIHODI I RASHODI-izvori'!F582 -> 0 | D41: =' PRIHODI I RASHODI-izvori'!G582 -> 2000 | E41: =' PRIHODI I RASHODI-izvori'!H582 -> 2000 | F41: =' PRIHODI I RASHODI-izvori'!I582 -> 2220 | G41: =' PRIHODI I RASHODI-izvori'!J582 -> 2440.4
A42: 7 Prihodi od nefinancijske imovine i naknade štete s naslova osiguranja | B42: =B43 -> 0 | C42: =C43 -> 0 | D42: =D43 -> 11800 | E42: =E43 -> 11800 | F42: =F43 -> 11750 | G42: =G43 -> 12000
A43: 71 Prihodi od nefinancijske imovine i naknade štete s naslova osiguranja | B43: =' PRIHODI I RASHODI-izvori'!E605 -> 0 | C43: =' PRIHODI I RASHODI-izvori'!F605 -> 0 | D43: =' PRIHODI I RASHODI-izvori'!G605 -> 11800 | E43: =' PRIHODI I RASHODI-izvori'!H605 -> 11800 | F43: =' PRIHODI I RASHODI-izvori'!I605 -> 11750 | G43: =' PRIHODI I RASHODI-izvori'!J605 -> 12000

Sheet RASHODI-funkcijska
A2: I. OPĆI DIO
A4: A. RAČUN PRIHODA I RASHODA
A6: IZVJEŠTAJ O RASHODIMA PREMA FUNKCIJSKOJ KLASIFIKACIJI
A8: BROJČANA OZNAKA I NAZIV | B8: IZVRŠENJE 2024. | C8: TEKUĆI PLAN ZA 2025. | D8: PLAN ZA 2026. REBALANS I | E8: PLAN ZA 2026. | F8: PROJEKCIJA ZA 2027. | G8: PROJEKCIJA ZA 2028.
A9: 1 | B9: 2 | C9: 3 | E9: 4 | F9: 5 | G9: 6
A10: UKUPNO RASHODI | B10: ='RASHODI-ek.kl.'!D274 -> #REF! | C10: ='RASHODI-ek.kl.'!E274 -> #REF! | D10: ='RASHODI-ek.kl.'!F274 -> 26784175 | E10: ='RASHODI-ek.kl.'!G274 -> 27155403 | F10: ='RASHODI-ek.kl.'!H274 -> 27423629 | G10: ='RASHODI-ek.kl.'!I274 -> 27667152
A11: 07 Zdravstvo | B11: =B12 -> #REF! | C11: =C12 -> #REF! | D11: =D12 -> 26784175 | E11: =E12 -> 27155403 | F11: =F12 -> 27423629 | G11: =G12 -> 27667152
A12: 072 Služba za vanjske pacijente | B12: =B13+B14+B15 -> #REF! | C12: =C13+C14+C15 -> #REF! | D12: =D13+D14+D15 -> 26784175 | E12: =E13+E14+E15 -> 27155403 | F12: =F13+F14+F15 -> 27423629 | G12: =G13+G14+G15 -> 27667152
A13: 0721 Opće medicinske usluge | B13: =ROUND(B10*0.6,2) -> #REF! | C13: =ROUND(C10*0.6,2) -> #REF! | D13: =ROUND(D10*0.6,2) -> 16070505 | E13: =ROUND(E10*0.6,2) -> 16293242 | F13: =ROUND(F10*0.6,2) -> 16454177 | G13: =ROUND(G10*0.6,2) -> 16600291
A14: 0722 Specijalističke med. usluge | B14: =ROUND(B10*0.15,2) -> #REF! | C14: =ROUND(C10*0.15,2) -> #REF! | D14: =ROUND(D10*0.15,2) -> 4017626.3 | E14: =ROUND(E10*0.15,2) -> 4073310.5 | F14: =ROUND(F10*0.15,2) -> 4113544.3 | G14: =ROUND(G10*0.15,2) -> 4150072.7
A15: 0723 Zubarske usluge | B15: =ROUND(B10*0.25,2) -> #REF! | C15: =ROUND(C10*0.25,2) -> #REF! | D15: =ROUND(D10*0.25,2) -> 6696043.8 | E15: =ROUND(E10*0.25,2) -> 6788850.8 | F15: =ROUND(F10*0.25,2) -> 6855907.2 | G15: =ROUND(G10*0.25,2) -> 6916787.9
A16: 073 Bolničke službe | D16: =D17 -> 0 | E16: =E17 -> 0 | F16: =F17 -> 0 | G16: =G17 -> 0
A17: 0731 Usluge općih bolnica
A18: 074 Službe javnog zdravstva | D18: 0 | E18: 0 | F18: 0 | G18: 0

Sheet Rekapitulacija Posebni dio
A1: II. POSEBNI DIO
A2: Rashodi i izdaci po izvorima financiranja i ekonomskoj klasifikaciji raspoređenih u programe, aktivnosti i projekte
A4: Šifra | B4: Naziv | C4: IZVRŠENJE 2024. | D4: TEKUĆI PLAN ZA 2025. | E4: PLAN ZA 2026. REBALANS I | F4: PLAN ZA 2026. | G4: PROJEKCIJA ZA 2027. | H4: PROJEKCIJA ZA 2028.
A5: PROGRAM | B5: RAD I RAZVOJ USTANOVE | C5: =C7+C216+C349+C392+C411+#REF!+#REF!+#REF!+#REF!+C447+#REF!+#REF!+#REF!+C513+#REF!+C532+#REF!+C569+#REF!+#REF!+#REF!+C606+C646+C685+C728 -> #REF! | D5: =D7+D216+D349+D392+D411+#REF!+#REF!+#REF!+#REF!+D447+#REF!+#REF!+#REF!+D513+#REF!+D532+#REF!+D569+#REF!+#REF!+#REF!+D606+D646+D685+D728 -> #REF! | E5: =E7+E216+E349+E392+E411+E433+E447+E513+E562+E532+E569+E606+E646+E685+E728 -> 26784175 | F5: =F7+F216+F349+F392+F411+F433+F447+F513+F562+F532+F569+F606+F646+F685+F728 -> 27155403 | G5: =G7+G216+G349+G392+G411+G433+G447+G513+G562+G532+G569+G606+G646+G685+G728 -> 27423629 | H5: =H7+H216+H349+H392+H411+H433+H447+H513+H562+H532+H569+H606+H646+H685+H728 -> 27667152
A6: AKTIVNOST | B6: Redovna djelatnost | C6: =C7+C216+C349+C392+C411+#REF!+#REF!+#REF!+#REF! -> #REF! | D6: =D7+D216+D349+D392+D411+#REF!+#REF!+#REF!+#REF! -> #REF! | E6: =E7+E216+E349+E392+E411+E433 -> 25447188 | F6: =F7+F216+F349+F392+F411+F433 -> 25447188 | G6: =G7+G216+G349+G392+G411+G433 -> 25798213 | H6: =H7+H216+H349+H392+H411+H433 -> 26141112
A7: 43 | B7: Ostali prihodi za posebne namjene | C7: =C8+C181 -> 0 | D7: =D8+D181 -> 0 | E7: =E8+E181 -> 21410157 | F7: =F8+F181 -> 21410157 | G7: =G8+G181 -> 21715388 | H7: =H8+H181 -> 22025968
A8: 3 | B8: Rashodi poslovanja | C8: =C9+C32+C149+C162+C165+C170 -> 0 | D8: =D9+D32+D149+D162+D165+D170 -> 0 | E8: =E9+E32+E149+E162+E165+E170 -> 21324785 | F8: =F9+F32+F149+F162+F165+F170 -> 21324785 | G8: =G9+G32+G149+G162+G165+G170 -> 21627066 | H8: =H9+H32+H149+H162+H165+H170 -> 21934696
A9: 31 | B9: Rashodi za zaposlene | C9: =C10+C19+C27 -> 0 | D9: =D10+D19+D27 -> 0 | E9: =E10+E19+E27 -> 13895551 | F9: =F10+F19+F27 -> 13895551 | G9: =G10+G19+G27 -> 14019017 | H9: =H10+H19+H27 -> 14142396
A10: 311 | B10: Plaće | C10: =C11+C14+C15+C17 -> 0 | D10: =D11+D14+D15+D17 -> 0 | E10: =E11+E14+E15+E17 -> 11748762 | F10: =F11+F14+F15+F17 -> 11748762 | G10: =G11+G14+G15+G17 -> 11813800 | H10: =H11+H14+H15+H17 -> 11886800
A11: 3111 | B11: Plaće za redovan rad | C11: =SUM(C12:C13) -> 0 | D11: =SUM(D12:D13) -> 0 | E11: =SUM(E12:E13) -> 11578762 | F11: =SUM(F12:F13) -> 11578762 | G11: =SUM(G12:G13) -> 11636800 | H11: =SUM(H12:H13) -> 11702800
A12: 31111 | B12: Plaće za redovan rad | E12: 11576962 | F12: =3370067.31+4865000+3341895 -> 11576962 | G12: 11635000 | H12: 11701000
A13: 31113 | B13: Plaće po sudskim presudama | E13: 1800 | F13: 1800 | G13: 1800 | H13: 1800
A14: 3112 | B14: Plaće u naravi
A15: 3113 | B15: Plaće za prekovremeni rad | C15: =SUM(C16) -> 0 | D15: =SUM(D16) -> 0 | E15: =SUM(E16) -> 170000 | F15: =SUM(F16) -> 170000 | G15: =SUM(G16) -> 177000 | H15: =SUM(H16) -> 184000
A16: 31131 | B16: Plaće za prekovremeni rad | E16: 170000 | F16: =80000+90000 -> 170000 | G16: 177000 | H16: 184000
A17: 3114 | B17: Plaće za posebne uvjete rada | C17: =SUM(C18) -> 0 | D17: =SUM(D18) -> 0 | F17: =SUM(F18) -> 0 | G17: =SUM(G18) -> 0 | H17: =SUM(H18) -> 0
A18: 31141 | B18: Plaće za posebne uvjete rada | D18: 0 | F18: 0 | G18: 0 | H18: 0
A19: 312 | B19: Ostali rashodi za zaposlene | C19: =C20 -> 0 | D19: =D20 -> 0 | E19: =E20 -> 350300 | F19: =F20 -> 350300 | G19: =G20 -> 365500 | H19: =H20 -> 380700
A20: 3121 | B20: Ostali rashodi za zaposlene | C20: =SUM(C21:C26) -> 0 | D20: =SUM(D21:D26) -> 0 | E20: =SUM(E21:E26) -> 350300 | F20: =SUM(F21:F26) -> 350300 | G20: =SUM(G21:G26) -> 365500 | H20: =SUM(H21:H26) -> 380700
A21: 31212 | B21: Ostali rashodi za zaposlene-nagrade | E21: 124500 | F21: =28000+96500 -> 124500 | G21: 128000 | H21: 131500
A22: 31213 | B22: Darovi | E22: 26000 | F22: 26000 | G22: 28000 | H22: 30000
A23: 31214 | B23: Otpremnine | E23: 27000 | F23: =25000+2000 -> 27000 | G23: 28500 | H23: 30000
A24: 31215 | B24: Naknade za bolest, invalidnost i smrt | E24: 13800 | F24: =10000+3800 -> 13800 | G24: 15000 | H24: 16200
A25: 31216 | B25: Regres za godišnji odmor | E25: 92000 | F25: =57000+35000 -> 92000 | G25: 95000 | H25: 98000
A26: 31219 | B26: Ostali nenavedeni rashodi za zaposlene | E26: 67000 | F26: =32000+35000 -> 67000 | G26: 71000 | H26: 75000
A27: 313 | B27: Doprinosi na plaće | C27: =C28+C30 -> 0 | D27: =D28+D30 -> 0 | E27: =E28+E30 -> 1796488.8 | F27: =F28+F30 -> 1796488.8 | G27: =G28+G30 -> 1839716.5 | H27: =H28+H30 -> 1874896.4
A28: 3132 | B28: Doprinosi za obvezno zdravstveno osiguranje | C28: =SUM(C29) -> 0 | D28: =SUM(D29) -> 0 | E28: =SUM(E29) -> 1796488.8 | F28: =SUM(F29) -> 1796488.8 | G28: =SUM(G29) -> 1839716.5 | H28: =SUM(H29) -> 1874896.4
A29: 31321 | B29: Doprinosi za obvezno zdravstveno osiguranje | E29: 1796488.8 | F29: =760000+536488.84+500000 -> 1796488.8 | G29: 1839716.5 | H29: 1874896.4
A30: 3133 | B30: Doprinosi za zapošljavanje | C30: =C31 -> 0 | D30: =D31 -> 0 | F30: =F31 -> 0 | G30: =G31 -> 0 | H30: =H31 -> 0
A31: 31332 | B31: Doprinosi u slučaju nezaposlenosti | D31: 0
A32: 32 | B32: Materijalni rashodi | C32: =C33+C46+C75+C117+C120+C128 -> 0 | D32: =D33+D46+D75+D117+D120+D128 -> 0 | E32: =E33+E46+E75+E117+E120+E128 -> 7400658.6 | F32: =F33+F46+F75+F117+F120+F128 -> 7400658.6 | G32: =G33+G46+G75+G117+G120+G128 -> 7581279.6 | H32: =H33+H46+H75+H117+H120+H128 -> 7765234.2
A33: 321 | B33: Naknade troškova zaposlenima | C33: =C34+C39+C41+C44 -> 0 | D33: =D34+D39+D41+D44 -> 0 | E33: =E34+E39+E41+E44 -> 250944.29 | F33: =F34+F39+F41+F44 -> 250944.29 | G33: =G34+G39+G41+G44 -> 257170 | H33: =H34+H39+H41+H44 -> 264360
A34: 3211 | B34: Službena putovanja | C34: =SUM(C35:C38) -> 0 | D34: =SUM(D35:D38) -> 0 | E34: =SUM(E35:E38) -> 6380 | F34: =SUM(F35:F38) -> 6380 | G34: =SUM(G35:G38) -> 6920 | H34: =SUM(H35:H38) -> 7460
A35: 32111 | B35: Dnevnice za službeni put u zemlji | E35: 3600 | F35: =3000+600 -> 3600 | G35: 3800 | H35: 4000
A36: 32113 | B36: Naknade za smještaj na službenom putu u zemlji | E36: 1500 | F36: =500+1000 -> 1500 | G36: 1700 | H36: 1900
A37: 32115 | B37: Naknade za prijevoz na službenom putu u zemlji | E37: 1200 | F37: =500+700 -> 1200 | G37: 1300 | H37: 1400
A38: 32119 | B38: Ostali rashodi za sl. putovanje (cestarine, trošak parkiranja) | E38: 80 | F38: 80 | G38: 120 | H38: 160
A39: 3212 | B39: Naknade za prijevoz, za rad na terenu i odvojeni život | C39: =SUM(C40) -> 0 | D39: =SUM(D40) -> 0 | E39: =SUM(E40) -> 234716.27 | F39: =SUM(F40) -> 234716.27 | G39: =SUM(G40) -> 240000 | H39: =SUM(H40) -> 246000
A40: 32121 | B40: Naknade za prijevoz, za rad na terenu i odvojeni život | E40: 234716.27 | F40: =74716.27+160000 -> 234716.27 | G40: 240000 | H40: 246000
A41: 3213 | B41: Stručno usavršavanje zaposlenih | C41: =SUM(C42:C43) -> 0 | D41: =SUM(D42:D43) -> 0 | E41: =SUM(E42:E43) -> 9648.02 | F41: =SUM(F42:F43) -> 9648.02 | G41: =SUM(G42:G43) -> 10050 | H41: =SUM(H42:H43) -> 10700
A42: 32131 | B42: Seminari, savjetovanja i simpoziji | E42: 6570 | F42: =5470+1100 -> 6570 | G42: 6750 | H42: 7000
A43: 32132 | B43: Tečajevi i stručni ispiti | E43: 3078.02 | F43: =500+2578.02 -> 3078.02 | G43: 3300 | H43: 3700
A44: 3214 | B44: Ostale naknade troškova zaposlenima | C44: =SUM(C45) -> 0 | D44: =SUM(D45) -> 0 | E44: =SUM(E45) -> 200 | F44: =SUM(F45) -> 200 | G44: =SUM(G45) -> 200 | H44: =SUM(H45) -> 200
A45: 32141 | B45: Naknada za korištenje privatnog automobila u službene svrhe | E45: 200 | F45: 200 | G45: 200 | H45: 200
A46: 322 | B46: Rashodi za materijal i energiju | C46: =C47+C54+C60+C65+C70+C73 -> 0 | D46: =D47+D54+D60+D65+D70+D73 -> 0 | E46: =E47+E54+E60+E65+E70+E73 -> 3285505 | F46: =F47+F54+F60+F65+F70+F73 -> 3285505 | G46: =G47+G54+G60+G65+G70+G73 -> 3334240.3 | H46: =H47+H54+H60+H65+H70+H73 -> 3381444.9
A47: 3221 | B47: Uredski materijal i ostali materijalni rashodi | C47: =SUM(C48:C53) -> 0 | D47: =SUM(D48:D53) -> 0 | E47: =SUM(E48:E53) -> 128000 | F47: =SUM(F48:F53) -> 128000 | G47: =SUM(G48:G53) -> 136650 | H47: =SUM(H48:H53) -> 146300
A48: 32211 | B48: Uredski materijal | E48: 41000 | F48: =12000+15000+14000 -> 41000 | G48: 44500 | H48: 48900
A49: 32212 | B49: Literatura | E49: 1500 | F49: =300+700+500 -> 1500 | G49: 1650 | H49: 1800
A50: 32214 | B50: Materijal i sredstva za čišćenje i održavanje | E50: 58500 | F50: =13500+15000+30000 -> 58500 | G50: 61000 | H50: 63500
A51: 32215 | B51: Službena, radna i zaštitna odjeća | E51: 500 | F51: 500 | G51: 700 | H51: 900
A52: 32216 | B52: Materijal za higijenske potrebe i njegu | C52: 0 | D52: 0 | E52: 25000 | F52: 25000 | G52: 27000 | H52: 29000
A53: 32219 | B53: Ostali materijal za potrebe redovnog poslovanja | E53: 1500 | F53: 1500 | G53: 1800 | H53: 2200
A54: 3222 | B54: Materijal i sirovine | C54: =SUM(C55:C59) -> 0 | D54: =SUM(D55:D59) -> 0 | E54: =SUM(E55:E59) -> 2806455 | F54: =SUM(F55:F59) -> 2806455 | G54: =SUM(G55:G59) -> 2832990.3 | H54: =SUM(H55:H59) -> 2856994.9
A55: 32221 | B55: Potrošni medicinski materijal | F55: 0 | G55: 0 | H55: 0
A56: 32224 | B56: Namirnice | E56: 12000 | F56: 12000 | G56: 13000 | H56: 14000
A57: 32225 | B57: Roba | E57: 2794455 | F57: 2794455 | G57: 2819990.3 | H57: 2842994.9
A58: 32226 | B58: Lijekovi | F58: 0 | G58: 0 | H58: 0
A59: 32229 | B59: Ostali materijal i sirovine | F59: 0 | G59: 0 | H59: 0
A60: 3223 | B60: Energija | C60: =SUM(C61:C64) -> 0 | D60: =SUM(D61:D64) -> 0 | E60: =SUM(E61:E64) -> 321000 | F60: =SUM(F61:F64) -> 321000 | G60: =SUM(G61:G64) -> 329300 | H60: =SUM(H61:H64) -> 337600
A61: 32231 | B61: Električna energija | E61: 142000 | F61: =27000+55000+60000 -> 142000 | G61: 144000 | H61: 146000
A62: 32232 | B62: Topla voda | E62: 2200 | F62: 2200 | G62: 2500 | H62: 2800
A63: 32233 | B63: Plin | E63: 135000 | F63: =20000+65000+50000 -> 135000 | G63: 140000 | H63: 145000
A64: 32234 | B64: Motorni benzin i dizel gorivo | E64: 41800 | F64: =17000+9800+15000 -> 41800 | G64: 42800 | H64: 43800
A65: 3224 | B65: Materijal i dijelovi za tekuće i investicijsko održavanje | C65: =SUM(C66:C69) -> 0 | D65: =SUM(D66:D69) -> 0 | E65: =SUM(E66:E69) -> 15050 | F65: =SUM(F66:F69) -> 15050 | G65: =SUM(G66:G69) -> 16800 | H65: =SUM(H66:H69) -> 18550
A66: 32241 | B66: Materijal i dijelovi za tekuće i invest. održavanje građevinskih objekata | E66: 2500 | F66: 2500 | G66: 3000 | H66: 3500
A67: 32242 | B67: Materijal i dijelovi za tekuće i invest. održavanje postrojenja i opreme | E67: 2750 | F67: 2750 | G67: 3000 | H67: 3250
A68: 32243 | B68: Materijal i dijelovi za tekuće i invest. održavanje transportnih sredstava | E68: 6500 | F68: =6000+500 -> 6500 | G68: 7000 | H68: 7500
A69: 32244 | B69: Ostali materijal i dijelovi za tekuće i invest. održavanje | E69: 3300 | F69: =3000+300 -> 3300 | G69: 3800 | H69: 4300
A70: 3225 | B70: Sitan inventar i autogume | C70: =SUM(C71:C72) -> 0 | D70: =SUM(D71:D72) -> 0 | E70: =SUM(E71:E72) -> 9500 | F70: =SUM(F71:F72) -> 9500 | G70: =SUM(G71:G72) -> 12000 | H70: =SUM(H71:H72) -> 14500
A71: 32251 | B71: Sitan inventar | E71: 8000 | F71: =5000+3000 -> 8000 | G71: 10000 | H71: 12000
A72: 32252 | B72: Auto gume | E72: 1500 | F72: 1500 | G72: 2000 | H72: 2500
A73: 3227 | B73: Službena radna i zaštitna odjeća | C73: =SUM(C74) -> 0 | D73: =SUM(D74) -> 0 | E73: =SUM(E74) -> 5500 | F73: =SUM(F74) -> 5500 | G73: =SUM(G74) -> 6500 | H73: =SUM(H74) -> 7500
A74: 32271 | B74: Službena radna i zaštitna odjeća | E74: 5500 | F74: =3000+2500 -> 5500 | G74: 6500 | H74: 7500
A75: 323 | B75: Rashodi za usluge | C75: =C76+C80+C85+C87+C96+C100+C105+C110+C112 -> 0 | D75: =D76+D80+D85+D87+D96+D100+D105+D110+D112 -> 0 | E75: =E76+E80+E85+E87+E96+E100+E105+E110+E112 -> 1067396.3 | F75: =F76+F80+F85+F87+F96+F100+F105+F110+F112 -> 1067396.3 | G75: =G76+G80+G85+G87+G96+G100+G105+G110+G112 -> 1105996.3 | H75: =H76+H80+H85+H87+H96+H100+H105+H110+H112 -> 1144696.3
A76: 3231 | B76: Usluge telefona i pošte | C76: =SUM(C77:C79) -> 0 | D76: =SUM(D77:D79) -> 0 | E76: =SUM(E77:E79) -> 46350 | F76: =SUM(F77:F79) -> 46350 | G76: =SUM(G77:G79) -> 48800 | H76: =SUM(H77:H79) -> 51350
A77: 32311 | B77: Usluge telefona, telefaksa | E77: 43000 | F77: =25000+18000 -> 43000 | G77: 45000 | H77: 47000
A78: 32313 | B78: Poštarina | E78: 1500 | F78: =600+900 -> 1500 | G78: 1800 | H78: 2100
A79: 32319 | B79: Ostale usluge za komunikaciju i prijevoz | E79: 1850 | F79: =350+1500 -> 1850 | G79: 2000 | H79: 2250
A80: 3232 | B80: Usluge tekućeg i investicijskog održavanja | C80: =SUM(C81:C84) -> 0 | D80: =SUM(D81:D84) -> 0 | E80: =SUM(E81:E84) -> 29500 | F80: =SUM(F81:F84) -> 29500 | G80: =SUM(G81:G84) -> 35500 | H80: =SUM(H81:H84) -> 41500
A81: 32321 | B81: Usluge tekućeg i investicijskog održavanja građevinskih objekata | E81: 10000 | F81: =5000+5000 -> 10000 | G81: 12000 | H81: 14000
A82: 32322 | B82: Usluge tekućeg i investicijskog održavanja postrojenja i opreme | E82: 8000 | F82: =5000+3000 -> 8000 | G82: 10000 | H82: 12000
A83: 32323 | B83: Usluge tekućeg i investicijskog održavanja prijevoznih sredstava | E83: 6500 | F83: =3500+3000 -> 6500 | G83: 7500 | H83: 8500
A84: 32329 | B84: Ostale usluge tekućeg i investicijskog ulaganja | E84: 5000 | F84: 5000 | G84: 6000 | H84: 7000
A85: 3233 | B85: Usluge promidžbe i informiranja | C85: =SUM(C86) -> 0 | D85: =SUM(D86) -> 0 | E85: =SUM(E86) -> 2663.61 | F85: =SUM(F86) -> 2663.61 | G85: =SUM(G86) -> 2663.61 | H85: =SUM(H86) -> 2663.61
A86: 32339 | B86: Usluge promidžbe i informiranja | E86: 2663.61 | F86: =2000+663.61 -> 2663.61 | G86: 2663.61 | H86: 2663.61
A87: 3234 | B87: Komunalne usluge | C87: =SUM(C88:C95) -> 0 | D87: =SUM(D88:D95) -> 0 | E87: =SUM(E88:E95) -> 166650 | F87: =SUM(F88:F95) -> 166650 | G87: =SUM(G88:G95) -> 175100 | H87: =SUM(H88:H95) -> 183550
A88: 32341 | B88: Opskrba vodom | E88: 44000 | F88: =25000+13000+6000 -> 44000 | G88: 47000 | H88: 50000
A89: 32342 | B89: Iznošenje i odvoz smeća | E89: 68000 | F89: =15000+18000+35000 -> 68000 | G89: 70000 | H89: 72000
A90: 32343 | B90: Deratizacija i dezinsekcija | E90: 2800 | F90: =1800+1000 -> 2800 | G90: 3300 | H90: 3800
A91: 32344 | B91: Dimnjačarske usluge | E91: 2000 | F91: =1500+500 -> 2000 | G91: 2500 | H91: 3000
A92: 32345 | B92: Komunalna naknada | E92: 9000 | F92: 9000 | G92: 9400 | H92: 9800
A93: 32347 | B93: Pričuva | E93: 6000 | F93: =2000+4000 -> 6000 | G93: 6500 | H93: 7000
A94: 32348 | B94: Naknada za uređenje voda | E94: 150 | F94: 150 | G94: 200 | H94: 250
A95: 32349 | B95: Ostale komunalne usluge | E95: 34700 | F95: =700+30000+4000 -> 34700 | G95: 36200 | H95: 37700
A96: 3235 | B96: Zakupnine i najamnine | C96: =SUM(C97:C99) -> 0 | D96: =SUM(D97:D99) -> 0 | E96: =SUM(E97:E99) -> 7832.72 | F96: =SUM(F97:F99) -> 7832.72 | G96: =SUM(G97:G99) -> 8232.72 | H96: =SUM(H97:H99) -> 8632.72
A97: 32353 | B97: Zakupnine i najamnine za opremu | E97: 1800 | F97: 1800 | G97: 2000 | H97: 2200
A98: 32354 | B98: Licence-računalni programi | E98: 5700 | F98: 5700 | G98: 5900 | H98: 6100
A99: 32359 | B99: Ostale zakupnine i najamnine | E99: 332.72 | F99: =132.72+200 -> 332.72 | G99: 332.72 | H99: 332.72
A100: 3236 | B100: Zdravstvene i veterinarske usluge | C100: =SUM(C101:C104) -> 0 | D100: =SUM(D101:D104) -> 0 | E100: =SUM(E101:E104) -> 463000 | F100: =SUM(F101:F104) -> 463000 | G100: =SUM(G101:G104) -> 471500 | H100: =SUM(H101:H104) -> 480000
A101: 32361 | B101: Obvezni i preventivni zdravstveni pregledi zaposlenika | E101: 4000 | F101: 4000 | G101: 5000 | H101: 6000
...
