Workbook

Sheet SAŽETAK
B1: FINANCIJSKI PLAN REBALANS I DOMA ZDRAVLJA VUKOVARSKO - SRIJEMSKE ŽUPANIJE ZA 2026. GODINU
B3: I. OPĆI DIO
F5: A) SAŽETAK RAČUNA PRIHODA I RASHODA
L6: EUR
B7: BROJČANA OZNAKA I NAZIV | G7: IZVRŠENJE 2024. | H7: TEKUĆI PLAN ZA 2025. | I7: PLAN ZA 2026. REBALANS I | J7: PLAN ZA 2026. | K7: PROJEKCIJA ZA 2027. | L7: PROJEKCIJA ZA 2028.
B8: 1 | J8: 3 | K8: 4 | L8: 5
B9: PRIHODI UKUPNO | G9: =G10+G11 -> #REF! | H9: =H10+H11 -> #REF! | I9: =I10+I11 -> 27029768 | J9: =J10+J11 -> 27400996 | K9: =K10+K11 -> 28076192 | L9: =L10+L11 -> 28547128
B10: 6 PRIHODI POSLOVANJA | G10: ='Prihodi po ekonomskoj klas'!E10 -> #REF! | H10: ='Prihodi po ekonomskoj klas'!F10 -> #REF! | I10: ='Prihodi po ekonomskoj klas'!G10 -> 27028468 | J10: ='Prihodi po ekonomskoj klas'!H10 -> 27399696 | K10: ='Prihodi po ekonomskoj klas'!I10 -> 28076192 | L10: ='Prihodi po ekonomskoj klas'!J10 -> 28547128
B11: 7 PRIHODI OD PRODAJE NEFINANCIJSKE IMOVINE | G11: ='Prihodi po ekonomskoj klas'!E81 -> 0 | H11: ='Prihodi po ekonomskoj klas'!F81 -> 0 | I11: ='Prihodi po ekonomskoj klas'!G81 -> 1300 | J11: ='Prihodi po ekonomskoj klas'!H81 -> 1300 | K11: ='Prihodi po ekonomskoj klas'!I81 -> 0 | L11: ='Prihodi po ekonomskoj klas'!J81 -> 0
B12: RASHODI UKUPNO | G12: =G13+G14 -> #REF! | H12: =H13+H14 -> #REF! | I12: =I13+I14 -> 26784175 | J12: =J13+J14 -> 27155403 | K12: =K13+K14 -> 27423629 | L12: =L13+L14 -> 27667152
B13: 3 RASHODI POSLOVANJA | G13: ='RASHODI-ek.kl.'!D57 -> #REF! | H13: ='RASHODI-ek.kl.'!E57 -> #REF! | I13: ='RASHODI-ek.kl.'!F57 -> 26423403 | J13: ='RASHODI-ek.kl.'!G57 -> 26300528 | K13: ='RASHODI-ek.kl.'!H57 -> 26565803 | L13: ='RASHODI-ek.kl.'!I57 -> 26806376
B14: 4 RASHODI ZA NABAVU NEFINANCIJSKE IMOVINE | G14: ='RASHODI-ek.kl.'!D234 -> #REF! | H14: ='RASHODI-ek.kl.'!E234 -> #REF! | I14: ='RASHODI-ek.kl.'!F234 -> 360772.28 | J14: ='RASHODI-ek.kl.'!G234 -> 854875.27 | K14: ='RASHODI-ek.kl.'!H234 -> 857825.27 | L14: ='RASHODI-ek.kl.'!I234 -> 860775.27
B15: RAZLIKA - VIŠAK MANJAK | G15: =G9-G12 -> #REF! | H15: =H9-H12 -> #REF! | I15: =I9-I12 -> 245592.85 | J15: =J9-J12 -> 245592.85 | K15: =K9-K12 -> 652563.6 | L15: =L9-L12 -> 879976.31
F17: B) SAŽETAK RAČUNA FINANCIRANJA
B19: BROJČANA OZNAKA I NAZIV | G19: IZVRŠENJE 2024. | H19: TEKUĆI PLAN ZA 2025. | I19: PLAN ZA 2026. REBALANS I | J19: PLAN ZA 2026. | K19: PROJEKCIJA ZA 2027. | L19: PROJEKCIJA ZA 2028.
B20: 1 | J20: 3 | K20: 4 | L20: 5
B21: 8 PRIMICI OD FINANCIJSKE IMOVINE I ZADUŽIVANJA
B22: 5 IZDACI ZA FINANCIJSKU IMOVINU I OTPLATE ZAJMOVA
B23: NETO FINANCIRANJE
B24: VIŠAK / MANJAK + NETO FINANCIRANJE | G24: =G15+G23 -> #REF! | H24: =H15+H23 -> #REF! | I24: =I15+I23 -> 245592.85 | J24: =J15+J23 -> 245592.85 | K24: =K15+K23 -> 652563.6 | L24: =L15+L23 -> 879976.31
F26: C) PRENESENI VIŠAK ILI PRENESENI MANJAK
B28: BROJČANA OZNAKA I NAZIV | G28: IZVRŠENJE 2024. | H28: TEKUĆI PLAN ZA 2025. | I28: PLAN ZA 2026. REBALANS I | J28: PLAN ZA 2026. | K28: PROJEKCIJA ZA 2027. | L28: PROJEKCIJA ZA 2028.
B29: PRENESENI VIŠAK / MANJAK IZ PRETHODNE(IH) GODINE | G29: 0 | H29: =G29+G30 -> #REF! | I29: -4599353.7 | J29: =H30 -> -1778132.8 | K29: =J31 -> -1532539.9 | L29: =K31 -> -879976.31
B30: PRIJENOS VIŠKA / MANJKA U SLJEDEĆE RAZDOBLJE | G30: =G15 -> #REF! | H30: -1778132.8
B31: VIŠAK / MANJAK + NETO FINANCIRANJE + PRIJENOS VIŠKA / MANJKA IZ PRETHODNE(IH) GODINE - PRIJENOS VIŠKA / MANJKA U SLJEDEĆE RAZDOBLJE | I31: =I24+I29 -> -4353760.8 | J31: =J24+J29 -> -1532539.9 | K31: =K24+K29 -> -879976.31 | L31: =L24+L29 -> -2.0954758e-09
F33: D) VIŠEGODIŠNJI PLAN URAVNOTEŽENJA
B35: BROJČANA OZNAKA I NAZIV | G35: IZVRŠENJE 2024. | H35: TEKUĆI PLAN ZA 2025. | I35: PLAN ZA 2026. REBALANS I | J35: PLAN ZA 2026. | K35: PROJEKCIJA ZA 2027. | L35: PROJEKCIJA ZA 2028.
B36: PRIJENOS VIŠKA / MANJKA IZ PRETHODNE(IH) GODINE | G36: =G29 -> 0 | H36: =G39 -> #REF! | I36: =I29 -> -4599353.7 | J36: =H39 -> -1778132.8 | K36: =J39 -> -1532539.9 | L36: =K39 -> -879976.31
B37: VIŠAK / MANJAK IZ PRETHODNE(IH) GODINE KOJI ĆE SE RASPOREDITI / POKRITI | G37: =G15 -> #REF! | H37: =H15 -> #REF! | I37: =I24 -> 245592.85 | J37: =J24 -> 245592.85 | K37: =K24 -> 652563.6 | L37: =L24 -> 879976.31
B38: VIŠAK / MANJAK TEKUĆE GODINE | I38: 0 | J38: 0 | K38: 0
B39: PRIJENOS VIŠKA / MANJKA U SLJEDEĆE RAZDOBLJE | G39: =G36+G37 -> #REF! | H39: =H30 -> -1778132.8 | I39: =I36+I37 -> -4353760.8 | J39: =J36+J37 -> -1532539.9 | K39: =K36+K37 -> -879976.31 | L39: =L36+L37 -> -2.0954758e-09

Sheet Prihodi po ekonomskoj klas
B2: I. OPĆI DIO
B4: A. RAČUN PRIHODA
B6: PRIHODI PREMA EKONOMSKOJ KLASIFIKACIJI
B8: PRIHODI POSLOVANJA
B9: Razred | C9: Skupina/podskupina/odjeljak | D9: Naziv | E9: IZVRŠENJE 2024. | F9: TEKUĆI PLAN ZA 2025. | G9: PLAN ZA 2026. REBALANS I | H9: PLAN ZA 2026. | I9: PROJEKCIJA ZA 2027. | J9: PROJEKCIJA ZA 2028.
B10: 6 | D10: Prihodi poslovanja | E10: =E11+E34+E45+E51+E66+E75 -> #REF! | F10: =F11+F34+F45+F51+F66+F75 -> #REF! | G10: =G11+G34+G45+G51+G66+G75 -> 27028468 | H10: =H11+H34+H45+H51+H66+H75 -> 27399696 | I10: =I11+I34+I45+I51+I66+I75 -> 28076192 | J10: =J11+J34+J45+J51+J66+J75 -> 28547128
C11: 63 | D11: Pomoći | E11: =E12+E14+E18+E21+E26+E31 -> #REF! | F11: =F12+F14+F18+F21+F26+F31 -> #REF! | G11: =G12+G14+G18+G21+G26+G31 -> 1176423.8 | H11: =H12+H14+H18+H21+H26+H31 -> 1176423.8 | I11: =I12+I14+I18+I21+I26+I31 -> 1047924.5 | J11: =J12+J14+J18+J21+J26+J31 -> 994248.49 | K11: SAVJET: PRVO POPUNITE PRETHODNI LIST
C12: 632 | D12: Pomoći od međunaodnih organizacija te institucija i tijela EU | E12: =SUM(E13) -> 0 | F12: =SUM(F13) -> 0 | H12: =SUM(H13) -> 0 | I12: =SUM(I13) -> 0 | J12: =SUM(J13) -> 0
C13: 6324 | D13: Kapitalne pomoći od instucija i tijela EU | E13: 0 | F13: 0 | H13: 0 | I13: 0 | J13: 0
C14: 633 | D14: Pomoć proračunu iz drugih proračuna | E14: =SUM(E15,E17) -> 0 | F14: =SUM(F15,F17) -> 0 | G14: =SUM(G15,G17) -> 500 | H14: =SUM(H15,H17) -> 500 | I14: =SUM(I15,I17) -> 500 | J14: =SUM(J15,J17) -> 500 | K14: OVA TABLICA AUTOMATSKI POVLAČI IZNOSE IZ PRETHODNOG LISTA (PRIHODI PO EK KLAS I IZVORIMA)
C15: 6331 | D15: Tekuća pomoć proračunu iz drugih proračuna | E15: =E16 -> 0 | F15: =F16 -> 0 | G15: =G16 -> 500 | H15: =H16 -> 500 | I15: =I16 -> 500 | J15: =J16 -> 500 | K15: UKOLIKO STE U PRVOM LISTU DODAVALI RAČUNE MORATI ĆETE I U OVOME LISTU NAPRAVITI IZMJENE U FORMULI RAČUNA NA KOJI SE IZMJENA ODNOSI
C16: 63313 | D16: Tekuće potpore iz gradskog proračuna | E16: ='Prihodi po ek klas i izvorima'!E71 -> 0 | F16: ='Prihodi po ek klas i izvorima'!F71 -> 0 | G16: ='Prihodi po ek klas i izvorima'!G71 -> 500 | H16: ='Prihodi po ek klas i izvorima'!H71 -> 500 | I16: ='Prihodi po ek klas i izvorima'!I71 -> 500 | J16: ='Prihodi po ek klas i izvorima'!J71 -> 500
C17: 6332 | D17: Kapitalna pomoć proračunu iz drugih proračuna | E17: 0 | F17: 0 | H17: 0 | I17: 0 | J17: 0
C18: 634 | D18: Pomoći od izvanproračunskih korisnika | E18: =SUM(E19) -> 0 | F18: =SUM(F19) -> 0 | G18: =SUM(G19) -> 68314.61 | H18: =SUM(H19) -> 68314.61 | I18: =SUM(I19) -> 68314.61 | J18: =SUM(J19) -> 68314.61
C19: 6341 | D19: Tekuće pomoći od izvanproračunskih korisnika | E19: =E20 -> 0 | F19: =F20 -> 0 | G19: =G20 -> 68314.61 | H19: =H20 -> 68314.61 | I19: =I20 -> 68314.61 | J19: =J20 -> 68314.61
C20: 63414 | D20: Tekuće pomoći od izvanproračunskih korisnika | E20: ='Prihodi po ek klas i izvorima'!E75 -> 0 | F20: ='Prihodi po ek klas i izvorima'!F75 -> 0 | G20: ='Prihodi po ek klas i izvorima'!G75 -> 68314.61 | H20: ='Prihodi po ek klas i izvorima'!H75 -> 68314.61 | I20: ='Prihodi po ek klas i izvorima'!I75 -> 68314.61 | J20: ='Prihodi po ek klas i izvorima'!J75 -> 68314.61
C21: 636 | D21: Pomoć proračunskim korisnicima iz prorač.koji im nije nadležan | E21: =SUM(E22,E24) -> 0 | F21: =SUM(F22,F24) -> 0 | G21: =SUM(G22,G24) -> 14000 | H21: =SUM(H22,H24) -> 14000 | I21: =SUM(I22,I24) -> 0 | J21: =SUM(J22,J24) -> 0
C22: 6361 | D22: Tekuće pomoći iz državnog prorač. prorač.korisnicima JLP(R)S | E22: =E23 -> 0 | F22: =F23 -> 0 | G22: =G23 -> 14000 | H22: =H23 -> 14000 | I22: =I23 -> 0 | J22: =J23 -> 0
C23: 63612 | D23: Tekuće pomoći iz državnog prorač. prorač.korisnicima JLP(R)S | E23: ='Prihodi po ek klas i izvorima'!E78 -> 0 | F23: ='Prihodi po ek klas i izvorima'!F78 -> 0 | G23: ='Prihodi po ek klas i izvorima'!G78 -> 14000 | H23: ='Prihodi po ek klas i izvorima'!H78 -> 14000 | I23: ='Prihodi po ek klas i izvorima'!I78 -> 0 | J23: ='Prihodi po ek klas i izvorima'!J78 -> 0
C24: 6362 | D24: Kapitalne pomoći iz državnog prorač. prorač.korisnicima JLP(R)S | E24: =E25 -> 0 | F24: =F25 -> 0 | H24: =H25 -> 0 | I24: =I25 -> 0 | J24: =J25 -> 0
C25: 63622 | D25: Kapitalne pomoći iz državnog prorač. prorač.korisnicima JLP(R)S | E25: ='Prihodi po ek klas i izvorima'!E80 -> 0 | F25: ='Prihodi po ek klas i izvorima'!F80 -> 0 | H25: ='Prihodi po ek klas i izvorima'!H80 -> 0 | I25: ='Prihodi po ek klas i izvorima'!I80 -> 0 | J25: ='Prihodi po ek klas i izvorima'!J80 -> 0
C26: 638 | D26: Pomoć temeljem prijenosa EU | E26: =E27+E29 -> #REF! | F26: =F27+F29 -> #REF! | G26: =G27+G29 -> 593609.22 | H26: =H27+H29 -> 593609.22 | I26: =I27+I29 -> 479109.88 | J26: =J27+J29 -> 425433.88
C27: 6381 | D27: Tekuće pomoći temeljem prijenosa EU sredstava | E27: =SUM(E28:E28) -> 0 | F27: =SUM(F28:F28) -> 0 | G27: =SUM(G28:G28) -> 437409.22 | H27: =SUM(H28:H28) -> 437409.22 | I27: =SUM(I28:I28) -> 319785.88 | J27: =SUM(J28:J28) -> 262923.4
C28: 63811 | D28: Tekuće pomoći iz državnog proračuna temeljem EU prijenosa | E28: ='Prihodi po ek klas i izvorima'!E94 -> 0 | F28: ='Prihodi po ek klas i izvorima'!F94 -> 0 | G28: ='Prihodi po ek klas i izvorima'!G94 -> 437409.22 | H28: ='Prihodi po ek klas i izvorima'!H94 -> 437409.22 | I28: ='Prihodi po ek klas i izvorima'!I94 -> 319785.88 | J28: ='Prihodi po ek klas i izvorima'!J94 -> 262923.4
C29: 6382 | D29: Kapitalna pomoć temeljem prijenosa EU | E29: =E30+#REF! -> #REF! | F29: =F30+#REF! -> #REF! | G29: =G30 -> 156200 | H29: =H30 -> 156200 | I29: =I30 -> 159324 | J29: =J30 -> 162510.48
C30: 63821 | D30: Pomoći temeljem EU prijenosa | E30: ='Prihodi po ek klas i izvorima'!#REF! -> #REF! | F30: ='Prihodi po ek klas i izvorima'!#REF! -> #REF! | G30: ='Prihodi po ek klas i izvorima'!G88 -> 156200 | H30: ='Prihodi po ek klas i izvorima'!H88 -> 156200 | I30: ='Prihodi po ek klas i izvorima'!I88 -> 159324 | J30: ='Prihodi po ek klas i izvorima'!J88 -> 162510.48
C31: 639 | D31: Prijenosi između proračunskih korisnika | E31: =SUM(E32) -> 0 | F31: =SUM(F32) -> 0 | G31: =SUM(G32) -> 500000 | H31: =SUM(H32) -> 500000 | I31: =SUM(I32) -> 500000 | J31: =SUM(J32) -> 500000
C32: 6391 | D32: Tekući prijenosi između proračunskih korisnika | E32: =E33 -> 0 | F32: =F33 -> 0 | G32: =G33 -> 500000 | H32: =H33 -> 500000 | I32: =I33 -> 500000 | J32: =J33 -> 500000
C33: 63911 | D33: Tekući prijenosi između proračunskih korisnika istog proračuna | E33: ='Prihodi po ek klas i izvorima'!E83 -> 0 | F33: ='Prihodi po ek klas i izvorima'!F83 -> 0 | G33: ='Prihodi po ek klas i izvorima'!G83 -> 500000 | H33: ='Prihodi po ek klas i izvorima'!H83 -> 500000 | I33: ='Prihodi po ek klas i izvorima'!I83 -> 500000 | J33: ='Prihodi po ek klas i izvorima'!J83 -> 500000
C34: 64 | D34: Prihodi od imovine | E34: =E35+E42 -> 0 | F34: =F35+F42 -> 0 | G34: =G35+G42 -> 101000 | H34: =H35+H42 -> 101000 | I34: =I35+I42 -> 103404 | J34: =J35+J42 -> 105448.08
C35: 641 | D35: Prihodi od financijske imovine | E35: =E36+E38+E40 -> 0 | F35: =F36+F38+F40 -> 0 | G35: =G36+G38+G40 -> 100600 | H35: =H36+H38+H40 -> 100600 | I35: =I36+I38+I40 -> 102804 | J35: =J36+J38+J40 -> 104848.08
C36: 6413 | D36: Kamate na oročena sredstva i depozite po viđenju | E36: =SUM(E37) -> 0 | F36: =SUM(F37) -> 0 | G36: =SUM(G37) -> 550 | H36: =SUM(H37) -> 550 | I36: =SUM(I37) -> 754 | J36: =SUM(J37) -> 758.08
C37: 64132 | D37: Kamate na oročena sredstva i depozite po viđenju | E37: ='Prihodi po ek klas i izvorima'!E20 -> 0 | F37: ='Prihodi po ek klas i izvorima'!F20 -> 0 | G37: ='Prihodi po ek klas i izvorima'!G20 -> 550 | H37: ='Prihodi po ek klas i izvorima'!H20 -> 550 | I37: ='Prihodi po ek klas i izvorima'!I20 -> 754 | J37: ='Prihodi po ek klas i izvorima'!J20 -> 758.08
C38: 6414 | D38: Prihodi od zateznih kamata | E38: =E39 -> 0 | F38: =F39 -> 0 | G38: =G39 -> 50 | H38: =H39 -> 50 | I38: =I39 -> 50 | J38: =J39 -> 50
C39: 64143 | D39: Prihodi od zateznih kamata | E39: ='Prihodi po ek klas i izvorima'!E22 -> 0 | F39: ='Prihodi po ek klas i izvorima'!F22 -> 0 | G39: ='Prihodi po ek klas i izvorima'!G22 -> 50 | H39: ='Prihodi po ek klas i izvorima'!H22 -> 50 | I39: ='Prihodi po ek klas i izvorima'!I22 -> 50 | J39: ='Prihodi po ek klas i izvorima'!J22 -> 50
C40: 6419 | D40: Ostali prihodi od financijske imovine | E40: =E41 -> 0 | F40: =F41 -> 0 | G40: =G41 -> 100000 | H40: =H41 -> 100000 | I40: =I41 -> 102000 | J40: =J41 -> 104040
C41: 64199 | D41: Ostali prihodi od financijske imovine | E41: ='Prihodi po ek klas i izvorima'!E24+'Prihodi po ek klas i izvorima'!E48 -> 0 | F41: ='Prihodi po ek klas i izvorima'!F24+'Prihodi po ek klas i izvorima'!F48 -> 0 | G41: ='Prihodi po ek klas i izvorima'!G24+'Prihodi po ek klas i izvorima'!G48 -> 100000 | H41: ='Prihodi po ek klas i izvorima'!H24+'Prihodi po ek klas i izvorima'!H48 -> 100000 | I41: ='Prihodi po ek klas i izvorima'!I24+'Prihodi po ek klas i izvorima'!I48 -> 102000 | J41: ='Prihodi po ek klas i izvorima'!J24+'Prihodi po ek klas i izvorima'!J48 -> 104040
C42: 642 | D42: Prihodi od nefinancijske imovine | E42: =E43 -> 0 | F42: =F43 -> 0 | G42: =G43 -> 400 | H42: =H43 -> 400 | I42: =I43 -> 600 | J42: =J43 -> 600
C43: 6429 | D43: Ostali prihodi od nefinancijske imovine | E43: =E44 -> 0 | F43: =F44 -> 0 | G43: =G44 -> 400 | H43: =H44 -> 400 | I43: =I44 -> 600 | J43: =J44 -> 600
C44: 64299 | D44: Ostali prihodi od nefinancijske imovine | E44: ='Prihodi po ek klas i izvorima'!E27 -> 0 | F44: ='Prihodi po ek klas i izvorima'!F27 -> 0 | G44: ='Prihodi po ek klas i izvorima'!G27 -> 400 | H44: ='Prihodi po ek klas i izvorima'!H27 -> 400 | I44: ='Prihodi po ek klas i izvorima'!I27 -> 600 | J44: ='Prihodi po ek klas i izvorima'!J27 -> 600
...

Sheet RASHODI-ek.kl.
A1: I. OPĆI DIO
A2: A. RAČUN PRIHODA I RASHODA
A4: RASHODI PREMA EKONOMSKOJ KLASIFIKACIJI
A7: PRIHODI POSLOVANJA
A8: Razred | B8: Skupina/podskupina/odjeljak | C8: Naziv | G8: Izvršenje prethodne godine I.-VI. 2022. | H8: REBALANS 2023. | I8: Izvršenje tekuće godine I.-VI. 2023
A9: 1 | G9: 2 | H9: 3 | I9: 4
A10: 6 | G10: =G11+G26+G30+G33+G40+G43 -> 24659146 | H10: =H11+H26+H30+H33+H40+H43 -> 63888652 | I10: =I11+I26+I30+I33+I40+I43 -> 30834919
B11: 63 | C11: Pomoći | G11: =G12+G14+G17+G19+G21+G24 -> 324811.47 | H11: =SUM(H12,H14,H17,H19,H21,H24) -> 639378.86 | I11: =SUM(I12,I14,I17,I19,I21,I24) -> 1892796.8
B12: 632 | C12: Pomoći od međunaodnih organizacija te institucija i tijela EU | G12: =SUM(G13) -> 0 | H12: =SUM(H13) -> 0 | I12: =SUM(I13) -> 0
B13: 6324 | C13: Kapitalne pomoći od instucija i tijela EU | G13: 0 | H13: 0 | I13: 0
B14: 633 | C14: Pomoć proračunu iz drugih proračuna | G14: =SUM(G15:G16) -> 50556.109 | H14: =SUM(H15:H16) -> 0 | I14: =SUM(I15:I16) -> 0
B15: 6331 | C15: Tekuća pomoć proračunu iz drugih proračuna | G15: =380915/7.5345 -> 50556.109 | H15: 0 | I15: 0
B16: 6332 | C16: Kapitalna pomoć proračunu iz drugih proračuna | G16: 0 | H16: 0 | I16: 0
B17: 634 | C17: Pomoći od izvanproračunskih korisnika | G17: =SUM(G18) -> 111981.95 | H17: =SUM(H18) -> 366500.76 | I17: =SUM(I18) -> 1829292.8
B18: 6341 | C18: Tekuće pomoći od HZZ-a, HZZO-a | G18: =843728/7.5345 -> 111981.95 | H18: 366500.76 | I18: 1829292.8
B19: 636 | C19: Pomoć proračunskim korisnicima iz prorač.koji im nije nadležan | G19: =SUM(G20) -> 54857.124 | H19: =SUM(H20) -> 796.34 | I19: =SUM(I20) -> 45490.31
B20: 6361 | C20: Tekuće pomoći iz državnog prorač. prorač.korisnicima JLP(R)S | G20: =413321/7.5345 -> 54857.124 | H20: =796.34 -> 796.34 | I20: 45490.31
B21: 638 | C21: Pomoć temeljem prijenosa EU | G21: =SUM(G22:G23) -> 107244.81 | H21: =SUM(H23) -> 272081.76 | I21: =SUM(I23) -> 18013.71
B22: 6381 | C22: Tekuće pomoći temeljem prijenosa EU sredstava | G22: =493624/7.5345 -> 65515.164 | H22: 0 | I22: 0
B23: 6382 | C23: kapitalna pomoć temeljem prijenosa EU | G23: =314412/7.5345 -> 41729.644 | H23: 272081.76 | I23: 18013.71
B24: 639 | C24: Prijenosi između proračunskih korisnika | G24: =SUM(G25) -> 171.47787 | H24: =SUM(H25) -> 0 | I24: =SUM(I25) -> 0
B25: 6391 | C25: Tekući prijenosi između proračunskih korisnika | G25: =1292/7.5345 -> 171.47787 | H25: 0 | I25: 0
B26: 64 | C26: Prihodi od imovine | G26: =SUM(G27:G29) -> 50144.535 | H26: =SUM(H27:H29) -> 120462.42 | I26: =SUM(I27:I29) -> 55180.92
B27: 6413 | C27: Kamate na oročena sredstva i depozite po viđenju | G27: =439/7.5345 -> 58.265313 | H27: 746.44 | I27: 204.07
B28: 6419 | C28: Ostali prihode o financijske imovine | G28: =376342/7.5345 -> 49949.167 | H28: 119450.53 | I28: 54839.75
B29: 6429 | C29: Ostali prihodi od nefinancijske imovine | G29: =1033/7.5345 -> 137.10266 | H29: =265.45 -> 265.45 | I29: 137.1
B30: 65 | C30: Prihodi po posebnim propisima | G30: =G31 -> 1523828.4 | H30: =SUM(H31) -> 6950029.9 | I30: =SUM(I31) -> 1963072.3
B31: 652 | C31: Prihodi po posebnim propisima | G31: =SUM(G32) -> 1523828.4 | H31: =SUM(H32) -> 6950029.9 | I31: =SUM(I32) -> 1963072.3
B32: 6526 | C32: Ostali nespomenuti prihodi (participacija) | G32: =11481285/7.5345 -> 1523828.4 | H32: =6950029.86 -> 6950029.9 | I32: 1963072.3
B33: 66 | C33: Prihodi od prodaje i donacija | G33: =G34+G37 -> 1701559.2 | H33: =SUM(H34,H37) -> 3641484.9 | I33: =SUM(I34,I37) -> 1739052
B34: 661 | C34: Prihodi od prodaje roba i pruženih usluga (vlastiti prihodi) | G34: =SUM(G35:G36) -> 1677912 | H34: =SUM(H36,H35) -> 3521370.8 | I34: =SUM(I36,I35) -> 1704828
B35: 6614 | C35: Prihodi od prodaje proizvoda i robe | G35: =6216809/7.5345 -> 825112.35 | H35: 1725396.5 | I35: 916985.05
B36: 6615 | C36: Prihodi od pruženih usluga | G36: =6425419/7.5345 -> 852799.65 | H36: 1795974.2 | I36: 787842.97
B37: 663 | C37: Donacije od pravnih i fizičkih osoba izvan proračuna | G37: =SUM(G38:G39) -> 23647.223 | H37: =SUM(H38:H39) -> 120114.13 | I37: =SUM(I38:I39) -> 34224
B38: 6631 | C38: Tekuće donacije | G38: =5000/7.5345 -> 663.61404 | H38: 53752.73 | I38: =5600+1310 -> 6910
B39: 6632 | C39: Kapitalne donacije | G39: =173170/7.5345 -> 22983.609 | H39: 66361.4 | I39: 27314
B40: 67 | C40: Prihodi iz nadležnog proračuna i HZZOa | G40: =SUM(G41) -> 20985600 | H40: =SUM(H41) -> 52367289 | I40: =SUM(I41) -> 24656056
B41: 673 | C41: Prihodi od HZZO-a | G41: =SUM(G42) -> 20985600 | H41: =SUM(H42) -> 52367289 | I41: =SUM(I42) -> 24656056
B42: 6731 | C42: Prihodi od HZZO-a temeljem ugovora | G42: =158116000/7.5345 -> 20985600 | H42: 52367289 | I42: 24656056
B43: 68 | C43: Kazne, upravne mjere i ostali prihodi | G43: =SUM(G44) -> 73202.601 | H43: =SUM(H44) -> 170007.44 | I43: =SUM(I44) -> 528760.56
...

Sheet Prihodi po ek klas i izvorima
A1: I. OPĆI DIO
A2: A. RAČUN PRIHODA
A3: PRIHODI PREMA EKONOMSKOJ KLASIFIKACIJI I IZVORIMA FINANCIRANJA
A5: PRIHODI POSLOVANJA
A6: Razred | B6: Skupina/podskupina/odjeljak | C6: Izvor | D6: Naziv | E6: IZVRŠENJE 2024. | F6: TEKUĆI PLAN ZA 2025. | G6: PLAN ZA 2026. REBALANS I | H6: PLAN ZA 2026. | I6: PROJEKCIJA ZA 2027. | J6: PROJEKCIJA ZA 2028.
A7: 1 | H7: 2 | I7: 3 | J7: 4
A8: 6 | D8: Prihodi poslovanja | E8: =E9+E17+E28+E37+E45+E49+E55+E62+E68+E98+E107 -> #REF! | F8: =F9+F17+F28+F37+F45+F49+F55+F62+F68+F98+F107 -> #REF! | G8: =G9+G17+G28+G37+G45+G49+G55+G62+G68+G85+G91+G98+G107 -> 27028468 | H8: =H9+H17+H28+H37+H45+H49+H55+H62+H68+H85+H91+H98+H107 -> 27399696 | I8: =I9+I17+I28+I37+I45+I49+I55+I62+I68+I85+I91+I98+I107 -> 28076192 | J8: =J9+J17+J28+J37+J45+J49+J55+J62+J68+J85+J91+J98+J107 -> 28547128
B9: 67 | D9: Prihodi iz nadležnog proračuna i od HZZO-a temeljem ugovornih obveza | E9: =E10 -> #REF! | F9: =F10 -> #REF! | G9: =G10 -> 879378.02 | H9: =H10 -> 1250606 | I9: =I10 -> 1250606 | J9: =J10 -> 1250606
B10: 671 | D10: Prihodi iz nadležnog proračuna za financiranje redovne djelatnosti proračunskih korisnika | E10: =SUM(E11,#REF!) -> #REF! | F10: =SUM(F11,#REF!) -> #REF! | G10: =G11+G13 -> 879378.02 | H10: =H11+H13 -> 1250606 | I10: =I11+I13 -> 1250606 | J10: =J11+J13 -> 1250606
B11: 6711 | D11: Prihodi iz nadležnog proračuna za financiranje rashoda poslovanja | E11: =E12 -> 0 | F11: =F12 -> 0 | G11: =G12 -> 603978.02 | H11: =H12 -> 481103.03 | I11: =I12 -> 481103.03 | J11: =J12 -> 481103.03
B12: 67111 | D12: Prihodi iz nadležnog proračuna za financiranje rashoda poslovanja | E12: 0 | F12: 0 | G12: 603978.02 | H12: 481103.03 | I12: 481103.03 | J12: 481103.03
B13: 6712 | D13: Prihodi iz nadležnog proračuna za nabavu nefinancijske imovine | E13: =E14 -> 0 | F13: =F14 -> 0 | G13: =G14 -> 275400 | H13: =H14 -> 769502.99 | I13: =I14 -> 769502.99 | J13: =J14 -> 769502.99
B14: 67121 | D14: Prihodi iz nadležnog proračuna za nabavu nefinancijske imovine | G14: 275400 | H14: 769502.99 | I14: 769502.99 | J14: 769502.99
C15: 11 | D15: Opći prihodi i primici | E15: =E9 -> #REF! | F15: =F9 -> #REF! | G15: =G9 -> 879378.02 | H15: =H9 -> 1250606 | I15: =I9 -> 1250606 | J15: =J9 -> 1250606
C16: 1 | D16: OPĆI PRIHODI I PRIMICI | G16: =G15 -> 879378.02 | H16: =H15 -> 1250606 | I16: =I15 -> 1250606 | J16: =J15 -> 1250606
B17: 64 | D17: Prihodi od imovine | E17: =SUM(E18,E25) -> 0 | F17: =SUM(F18,F25) -> 0 | G17: =SUM(G18,G25) -> 1000 | H17: =SUM(H18,H25) -> 1000 | I17: =SUM(I18,I25) -> 1404 | J17: =SUM(J18,J25) -> 1408.08
B18: 641 | D18: Prihodi od financijske imovine | E18: =SUM(E19,E21,E23) -> 0 | F18: =SUM(F19,F21,F23) -> 0 | G18: =SUM(G19,G21,G23) -> 600 | H18: =SUM(H19,H21,H23) -> 600 | I18: =SUM(I19,I21,I23) -> 804 | J18: =SUM(J19,J21,J23) -> 808.08
B19: 6413 | D19: Kamate na oročena srredstva i depozite po viđenju | E19: =SUM(E20) -> 0 | F19: =SUM(F20) -> 0 | G19: =SUM(G20) -> 550 | H19: =SUM(H20) -> 550 | I19: =SUM(I20) -> 754 | J19: =SUM(J20) -> 758.08
B20: 64132 | D20: Kamate na oročena sredstva i depozite po viđenju | E20: 0 | F20: 0 | G20: 550 | H20: =200+150+200 -> 550 | I20: =400+150+204 -> 754 | J20: =400+150+208.08 -> 758.08
B21: 6414 | D21: Prihodi od zateznih kamata | E21: =E22 -> 0 | F21: =F22 -> 0 | G21: =G22 -> 50 | H21: =H22 -> 50 | I21: =I22 -> 50 | J21: =J22 -> 50
B22: 64143 | D22: Prihodi od zateznih kamata | E22: 0 | G22: 50 | H22: 50 | I22: 50 | J22: 50
B23: 6419 | D23: Ostali prihodi od financijske imovine | E23: =E24 -> 0 | F23: =F24 -> 0 | G23: =G24 -> 0 | H23: =H24 -> 0 | I23: =I24 -> 0 | J23: =J24 -> 0
B24: 64199 | D24: Ostali prihodi od financijske imovine | H24: 0 | I24: 0 | J24: 0
B25: 642 | D25: Prihodi od nefinancijske imovine | E25: =E26 -> 0 | F25: =F26 -> 0 | G25: =G26 -> 400 | H25: =H26 -> 400 | I25: =I26 -> 600 | J25: =J26 -> 600
B26: 6429 | D26: Ostali prihodi od nefinancijske imovine | E26: =E27 -> 0 | F26: =F27 -> 0 | G26: =G27 -> 400 | H26: =H27 -> 400 | I26: =I27 -> 600 | J26: =J27 -> 600
B27: 64299 | D27: Ostali prihodi od nefinancijske imovine | G27: 400 | H27: 400 | I27: 600 | J27: 600
B28: 66 | D28: Prihodi od prodaje proizvoda i robe te pruženih usluga i prihodi od donacija | E28: =SUM(E29) -> 0 | F28: =SUM(F29) -> 0 | G28: =SUM(G29) -> 3643116.3 | H28: =SUM(H29) -> 3643116.3 | I28: =SUM(I29) -> 3683716.3 | J28: =SUM(J29) -> 3714928.3
B29: 661 | D29: Prihodi od prodaje proizvoda i robe te pruženih usluga | E29: =SUM(E30,E33) -> 0 | F29: =SUM(F30,F33) -> 0 | G29: =SUM(G30,G33) -> 3643116.3 | H29: =SUM(H30,H33) -> 3643116.3 | I29: =SUM(I30,I33) -> 3683716.3 | J29: =SUM(J30,J33) -> 3714928.3
B30: 6614 | D30: Prihod od prodaje proizvoda i usluga | E30: =E31+E32 -> 0 | F30: =F31+F32 -> 0 | G30: =G31+G32 -> 2625000 | H30: =H31+H32 -> 2625000 | I30: =I31+I32 -> 2656000 | J30: =J31+J32 -> 2677000
B31: 66141 | D31: Prihodi od prodaje proizvoda i robe - ljekarne | E31: 0 | F31: 0 | G31: 25000 | H31: 25000 | I31: 26000 | J31: 27000
B32: 66142 | D32: Prihodi od prodaje robe | G32: 2600000 | H32: =1000000+1600000 -> 2600000 | I32: =1020000+1610000 -> 2630000 | J32: =1040000+1610000 -> 2650000
B33: 6615 | D33: Prihodi od pruženih usluga | E33: =SUM(E34:E36) -> 0 | F33: =SUM(F34:F36) -> 0 | G33: =SUM(G34:G36) -> 1018116.3 | H33: =SUM(H34:H36) -> 1018116.3 | I33: =SUM(I34:I36) -> 1027716.3 | J33: =SUM(J34:J36) -> 1037928.3
B34: 66151 | D34: Prihodi od pruženih usluga | E34: 0 | F34: 0 | G34: 1013116.3 | H34: =350000+163116.33+500000 -> 1013116.3 | I34: =350000+163116.33+509000 -> 1022116.3 | J34: =350000+163116.33+518000 -> 1031116.3
B35: 66153 | D35: Prihodi za udio troškova u zakupu | E35: 0 | F35: 0
B36: 66157 | D36: Prihod od usluga ref. dežurstva specijalizanti | E36: 0 | F36: 0 | G36: 5000 | H36: 5000 | I36: 5600 | J36: 6812
B37: 68 | D37: Kazne, upravne mjere i ostali prihodi | E37: =SUM(E38) -> 0 | F37: =SUM(F38) -> 0 | G37: =SUM(G38) -> 161000 | H37: =SUM(H38) -> 161000 | I37: =SUM(I38) -> 166620 | J37: =SUM(J38) -> 167252.4
B38: 683 | D38: Ostali prihodi | E38: =SUM(E39) -> 0 | F38: =SUM(F39) -> 0 | G38: =SUM(G39) -> 161000 | H38: =SUM(H39) -> 161000 | I38: =SUM(I39) -> 166620 | J38: =SUM(J39) -> 167252.4
B39: 6831 | D39: Ostali prihodi | E39: =E40+E41+E42 -> 0 | F39: =F40+F41+F42 -> 0 | G39: =G40+G41+G42 -> 161000 | H39: =H40+H41+H42 -> 161000 | I39: =I40+I41+I42 -> 166620 | J39: =J40+J41+J42 -> 167252.4
B40: 68311 | D40: Ostali prihodi | E40: 0 | F40: 0 | G40: 133000 | H40: =3000+130000 -> 133000 | I40: =3000+135000 -> 138000 | J40: =3000+135000 -> 138000
B41: 68312 | D41: Ostali prihodi-od inventurnih viškova | E41: 0 | F41: 0 | G41: 3000 | H41: 3000 | I41: 3000 | J41: 3000
...

Sheet  PRIHODI I RASHODI-izvori
A1: I. OPĆI DIO
A2: A. RAČUN PRIHODA I RASHODA
A3: RASHODI PREMA EKONOMSKOJ KLASIFIKACIJI I IZVORIMA FINANCIRANJA
A5: RASHODI POSLOVANJA
A6: Razred | B6: Skupina/podskupina/odjeljak | C6: Izvor | D6: Naziv | E6: IZVRŠENJE 2024. | F6: TEKUĆI PLAN ZA 2025. | G6: PLAN ZA 2026. REBALANS I | H6: PLAN ZA 2026. | I6: PROJEKCIJA ZA 2027. | J6: PROJEKCIJA ZA 2028.
A7: 1 | H7: 2 | I7: 3 | J7: 4
A8: 3 | D8: Rashodi poslovanja | E8: =E11+E246+E109+E455+E554+E584 -> #REF! | F8: =F11+F246+F109+F455+F554+F584 -> #REF! | G8: =G11+G246+G109+G455+G497+G518+G554+G584 -> 26423403 | H8: =H11+H246+H109+H455+H497+H518+H554+H584 -> 26300528 | I8: =I11+I246+I109+I455+I497+I518+I554+I584 -> 26565803 | J8: =J11+J246+J109+J455+J497+J518+J554+J584 -> 26806376
A9: 4 | D9: Rashodi za nabavu nefinancijske imovine | E9: =E73+E419+E223+E490+#REF!+E571+E596 -> #REF! | F9: =F73+F419+F223+F490+#REF!+F571+F596 -> #REF! | G9: =G73+G419+G223+G490+G571+G596 -> 360772.28 | H9: =H73+H419+H223+H490+H571+H596 -> 854875.27 | I9: =I73+I419+I223+I490+I571+I596 -> 857825.27 | J9: =J73+J419+J223+J490+J571+J596 -> 860775.27
D10: KORIŠTENJE DEC-a SREDSTAVA ŽUPANIJE
A11: 3 | D11: Rashodi poslovanja | E11: =E12+E22 -> #REF! | F11: =F12+F22 -> #REF! | G11: =G12+G22 -> 603978.02 | H11: =H12+H22 -> 481103.03 | I11: =I12+I22 -> 481103.03 | J11: =J12+J22 -> 481103.03
B12: 31 | D12: Rashodi za zaposlene | E12: =E13+E19 -> #REF! | F12: =F13+F19 -> #REF! | G12: =G13+G16+G19 -> 94582.35 | H12: =H13+H16+H19 -> 6978.02 | I12: =I13+I16+I19 -> 6978.02 | J12: =J13+J16+J19 -> 6978.02
B13: 311 | D13: Plaće | E13: =SUM(E14) -> #REF! | F13: =SUM(F14) -> #REF! | G13: =SUM(G14) -> 5989.73 | H13: =SUM(H14) -> 5989.73 | I13: =SUM(I14) -> 5989.73 | J13: =SUM(J14) -> 5989.73
B14: 3111 | D14: Plaće za redovan rad | E14: =SUM(E15) -> #REF! | F14: =SUM(F15) -> #REF! | G14: =SUM(G15) -> 5989.73 | H14: =SUM(H15) -> 5989.73 | I14: =SUM(I15) -> 5989.73 | J14: =SUM(J15) -> 5989.73
B15: 31111 | D15: Plaće za redovan rad | E15: ='Rekapitulacija Posebni dio'!#REF!+'Rekapitulacija Posebni dio'!C518+'Rekapitulacija Posebni dio'!#REF! -> #REF! | F15: ='Rekapitulacija Posebni dio'!#REF!+'Rekapitulacija Posebni dio'!D518+'Rekapitulacija Posebni dio'!#REF! -> #REF! | G15: ='Rekapitulacija Posebni dio'!E518+'Rekapitulacija Posebni dio'!E537 -> 5989.73 | H15: ='Rekapitulacija Posebni dio'!F518+'Rekapitulacija Posebni dio'!F537 -> 5989.73 | I15: ='Rekapitulacija Posebni dio'!G518+'Rekapitulacija Posebni dio'!G537 -> 5989.73 | J15: ='Rekapitulacija Posebni dio'!H518+'Rekapitulacija Posebni dio'!H537 -> 5989.73
B16: 312 | D16: Ostali rashodi za zaposlene | G16: =G17 -> 6396.59 | H16: =H17 -> 0 | I16: =I17 -> 0 | J16: =J17 -> 0
B17: 3121 | D17: Ostali rashodi za zaposlene | G17: =G18 -> 6396.59 | H17: =H18 -> 0 | I17: =I18 -> 0 | J17: =J18 -> 0
B18: 31219 | D18: Ostali nenavedeni rashodi za zaposlene | G18: ='Rekapitulacija Posebni dio'!E438 -> 6396.59 | H18: ='Rekapitulacija Posebni dio'!F438 -> 0 | I18: ='Rekapitulacija Posebni dio'!G438 -> 0 | J18: ='Rekapitulacija Posebni dio'!H438 -> 0
B19: 313 | D19: Doprinosi na plaće | E19: =SUM(E20) -> #REF! | F19: =SUM(F20) -> #REF! | G19: =SUM(G20) -> 82196.03 | H19: =SUM(H20) -> 988.29 | I19: =SUM(I20) -> 988.29 | J19: =SUM(J20) -> 988.29
B20: 3132 | D20: Doprinosi za obvezno zdravstveno osiguranje | E20: =SUM(E21) -> #REF! | F20: =SUM(F21) -> #REF! | G20: =SUM(G21) -> 82196.03 | H20: =SUM(H21) -> 988.29 | I20: =SUM(I21) -> 988.29 | J20: =SUM(J21) -> 988.29
B21: 31321 | D21: Doprinosi za obvezno zdravstveno osiguranje | E21: ='Rekapitulacija Posebni dio'!#REF!+'Rekapitulacija Posebni dio'!#REF!+'Rekapitulacija Posebni dio'!C523+'Rekapitulacija Posebni dio'!#REF! -> #REF! | F21: ='Rekapitulacija Posebni dio'!#REF!+'Rekapitulacija Posebni dio'!#REF!+'Rekapitulacija Posebni dio'!D523+'Rekapitulacija Posebni dio'!#REF! -> #REF! | G21: ='Rekapitulacija Posebni dio'!E441+'Rekapitulacija Posebni dio'!E523+'Rekapitulacija Posebni dio'!E542 -> 82196.03 | H21: ='Rekapitulacija Posebni dio'!F523+'Rekapitulacija Posebni dio'!F542 -> 988.29 | I21: ='Rekapitulacija Posebni dio'!G523+'Rekapitulacija Posebni dio'!G542 -> 988.29 | J21: ='Rekapitulacija Posebni dio'!H523+'Rekapitulacija Posebni dio'!H542 -> 988.29
B22: 32 | D22: Materijalni rashodi | E22: =E23+E29+E44+E62+E66 -> #REF! | F22: =F23+F29+F44+F62+F66 -> #REF! | G22: =G23+G29+G44+G62+G66 -> 509395.67 | H22: =H23+H29+H44+H62+H66 -> 474125.01 | I22: =I23+I29+I44+I62+I66 -> 474125.01 | J22: =J23+J29+J44+J62+J66 -> 474125.01
B23: 321 | D23: Naknade troškova zaposlenima | E23: =E24+E27 -> #REF! | F23: =F24+F27 -> #REF! | G23: =G24+G27 -> 4200 | H23: =H24+H27 -> 4200 | I23: =I24+I27 -> 4200 | J23: =J24+J27 -> 4200
B24: 3211 | D24: Službena putovanja | E24: =E25+E26 -> 0 | F24: =F25+F26 -> 0 | G24: =G25+G26 -> 470 | H24: =H25+H26 -> 470 | I24: =I25+I26 -> 470 | J24: =J25+J26 -> 470
B25: 32111 | D25: Dnevnice za službeni put u zemlji | E25: ='Rekapitulacija Posebni dio'!C546 -> 0 | F25: ='Rekapitulacija Posebni dio'!D546 -> 0 | G25: ='Rekapitulacija Posebni dio'!E546 -> 400 | H25: ='Rekapitulacija Posebni dio'!F546 -> 400 | I25: ='Rekapitulacija Posebni dio'!G546 -> 400 | J25: ='Rekapitulacija Posebni dio'!H546 -> 400
B26: 32119 | D26: Ostali rashodi za sl. putovanje (cestarine, trošak parkiranja) | E26: ='Rekapitulacija Posebni dio'!C547 -> 0 | F26: ='Rekapitulacija Posebni dio'!D547 -> 0 | G26: ='Rekapitulacija Posebni dio'!E547 -> 70 | H26: ='Rekapitulacija Posebni dio'!F547 -> 70 | I26: ='Rekapitulacija Posebni dio'!G547 -> 70 | J26: ='Rekapitulacija Posebni dio'!H547 -> 70
B27: 3213 | D27: Stručno usavršavanje zaposlenih | E27: =E28 -> #REF! | F27: =F28 -> #REF! | G27: =G28 -> 3730 | H27: =H28 -> 3730 | I27: =I28 -> 3730 | J27: =J28 -> 3730
B28: 32131 | D28: Seminari, savjetovanja i simpoziji | E28: ='Rekapitulacija Posebni dio'!C550+'Rekapitulacija Posebni dio'!#REF! -> #REF! | F28: ='Rekapitulacija Posebni dio'!D550+'Rekapitulacija Posebni dio'!#REF! -> #REF! | G28: ='Rekapitulacija Posebni dio'!E550 -> 3730 | H28: ='Rekapitulacija Posebni dio'!F550 -> 3730 | I28: ='Rekapitulacija Posebni dio'!G550 -> 3730 | J28: ='Rekapitulacija Posebni dio'!H550 -> 3730
B29: 322 | D29: Rashodi za materijal i energiju | E29: =E30+E33+E36+E40 -> #REF! | F29: =F30+F33+F36+F40 -> #REF! | G29: =G30+G33+G36+G40 -> 77595.67 | H29: =H30+H33+H36+H40 -> 154892.1 | I29: =I30+I33+I36+I40 -> 154892.1 | J29: =J30+J33+J36+J40 -> 154892.1
B30: 3221 | D30: Uredski materijal i ostali materijalni rashodi | E30: =E31+E32 -> #REF! | F30: =F31+F32 -> #REF! | H30: =H31+H32 -> 0 | I30: =I31+I32 -> 0 | J30: =J31+J32 -> 0
B31: 32211 | D31: Uredski materijal | E31: ='Rekapitulacija Posebni dio'!#REF! -> #REF! | F31: ='Rekapitulacija Posebni dio'!#REF! -> #REF! | H31: 0 | I31: 0 | J31: 0
B32: 32214 | D32: Materijal i sredstva za čišćenje | E32: ='Rekapitulacija Posebni dio'!#REF! -> #REF! | F32: ='Rekapitulacija Posebni dio'!#REF! -> #REF! | H32: 0 | I32: 0 | J32: 0
B33: 3222 | D33: Materijal i sirovine | E33: =E34 -> #REF! | F33: =F34 -> #REF! | G33: =SUM(G34:G35) -> 62395.67 | H33: =SUM(H34:H35) -> 150000 | I33: =SUM(I34:I35) -> 150000 | J33: =SUM(J34:J35) -> 150000
B34: 32221 | D34: Potrošni medicinski materijal | E34: ='Rekapitulacija Posebni dio'!#REF! -> #REF! | F34: ='Rekapitulacija Posebni dio'!#REF! -> #REF! | G34: 0 | H34: 0 | I34: 0 | J34: 0
B35: 32225 | D35: Roba | G35: ='Rekapitulacija Posebni dio'!E445 -> 62395.67 | H35: ='Rekapitulacija Posebni dio'!F445 -> 150000 | I35: ='Rekapitulacija Posebni dio'!G445 -> 150000 | J35: ='Rekapitulacija Posebni dio'!H445 -> 150000
B36: 3223 | D36: Energija | E36: =E37+E38+E39 -> #REF! | F36: =F37+F38+F39 -> #REF! | G36: =G37+G38+G39 -> 200 | H36: =H37+H38+H39 -> 200 | I36: =I37+I38+I39 -> 200 | J36: =J37+J38+J39 -> 200
B37: 32231 | D37: Električna energija | E37: ='Rekapitulacija Posebni dio'!#REF! -> #REF! | F37: ='Rekapitulacija Posebni dio'!#REF! -> #REF! | H37: 0 | I37: 0 | J37: 0
B38: 32233 | D38: Plin | E38: ='Rekapitulacija Posebni dio'!#REF! -> #REF! | F38: ='Rekapitulacija Posebni dio'!#REF! -> #REF! | H38: 0 | I38: 0 | J38: 0
B39: 32234 | D39: Motorni benzin i dizel gorivo | E39: ='Rekapitulacija Posebni dio'!C553 -> 0 | F39: ='Rekapitulacija Posebni dio'!D553 -> 0 | G39: ='Rekapitulacija Posebni dio'!E553 -> 200 | H39: ='Rekapitulacija Posebni dio'!F553 -> 200 | I39: ='Rekapitulacija Posebni dio'!G553 -> 200 | J39: ='Rekapitulacija Posebni dio'!H553 -> 200
B40: 3224 | D40: Materijal i dijelovi za tekuće i investicijsko održavanje | E40: =SUM(E41:E43) -> #REF! | F40: =SUM(F41:F43) -> #REF! | G40: =SUM(G41:G43) -> 15000 | H40: =SUM(H41:H43) -> 4692.1 | I40: =SUM(I41:I43) -> 4692.1 | J40: =SUM(J41:J43) -> 4692.1
B41: 32241 | D41: Materijal i dijelovi za tekuće i invest. održavanje građevinskih objekata | E41: ='Rekapitulacija Posebni dio'!C466+'Rekapitulacija Posebni dio'!#REF!+'Rekapitulacija Posebni dio'!#REF! -> #REF! | F41: ='Rekapitulacija Posebni dio'!D466+'Rekapitulacija Posebni dio'!#REF!+'Rekapitulacija Posebni dio'!#REF! -> #REF! | G41: ='Rekapitulacija Posebni dio'!E466 -> 15000 | H41: ='Rekapitulacija Posebni dio'!F466 -> 4692.1 | I41: ='Rekapitulacija Posebni dio'!G466 -> 4692.1 | J41: ='Rekapitulacija Posebni dio'!H466 -> 4692.1
...

Sheet Prih.i rash.
A2: PRIHODI I RASHODI PREMA IZVORIMA FINANCIRANJA
A4: BROJČANA OZNAKA I NAZIV | B4: IZVRŠENJE 2024. | C4: TEKUĆI PLAN ZA 2025. | D4: PLAN ZA 2026. REBALANS I | E4: PLAN ZA 2026. | F4: PROJEKCIJA ZA 2027. | G4: PROJEKCIJA ZA 2028.
A5: UKUPNO PRIHODI | B5: =B6+B8+B10+B15+B21+B23 -> #REF! | C5: =C6+C8+C10+C15+C21+C23 -> #REF! | D5: =D6+D8+D10+D15+D21+D23 -> 27029768 | E5: =E6+E8+E10+E15+E21+E23 -> 27400996 | F5: =F6+F8+F10+F15+F21+F23 -> 28076192 | G5: =G6+G8+G10+G15+G21+G23 -> 28547128
A6: 1 Opći prihodi i primici | B6: =B7 -> #REF! | C6: =C7 -> #REF! | D6: =D7 -> 879378.02 | E6: =E7 -> 1250606 | F6: =F7 -> 1250606 | G6: =G7 -> 1250606
A7: 11 Opći prihodi i primici | B7: ='Prihodi po ek klas i izvorima'!E15 -> #REF! | C7: ='Prihodi po ek klas i izvorima'!F15 -> #REF! | D7: ='Prihodi po ek klas i izvorima'!G15 -> 879378.02 | E7: ='Prihodi po ek klas i izvorima'!H15 -> 1250606 | F7: ='Prihodi po ek klas i izvorima'!I15 -> 1250606 | G7: ='Prihodi po ek klas i izvorima'!J15 -> 1250606
A8: 3 Vlastiti prihodi | B8: =B9 -> 0 | C8: =C9 -> 0 | D8: =D9 -> 3805116.3 | E8: =E9 -> 3805116.3 | F8: =F9 -> 3851740.3 | G8: =G9 -> 3883588.8
A9: 31 Vlastiti prihodi | B9: ='Prihodi po ek klas i izvorima'!E43 -> 0 | C9: ='Prihodi po ek klas i izvorima'!F43 -> 0 | D9: ='Prihodi po ek klas i izvorima'!G43 -> 3805116.3 | E9: ='Prihodi po ek klas i izvorima'!H43 -> 3805116.3 | F9: ='Prihodi po ek klas i izvorima'!I43 -> 3851740.3 | G9: ='Prihodi po ek klas i izvorima'!J43 -> 3883588.8
A10: 4 Prihodi za posebne namjene | B10: =SUM(B11:B14) -> 0 | C10: =SUM(C11:C14) -> 0 | D10: =SUM(D11:D14) -> 21155050 | E10: =SUM(E11:E14) -> 21155050 | F10: =SUM(F11:F14) -> 21912926 | G10: =SUM(G11:G14) -> 22405180
A11: 43 Prihodi od financijske imovine | B11: ='Prihodi po ek klas i izvorima'!E45 -> 0 | C11: ='Prihodi po ek klas i izvorima'!F45 -> 0 | D11: ='Prihodi po ek klas i izvorima'!G45 -> 100000 | E11: ='Prihodi po ek klas i izvorima'!H45 -> 100000 | F11: ='Prihodi po ek klas i izvorima'!I45 -> 102000 | G11: ='Prihodi po ek klas i izvorima'!J45 -> 104040
A12: 43 Prihodi za posebne namjene (HZZO) | B12: ='Prihodi po ek klas i izvorima'!E61 -> 0 | C12: ='Prihodi po ek klas i izvorima'!F61 -> 0 | D12: ='Prihodi po ek klas i izvorima'!G61 -> 20119750 | E12: ='Prihodi po ek klas i izvorima'!H61 -> 20119750 | F12: ='Prihodi po ek klas i izvorima'!I61 -> 20847031 | G12: ='Prihodi po ek klas i izvorima'!J61 -> 21326581
A13: 43 Prihodi za posebne namjene (dopunsko osiguranje, participacija,…) | B13: ='Prihodi po ek klas i izvorima'!E49 -> 0 | C13: ='Prihodi po ek klas i izvorima'!F49 -> 0 | D13: ='Prihodi po ek klas i izvorima'!G49 -> 932300 | E13: ='Prihodi po ek klas i izvorima'!H49 -> 932300 | F13: ='Prihodi po ek klas i izvorima'!I49 -> 960895 | G13: ='Prihodi po ek klas i izvorima'!J49 -> 971559.4
A14: 43 Ostali prihodi | B14: ='Prihodi po ek klas i izvorima'!E65 -> 0 | C14: ='Prihodi po ek klas i izvorima'!F65 -> 0 | D14: ='Prihodi po ek klas i izvorima'!G65 -> 3000 | E14: ='Prihodi po ek klas i izvorima'!H65 -> 3000 | F14: ='Prihodi po ek klas i izvorima'!I65 -> 3000 | G14: ='Prihodi po ek klas i izvorima'!J65 -> 3000
A15: 5 Pomoći | B15: =B16 -> #REF! | C15: =C16 -> #REF! | D15: =D16+D17+D19 -> 1176423.8 | E15: =E16+E17+E19 -> 1176423.8 | F15: =F16+F17+F19 -> 1047924.5 | G15: =G16+G17+G19 -> 994248.49
A16: 52 Ostale pomoći | B16: ='Prihodi po ek klas i izvorima'!E84 -> #REF! | C16: ='Prihodi po ek klas i izvorima'!F84 -> #REF! | D16: ='Prihodi po ek klas i izvorima'!G69+'Prihodi po ek klas i izvorima'!G73+'Prihodi po ek klas i izvorima'!G76+'Prihodi po ek klas i izvorima'!G81 -> 582814.61 | E16: ='Prihodi po ek klas i izvorima'!H69+'Prihodi po ek klas i izvorima'!H73+'Prihodi po ek klas i izvorima'!H76+'Prihodi po ek klas i izvorima'!H81 -> 582814.61 | F16: ='Prihodi po ek klas i izvorima'!I69+'Prihodi po ek klas i izvorima'!I73+'Prihodi po ek klas i izvorima'!I76+'Prihodi po ek klas i izvorima'!I81 -> 568814.61 | G16: ='Prihodi po ek klas i izvorima'!J69+'Prihodi po ek klas i izvorima'!J73+'Prihodi po ek klas i izvorima'!J76+'Prihodi po ek klas i izvorima'!J81 -> 568814.61
A17: 56 Fondovi EU | D17: =D18 -> 156200 | E17: =E18 -> 156200 | F17: =F18 -> 159324 | G17: =G18 -> 162510.48
A18: 563 Europski fond za regionalni razvoj | D18: ='Prihodi po ek klas i izvorima'!G89 -> 156200 | E18: ='Prihodi po ek klas i izvorima'!H89 -> 156200 | F18: ='Prihodi po ek klas i izvorima'!I89 -> 159324 | G18: ='Prihodi po ek klas i izvorima'!J89 -> 162510.48
A19: 58 Instrumenti EU nove generacije | D19: =D20 -> 437409.22 | E19: =E20 -> 437409.22 | F19: =F20 -> 319785.88 | G19: =G20 -> 262923.4
A20: 581 Mehanizam za oporavak i otpornost - bespovratna sredstva | D20: ='Prihodi po ek klas i izvorima'!G95 -> 437409.22 | E20: ='Prihodi po ek klas i izvorima'!H95 -> 437409.22 | F20: ='Prihodi po ek klas i izvorima'!I95 -> 319785.88 | G20: ='Prihodi po ek klas i izvorima'!J95 -> 262923.4
A21: 6 Donacije | B21: =B22 -> 0 | C21: =C22 -> 0 | D21: =D22 -> 2000 | E21: =E22 -> 2000 | F21: =F22 -> 2220 | G21: =G22 -> 2440.4
A22: 61 Donacije | B22: ='Prihodi po ek klas i izvorima'!E105 -> 0 | C22: ='Prihodi po ek klas i izvorima'!F105 -> 0 | D22: ='Prihodi po ek klas i izvorima'!G105 -> 2000 | E22: ='Prihodi po ek klas i izvorima'!H105 -> 2000 | F22: ='Prihodi po ek klas i izvorima'!I105 -> 2220 | G22: ='Prihodi po ek klas i izvorima'!J105 -> 2440.4
A23: 7 Prihodi od nefinancijske imovine i naknade štete s naslova osiguranja | B23: =B24 -> 0 | C23: =C24 -> 0 | D23: =D24 -> 11800 | E23: =E24 -> 11800 | F23: =F24 -> 10775 | G23: =G24 -> 11064
A24: 71 Prihodi od nefinancijske imovine i naknade štete s naslova osiguranja | B24: ='Prihodi po ek klas i izvorima'!E111+'Prihodi po ek klas i izvorima'!E120 -> 0 | C24: ='Prihodi po ek klas i izvorima'!F111+'Prihodi po ek klas i izvorima'!F120 -> 0 | D24: ='Prihodi po ek klas i izvorima'!G111+'Prihodi po ek klas i izvorima'!G120 -> 11800 | E24: ='Prihodi po ek klas i izvorima'!H111+'Prihodi po ek klas i izvorima'!H120 -> 11800 | F24: ='Prihodi po ek klas i izvorima'!I111+'Prihodi po ek klas i izvorima'!I120 -> 10775 | G24: ='Prihodi po ek klas i izvorima'!J111+'Prihodi po ek klas i izvorima'!J120 -> 11064
A27: UKUPNO RASHODI | B27: =B28+B30+B32+B34+B40+B42 -> #REF! | C27: =C28+C30+C32+C34+C40+C42 -> #REF! | D27: =D28+D30+D32+D34+D40+D42 -> 26784175 | E27: =E28+E30+E32+E34+E40+E42 -> 27155403 | F27: =F28+F30+F32+F34+F40+F42 -> 27423629 | G27: =G28+G30+G32+G34+G40+G42 -> 27667152
A28: 1 Opći prihodi i primici | B28: =B29 -> #REF! | C28: =C29 -> #REF! | D28: =D29 -> 879378.02 | E28: =E29 -> 1250606 | F28: =F29 -> 1250606 | G28: =G29 -> 1250606
A29: 11 Opći prihodi i primici | B29: =' PRIHODI I RASHODI-izvori'!E107 -> #REF! | C29: =' PRIHODI I RASHODI-izvori'!F107 -> #REF! | D29: =' PRIHODI I RASHODI-izvori'!G107 -> 879378.02 | E29: =' PRIHODI I RASHODI-izvori'!H107 -> 1250606 | F29: =' PRIHODI I RASHODI-izvori'!I107 -> 1250606 | G29: =' PRIHODI I RASHODI-izvori'!J107 -> 1250606
A30: 3 Vlastiti prihodi | B30: =B31 -> 0 | C30: =C31 -> 0 | D30: =D31 -> 3804916.3 | E30: =E31 -> 3804916.3 | F30: =F31 -> 3850540.3 | G30: =G31 -> 3882388.8
A31: 31 Vlastiti prihodi | B31: =' PRIHODI I RASHODI-izvori'!E244 -> 0 | C31: =' PRIHODI I RASHODI-izvori'!F244 -> 0 | D31: =' PRIHODI I RASHODI-izvori'!G244 -> 3804916.3 | E31: =' PRIHODI I RASHODI-izvori'!H244 -> 3804916.3 | F31: =' PRIHODI I RASHODI-izvori'!I244 -> 3850540.3 | G31: =' PRIHODI I RASHODI-izvori'!J244 -> 3882388.8
A32: 4 Prihodi za posebne namjene | B32: =B33 -> 0 | C32: =C33 -> 0 | D32: =D33 -> 21410157 | E32: =E33 -> 21410157 | F32: =F33 -> 21715388 | G32: =G33 -> 22025968
A33: 43 Prihodi za posebne namjene | B33: =' PRIHODI I RASHODI-izvori'!E453 -> 0 | C33: =' PRIHODI I RASHODI-izvori'!F453 -> 0 | D33: =' PRIHODI I RASHODI-izvori'!G453 -> 21410157 | E33: =' PRIHODI I RASHODI-izvori'!H453 -> 21410157 | F33: =' PRIHODI I RASHODI-izvori'!I453 -> 21715388 | G33: =' PRIHODI I RASHODI-izvori'!J453 -> 22025968
A34: 5 Pomoći | B34: =B35 -> #REF! | C34: =C35 -> #REF! | D34: =D35+D36+D38 -> 675923.83 | E34: =E35+E36+E38 -> 675923.83 | F34: =F35+F36+F38 -> 593123.83 | G34: =G35+G36+G38 -> 493748.49
A35: 52 Ostale pomoći | B35: =' PRIHODI I RASHODI-izvori'!E496 -> #REF! | C35: =' PRIHODI I RASHODI-izvori'!F496 -> #REF! | D35: =' PRIHODI I RASHODI-izvori'!G496 -> 82314.61 | E35: =' PRIHODI I RASHODI-izvori'!H496 -> 82314.61 | F35: =' PRIHODI I RASHODI-izvori'!I496 -> 68314.61 | G35: =' PRIHODI I RASHODI-izvori'!J496 -> 68314.61
A36: 56 Fondovi EU | D36: =D37 -> 156200 | E36: =E37 -> 156200 | F36: =F37 -> 159324 | G36: =G37 -> 162510.48
A37: 563 Europski fond za regionalni razvoj | D37: =' PRIHODI I RASHODI-izvori'!G516 -> 156200 | E37: =' PRIHODI I RASHODI-izvori'!H516 -> 156200 | F37: =' PRIHODI I RASHODI-izvori'!I516 -> 159324 | G37: =' PRIHODI I RASHODI-izvori'!J516 -> 162510.48
A38: 58 Instrumenti EU nove generacije | D38: =D39 -> 437409.22 | E38: =E39 -> 437409.22 | F38: =F39 -> 365485.22 | G38: =G39 -> 262923.4
A39: 581 Mehanizam za oporavak i otpornost - bespovratna sredstva | D39: =' PRIHODI I RASHODI-izvori'!G551 -> 437409.22 | E39: =' PRIHODI I RASHODI-izvori'!H551 -> 437409.22 | F39: =' PRIHODI I RASHODI-izvori'!I551 -> 365485.22 | G39: =' PRIHODI I RASHODI-izvori'!J551 -> 262923.4
A40: 6 Donacije | B40: =B41 -> 0 | C40: =C41 -> 0 | D40: =D41 -> 2000 | E40: =E41 -> 2000 | F40: =F41 -> 2220 | G40: =G41 -> 2440.4
A41: 61 Donacije | B41: =' PRIHODI I RASHODI-izvori'!E582 -> 0 | C41: =' PRIHODI I RASHODI-izvori'!F582 -> 0 | D41: =' PRIHODI I RASHODI-izvori'!G582 -> 2000 | E41: =' PRIHODI I RASHODI-izvori'!H582 -> 2000 | F41: =' PRIHODI I RASHODI-izvori'!I582 -> 2220 | G41: =' PRIHODI I RASHODI-izvori'!J582 -> 2440.4
A42: 7 Prihodi od nefinancijske imovine i naknade štete s naslova osiguranja | B42: =B43 -> 0 | C42: =C43 -> 0 | D42: =D43 -> 11800 | E42: =E43 -> 11800 | F42: =F43 -> 11750 | G42: =G43 -> 12000
A43: 71 Prihodi od nefinancijske imovine i naknade štete s naslova osiguranja | B43: =' PRIHODI I RASHODI-izvori'!E605 -> 0 | C43: =' PRIHODI I RASHODI-izvori'!F605 -> 0 | D43: =' PRIHODI I RASHODI-izvori'!G605 -> 11800 | E43: =' PRIHODI I RASHODI-izvori'!H605 -> 11800 | F43: =' PRIHODI I RASHODI-izvori'!I605 -> 11750 | G43: =' PRIHODI I RASHODI-izvori'!J605 -> 12000

Sheet RASHODI-funkcijska
A2: I. OPĆI DIO
A4: A. RAČUN PRIHODA I RASHODA
A6: IZVJEŠTAJ O RASHODIMA PREMA FUNKCIJSKOJ KLASIFIKACIJI
A8: BROJČANA OZNAKA I NAZIV | B8: IZVRŠENJE 2024. | C8: TEKUĆI PLAN ZA 2025. | D8: PLAN ZA 2026. REBALANS I | E8: PLAN ZA 2026. | F8: PROJEKCIJA ZA 2027. | G8: PROJEKCIJA ZA 2028.
A9: 1 | B9: 2 | C9: 3 | E9: 4 | F9: 5 | G9: 6
A10: UKUPNO RASHODI | B10: ='RASHODI-ek.kl.'!D274 -> #REF! | C10: ='RASHODI-ek.kl.'!E274 -> #REF! | D10: ='RASHODI-ek.kl.'!F274 -> 26784175 | E10: ='RASHODI-ek.kl.'!G274 -> 27155403 | F10: ='RASHODI-ek.kl.'!H274 -> 27423629 | G10: ='RASHODI-ek.kl.'!I274 -> 27667152
A11: 07 Zdravstvo | B11: =B12 -> #REF! | C11: =C12 -> #REF! | D11: =D12 -> 26784175 | E11: =E12 -> 27155403 | F11: =F12 -> 27423629 | G11: =G12 -> 27667152
A12: 072 Služba za vanjske pacijente | B12: =B13+B14+B15 -> #REF! | C12: =C13+C14+C15 -> #REF! | D12: =D13+D14+D15 -> 26784175 | E12: =E13+E14+E15 -> 27155403 | F12: =F13+F14+F15 -> 27423629 | G12: =G13+G14+G15 -> 27667152
A13: 0721 Opće medicinske usluge | B13: =ROUND(B10*0.6,2) -> #REF! | C13: =ROUND(C10*0.6,2) -> #REF! | D13: =ROUND(D10*0.6,2) -> 16070505 | E13: =ROUND(E10*0.6,2) -> 16293242 | F13: =ROUND(F10*0.6,2) -> 16454177 | G13: =ROUND(G10*0.6,2) -> 16600291
A14: 0722 Specijalističke med. usluge | B14: =ROUND(B10*0.15,2) -> #REF! | C14: =ROUND(C10*0.15,2) -> #REF! | D14: =ROUND(D10*0.15,2) -> 4017626.3 | E14: =ROUND(E10*0.15,2) -> 4073310.5 | F14: =ROUND(F10*0.15,2) -> 4113544.3 | G14: =ROUND(G10*0.15,2) -> 4150072.7
A15: 0723 Zubarske usluge | B15: =ROUND(B10*0.25,2) -> #REF! | C15: =ROUND(C10*0.25,2) -> #REF! | D15: =ROUND(D10*0.25,2) -> 6696043.8 | E15: =ROUND(E10*0.25,2) -> 6788850.8 | F15: =ROUND(F10*0.25,2) -> 6855907.2 | G15: =ROUND(G10*0.25,2) -> 6916787.9
A16: 073 Bolničke službe | D16: =D17 -> 0 | E16: =E17 -> 0 | F16: =F17 -> 0 | G16: =G17 -> 0
A17: 0731 Usluge općih bolnica
A18: 074 Službe javnog zdravstva | D18: 0 | E18: 0 | F18: 0 | G18: 0

Sheet Rekapitulacija Posebni dio
A1: II. POSEBNI DIO
A2: Rashodi i izdaci po izvorima financiranja i ekonomskoj klasifikaciji raspoređenih u programe, aktivnosti i projekte
A4: Šifra | B4: Naziv | C4: IZVRŠENJE 2024. | D4: TEKUĆI PLAN ZA 2025. | E4: PLAN ZA 2026. REBALANS I | F4: PLAN ZA 2026. | G4: PROJEKCIJA ZA 2027. | H4: PROJEKCIJA ZA 2028.
A5: PROGRAM | B5: RAD I RAZVOJ USTANOVE | C5: =C7+C216+C349+C392+C411+#REF!+#REF!+#REF!+#REF!+C447+#REF!+#REF!+#REF!+C513+#REF!+C532+#REF!+C569+#REF!+#REF!+#REF!+C606+C646+C685+C728 -> #REF! | D5: =D7+D216+D349+D392+D411+#REF!+#REF!+#REF!+#REF!+D447+#REF!+#REF!+#REF!+D513+#REF!+D532+#REF!+D569+#REF!+#REF!+#REF!+D606+D646+D685+D728 -> #REF! | E5: =E7+E216+E349+E392+E411+E433+E447+E513+E562+E532+E569+E606+E646+E685+E728 -> 26784175 | F5: =F7+F216+F349+F392+F411+F433+F447+F513+F562+F532+F569+F606+F646+F685+F728 -> 27155403 | G5: =G7+G216+G349+G392+G411+G433+G447+G513+G562+G532+G569+G606+G646+G685+G728 -> 27423629 | H5: =H7+H216+H349+H392+H411+H433+H447+H513+H562+H532+H569+H606+H646+H685+H728 -> 27667152
A6: AKTIVNOST | B6: Redovna djelatnost | C6: =C7+C216+C349+C392+C411+#REF!+#REF!+#REF!+#REF! -> #REF! | D6: =D7+D216+D349+D392+D411+#REF!+#REF!+#REF!+#REF! -> #REF! | E6: =E7+E216+E349+E392+E411+E433 -> 25447188 | F6: =F7+F216+F349+F392+F411+F433 -> 25447188 | G6: =G7+G216+G349+G392+G411+G433 -> 25798213 | H6: =H7+H216+H349+H392+H411+H433 -> 26141112
A7: 43 | B7: Ostali prihodi za posebne namjene | C7: =C8+C181 -> 0 | D7: =D8+D181 -> 0 | E7: =E8+E181 -> 21410157 | F7: =F8+F181 -> 21410157 | G7: =G8+G181 -> 21715388 | H7: =H8+H181 -> 22025968
A8: 3 | B8: Rashodi poslovanja | C8: =C9+C32+C149+C162+C165+C170 -> 0 | D8: =D9+D32+D149+D162+D165+D170 -> 0 | E8: =E9+E32+E149+E162+E165+E170 -> 21324785 | F8: =F9+F32+F149+F162+F165+F170 -> 21324785 | G8: =G9+G32+G149+G162+G165+G170 -> 21627066 | H8: =H9+H32+H149+H162+H165+H170 -> 21934696
A9: 31 | B9: Rashodi za zaposlene | C9: =C10+C19+C27 -> 0 | D9: =D10+D19+D27 -> 0 | E9: =E10+E19+E27 -> 13895551 | F9: =F10+F19+F27 -> 13895551 | G9: =G10+G19+G27 -> 14019017 | H9: =H10+H19+H27 -> 14142396
A10: 311 | B10: Plaće | C10: =C11+C14+C15+C17 -> 0 | D10: =D11+D14+D15+D17 -> 0 | E10: =E11+E14+E15+E17 -> 11748762 | F10: =F11+F14+F15+F17 -> 11748762 | G10: =G11+G14+G15+G17 -> 11813800 | H10: =H11+H14+H15+H17 -> 11886800
A11: 3111 | B11: Plaće za redovan rad | C11: =SUM(C12:C13) -> 0 | D11: =SUM(D12:D13) -> 0 | E11: =SUM(E12:E13) -> 11578762 | F11: =SUM(F12:F13) -> 11578762 | G11: =SUM(G12:G13) -> 11636800 | H11: =SUM(H12:H13) -> 11702800
A12: 31111 | B12: Plaće za redovan rad | E12: 11576962 | F12: =3370067.31+4865000+3341895 -> 11576962 | G12: 11635000 | H12: 11701000
A13: 31113 | B13: Plaće po sudskim presudama | E13: 1800 | F13: 1800 | G13: 1800 | H13: 1800
A14: 3112 | B14: Plaće u naravi
A15: 3113 | B15: Plaće za prekovremeni rad | C15: =SUM(C16) -> 0 | D15: =SUM(D16) -> 0 | E15: =SUM(E16) -> 170000 | F15: =SUM(F16) -> 170000 | G15: =SUM(G16) -> 177000 | H15: =SUM(H16) -> 184000
A16: 31131 | B16: Plaće za prekovremeni rad | E16: 170000 | F16: =80000+90000 -> 170000 | G16: 177000 | H16: 184000
A17: 3114 | B17: Plaće za posebne uvjete rada | C17: =SUM(C18) -> 0 | D17: =SUM(D18) -> 0 | F17: =SUM(F18) -> 0 | G17: =SUM(G18) -> 0 | H17: =SUM(H18) -> 0
A18: 31141 | B18: Plaće za posebne uvjete rada | D18: 0 | F18: 0 | G18: 0 | H18: 0
A19: 312 | B19: Ostali rashodi za zaposlene | C19: =C20 -> 0 | D19: =D20 -> 0 | E19: =E20 -> 350300 | F19: =F20 -> 350300 | G19: =G20 -> 365500 | H19: =H20 -> 380700
A20: 3121 | B20: Ostali rashodi za zaposlene | C20: =SUM(C21:C26) -> 0 | D20: =SUM(D21:D26) -> 0 | E20: =SUM(E21:E26) -> 350300 | F20: =SUM(F21:F26) -> 350300 | G20: =SUM(G21:G26) -> 365500 | H20: =SUM(H21:H26) -> 380700
A21: 31212 | B21: Ostali rashodi za zaposlene-nagrade | E21: 124500 | F21: =28000+96500 -> 124500 | G21: 128000 | H21: 131500
A22: 31213 | B22: Darovi | E22: 26000 | F22: 26000 | G22: 28000 | H22: 30000
A23: 31214 | B23: Otpremnine | E23: 27000 | F23: =25000+2000 -> 27000 | G23: 28500 | H23: 30000
A24: 31215 | B24: Naknade za bolest, invalidnost i smrt | E24: 13800 | F24: =10000+3800 -> 13800 | G24: 15000 | H24: 16200
A25: 31216 | B25: Regres za godišnji odmor | E25: 92000 | F25: =57000+35000 -> 92000 | G25: 95000 | H25: 98000
A26: 31219 | B26: Ostali nenavedeni rashodi za zaposlene | E26: 67000 | F26: =32000+35000 -> 67000 | G26: 71000 | H26: 75000
A27: 313 | B27: Doprinosi na plaće | C27: =C28+C30 -> 0 | D27: =D28+D30 -> 0 | E27: =E28+E30 -> 1796488.8 | F27: =F28+F30 -> 1796488.8 | G27: =G28+G30 -> 1839716.5 | H27: =H28+H30 -> 1874896.4
A28: 3132 | B28: Doprinosi za obvezno zdravstveno osiguranje | C28: =SUM(C29) -> 0 | D28: =SUM(D29) -> 0 | E28: =SUM(E29) -> 1796488.8 | F28: =SUM(F29) -> 1796488.8 | G28: =SUM(G29) -> 1839716.5 | H28: =SUM(H29) -> 1874896.4
A29: 31321 | B29: Doprinosi za obvezno zdravstveno osiguranje | E29: 1796488.8 | F29: =760000+536488.84+500000 -> 1796488.8 | G29: 1839716.5 | H29: 1874896.4
A30: 3133 | B30: Doprinosi za zapošljavanje | C30: =C31 -> 0 | D30: =D31 -> 0 | F30: =F31 -> 0 | G30: =G31 -> 0 | H30: =H31 -> 0
A31: 31332 | B31: Doprinosi u slučaju nezaposlenosti | D31: 0
A32: 32 | B32: Materijalni rashodi | C32: =C33+C46+C75+C117+C120+C128 -> 0 | D32: =D33+D46+D75+D117+D120+D128 -> 0 | E32: =E33+E46+E75+E117+E120+E128 -> 7400658.6 | F32: =F33+F46+F75+F117+F120+F128 -> 7400658.6 | G32: =G33+G46+G75+G117+G120+G128 -> 7581279.6 | H32: =H33+H46+H75+H117+H120+H128 -> 7765234.2
A33: 321 | B33: Naknade troškova zaposlenima | C33: =C34+C39+C41+C44 -> 0 | D33: =D34+D39+D41+D44 -> 0 | E33: =E34+E39+E41+E44 -> 250944.29 | F33: =F34+F39+F41+F44 -> 250944.29 | G33: =G34+G39+G41+G44 -> 257170 | H33: =H34+H39+H41+H44 -> 264360
A34: 3211 | B34: Službena putovanja | C34: =SUM(C35:C38) -> 0 | D34: =SUM(D35:D38) -> 0 | E34: =SUM(E35:E38) -> 6380 | F34: =SUM(F35:F38) -> 6380 | G34: =SUM(G35:G38) -> 6920 | H34: =SUM(H35:H38) -> 7460
A35: 32111 | B35: Dnevnice za službeni put u zemlji | E35: 3600 | F35: =3000+600 -> 3600 | G35: 3800 | H35: 4000
A36: 32113 | B36: Naknade za smještaj na službenom putu u zemlji | E36: 1500 | F36: =500+1000 -> 1500 | G36: 1700 | H36: 1900
A37: 32115 | B37: Naknade za prijevoz na službenom putu u zemlji | E37: 1200 | F37: =500+700 -> 1200 | G37: 1300 | H37: 1400
A38: 32119 | B38: Ostali rashodi za sl. putovanje (cestarine, trošak parkiranja) | E38: 80 | F38: 80 | G38: 120 | H38: 160
A39: 3212 | B39: Naknade za prijevoz, za rad na terenu i odvojeni život | C39: =SUM(C40) -> 0 | D39: =SUM(D40) -> 0 | E39: =SUM(E40) -> 234716.27 | F39: =SUM(F40) -> 234716.27 | G39: =SUM(G40) -> 240000 | H39: =SUM(H40) -> 246000
A40: 32121 | B40: Naknade za prijevoz, za rad na terenu i odvojeni život | E40: 234716.27 | F40: =74716.27+160000 -> 234716.27 | G40: 240000 | H40: 246000
A41: 3213 | B41: Stručno usavršavanje zaposlenih | C41: =SUM(C42:C43) -> 0 | D41: =SUM(D42:D43) -> 0 | E41: =SUM(E42:E43) -> 9648.02 | F41: =SUM(F42:F43) -> 9648.02 | G41: =SUM(G42:G43) -> 10050 | H41: =SUM(H42:H43) -> 10700
...
